BEGIN:VCALENDAR
VERSION:2.0
PRODID:-//Tucson Peace Center - ECPv6.15.20//NONSGML v1.0//EN
CALSCALE:GREGORIAN
METHOD:PUBLISH
X-ORIGINAL-URL:https://www.tucsonpeacecalendar.org
X-WR-CALDESC:Events for Tucson Peace Center
REFRESH-INTERVAL;VALUE=DURATION:PT1H
X-Robots-Tag:noindex
X-PUBLISHED-TTL:PT1H
BEGIN:VTIMEZONE
TZID:America/Phoenix
BEGIN:STANDARD
TZOFFSETFROM:-0700
TZOFFSETTO:-0700
TZNAME:MST
DTSTART:20250101T000000
END:STANDARD
END:VTIMEZONE
BEGIN:VEVENT
DTSTART;TZID=America/Phoenix:20260424T170000
DTEND;TZID=America/Phoenix:20260424T180000
DTSTAMP:20260421T035919
CREATED:20260314T204954Z
LAST-MODIFIED:20260314T204954Z
UID:20654-1777050000-1777053600@www.tucsonpeacecalendar.org
SUMMARY:Women in Black
DESCRIPTION:Women in Black are still standing there! Join us to protest the latest Israeli atrocity. Fridays\, 5:00-6:00 PM. Corner Euclid & Speedway. \nLearn about the history of Women in Black at https://womeninblack.org/vigils-arround-the-world/middle-east/israel/  (More Info: wibtucson@tutamail.com)
URL:https://www.tucsonpeacecalendar.org/event/women-in-black-4/
LOCATION:Corner Euclid & Speedway\, Tucson\, AZ\, United States
CATEGORIES:Actions and Protests
END:VEVENT
END:VCALENDAR