BEGIN:VCALENDAR
VERSION:2.0
PRODID:-//Tucson Peace Center - ECPv6.15.20//NONSGML v1.0//EN
CALSCALE:GREGORIAN
METHOD:PUBLISH
X-ORIGINAL-URL:https://www.tucsonpeacecalendar.org
X-WR-CALDESC:Events for Tucson Peace Center
REFRESH-INTERVAL;VALUE=DURATION:PT1H
X-Robots-Tag:noindex
X-PUBLISHED-TTL:PT1H
BEGIN:VTIMEZONE
TZID:America/Phoenix
BEGIN:STANDARD
TZOFFSETFROM:-0700
TZOFFSETTO:-0700
TZNAME:MST
DTSTART:20250101T000000
END:STANDARD
END:VTIMEZONE
BEGIN:VEVENT
DTSTART;TZID=America/Phoenix:20260206T163000
DTEND;TZID=America/Phoenix:20260206T173000
DTSTAMP:20260421T033650
CREATED:20260120T181958Z
LAST-MODIFIED:20260120T181958Z
UID:20040-1770395400-1770399000@www.tucsonpeacecalendar.org
SUMMARY:Women (and Men) in Black
DESCRIPTION:Women (and Men) in Black are still standing there!  \nJoin us to protest the latest Israeli atrocity. \nFridays\, 4:30-5:30 PM. Corner Euclid & Speedway  \nMore Info: wibtucson@tutamail.com
URL:https://www.tucsonpeacecalendar.org/event/women-and-men-in-black-10/
LOCATION:Corner Euclid & Speedway\, Tucson\, AZ\, United States
CATEGORIES:Actions and Protests
END:VEVENT
BEGIN:VEVENT
DTSTART;TZID=America/Phoenix:20260213T163000
DTEND;TZID=America/Phoenix:20260213T173000
DTSTAMP:20260421T033650
CREATED:20260120T182058Z
LAST-MODIFIED:20260120T182058Z
UID:20042-1771000200-1771003800@www.tucsonpeacecalendar.org
SUMMARY:Women (and Men) in Black
DESCRIPTION:Women (and Men) in Black are still standing there!  \nJoin us to protest the latest Israeli atrocity. \nFridays\, 4:30-5:30 PM. Corner Euclid & Speedway  \nMore Info: wibtucson@tutamail.com
URL:https://www.tucsonpeacecalendar.org/event/women-and-men-in-black-11/
LOCATION:Corner Euclid & Speedway\, Tucson\, AZ\, United States
CATEGORIES:Actions and Protests
END:VEVENT
BEGIN:VEVENT
DTSTART;TZID=America/Phoenix:20260220T163000
DTEND;TZID=America/Phoenix:20260220T173000
DTSTAMP:20260421T033650
CREATED:20260120T182247Z
LAST-MODIFIED:20260120T182247Z
UID:20044-1771605000-1771608600@www.tucsonpeacecalendar.org
SUMMARY:Women (and Men) in Black
DESCRIPTION:Women (and Men) in Black are still standing there!  \nJoin us to protest the latest Israeli atrocity. \nFridays\, 4:30-5:30 PM. Corner Euclid & Speedway  \nMore Info: wibtucson@tutamail.com
URL:https://www.tucsonpeacecalendar.org/event/women-and-men-in-black-12/
LOCATION:Corner Euclid & Speedway\, Tucson\, AZ\, United States
CATEGORIES:Actions and Protests
END:VEVENT
BEGIN:VEVENT
DTSTART;TZID=America/Phoenix:20260227T163000
DTEND;TZID=America/Phoenix:20260227T173000
DTSTAMP:20260421T033650
CREATED:20260120T182348Z
LAST-MODIFIED:20260120T182348Z
UID:20046-1772209800-1772213400@www.tucsonpeacecalendar.org
SUMMARY:Women (and Men) in Black
DESCRIPTION:Women (and Men) in Black are still standing there!  \nJoin us to protest the latest Israeli atrocity. \nFridays\, 4:30-5:30 PM. Corner Euclid & Speedway  \nMore Info: wibtucson@tutamail.com
URL:https://www.tucsonpeacecalendar.org/event/women-and-men-in-black-13/
LOCATION:Corner Euclid & Speedway\, Tucson\, AZ\, United States
CATEGORIES:Actions and Protests
END:VEVENT
END:VCALENDAR