BEGIN:VCALENDAR
VERSION:2.0
PRODID:-//Tucson Peace Center - ECPv6.15.20//NONSGML v1.0//EN
CALSCALE:GREGORIAN
METHOD:PUBLISH
X-WR-CALNAME:Tucson Peace Center
X-ORIGINAL-URL:https://www.tucsonpeacecalendar.org
X-WR-CALDESC:Events for Tucson Peace Center
REFRESH-INTERVAL;VALUE=DURATION:PT1H
X-Robots-Tag:noindex
X-PUBLISHED-TTL:PT1H
BEGIN:VTIMEZONE
TZID:America/Phoenix
BEGIN:STANDARD
TZOFFSETFROM:-0700
TZOFFSETTO:-0700
TZNAME:MST
DTSTART:20250101T000000
END:STANDARD
END:VTIMEZONE
BEGIN:VEVENT
DTSTART;TZID=America/Phoenix:20260502T170000
DTEND;TZID=America/Phoenix:20260502T200000
DTSTAMP:20260421T052700
CREATED:20260414T200859Z
LAST-MODIFIED:20260414T200940Z
UID:20850-1777741200-1777752000@www.tucsonpeacecalendar.org
SUMMARY:9th Annual Tanque Verde Flow & Feast
DESCRIPTION:9th Annual Tanque Verde Flow & Feast\nSaturday May 2\, 2026 5:00 pm to 8:00 pm\nTanque Verde Creek\, location details will be sent once you have registered \nJoin us for WMG’s 9th Annual Tanque Verde Flow and Feast\, an annual celebration of our River Run Network program. This free\, family-friendly event features a self-led creek walk\, a catered dinner from Tumerico with vegan and vegetarian options\, fun nature-based activities to do along the creek\, and a special dinner show: Arundo the Musical! \n \nThe creek is flowing! Be ready to get your feet wet at this event. Like many creeks and rivers in the Tucson region\, this sensitive riparian area once flowed for most of the year. Today\, we are seeing seasonal flows return to this area of the creek. During this fun and enlightening event\, we will explore our connections to flowing desert creeks and discover ways we – as a community – can help restore them through WMG’s River Run Network. \n \nRegister here: https://watershedmg.org/events/9th-annual-tanque-verde-flow-feast \nContact: Lauren Knight\, lknight@watershedmg.org
URL:https://www.tucsonpeacecalendar.org/event/9th-annual-tanque-verde-flow-feast/
LOCATION:Tanque Verde Creek\, Tucson\, AZ
CATEGORIES:Other
END:VEVENT
END:VCALENDAR