BEGIN:VCALENDAR
VERSION:2.0
PRODID:-//Tucson Peace Center - ECPv6.15.20//NONSGML v1.0//EN
CALSCALE:GREGORIAN
METHOD:PUBLISH
X-ORIGINAL-URL:https://www.tucsonpeacecalendar.org
X-WR-CALDESC:Events for Tucson Peace Center
REFRESH-INTERVAL;VALUE=DURATION:PT1H
X-Robots-Tag:noindex
X-PUBLISHED-TTL:PT1H
BEGIN:VTIMEZONE
TZID:America/Phoenix
BEGIN:STANDARD
TZOFFSETFROM:-0700
TZOFFSETTO:-0700
TZNAME:MST
DTSTART:20250101T000000
END:STANDARD
END:VTIMEZONE
BEGIN:VEVENT
DTSTART;VALUE=DATE:20260426
DTEND;VALUE=DATE:20260427
DTSTAMP:20260421T035012
CREATED:20260316T212138Z
LAST-MODIFIED:20260316T212138Z
UID:20694-1777161600-1777247999@www.tucsonpeacecalendar.org
SUMMARY:“End ALL War” Demonstration Commemorating Gretchen Nielsen\, Bob Phillips\, and Alice Ritter
DESCRIPTION:The VFP Jon Miles Chapter 13\, Tucson is encouraging all activists to demonstrate with friends in your own neighborhood one day a week for an hour at an intersection corner within walking distance. \nSend Pictures of your event to William (Pete) Peterson at williampeterson492@yahoo.com
URL:https://www.tucsonpeacecalendar.org/event/end-all-war-demonstration-commemorating-gretchen-nielsen-bob-phillips-and-alice-ritter-4/
LOCATION:AZ
CATEGORIES:Actions and Protests
END:VEVENT
END:VCALENDAR