BEGIN:VCALENDAR
VERSION:2.0
PRODID:-//Tucson Peace Center - ECPv6.15.20//NONSGML v1.0//EN
CALSCALE:GREGORIAN
METHOD:PUBLISH
X-WR-CALNAME:Tucson Peace Center
X-ORIGINAL-URL:https://www.tucsonpeacecalendar.org
X-WR-CALDESC:Events for Tucson Peace Center
REFRESH-INTERVAL;VALUE=DURATION:PT1H
X-Robots-Tag:noindex
X-PUBLISHED-TTL:PT1H
BEGIN:VTIMEZONE
TZID:America/Phoenix
BEGIN:STANDARD
TZOFFSETFROM:-0700
TZOFFSETTO:-0700
TZNAME:MST
DTSTART:20250101T000000
END:STANDARD
END:VTIMEZONE
BEGIN:VEVENT
DTSTART;VALUE=DATE:20260503
DTEND;VALUE=DATE:20260504
DTSTAMP:20260421T052818
CREATED:20260418T200158Z
LAST-MODIFIED:20260418T200158Z
UID:20963-1777766400-1777852799@www.tucsonpeacecalendar.org
SUMMARY:“End ALL War” Demonstration Commemorating Gretchen Nielsen\, Bob Phillips\, and Alice Ritter
DESCRIPTION:The VFP Jon Miles Chapter 13\, Tucson is encouraging all activists to demonstrate with friends in your own neighborhood one day a week for an hour at an intersection corner within walking distance. \nSend Pictures of your event to William (Pete) Peterson at williampeterson492@yahoo.com
URL:https://www.tucsonpeacecalendar.org/event/end-all-war-demonstration-commemorating-gretchen-nielsen-bob-phillips-and-alice-ritter-5/
LOCATION:AZ
CATEGORIES:Actions and Protests
END:VEVENT
BEGIN:VEVENT
DTSTART;VALUE=DATE:20260510
DTEND;VALUE=DATE:20260511
DTSTAMP:20260421T052818
CREATED:20260419T021756Z
LAST-MODIFIED:20260419T021756Z
UID:20973-1778371200-1778457599@www.tucsonpeacecalendar.org
SUMMARY:“End ALL War” Demonstration Commemorating Gretchen Nielsen\, Bob Phillips\, and Alice Ritter
DESCRIPTION:The VFP Jon Miles Chapter 13\, Tucson is encouraging all activists to demonstrate with friends in your own neighborhood one day a week for an hour at an intersection corner within walking distance. \nSend Pictures of your event to William (Pete) Peterson at williampeterson492@yahoo.com
URL:https://www.tucsonpeacecalendar.org/event/end-all-war-demonstration-commemorating-gretchen-nielsen-bob-phillips-and-alice-ritter-6/
LOCATION:AZ
CATEGORIES:Actions and Protests
END:VEVENT
BEGIN:VEVENT
DTSTART;TZID=America/Phoenix:20260511T180000
DTEND;TZID=America/Phoenix:20260511T200000
DTSTAMP:20260421T052818
CREATED:20260419T194516Z
LAST-MODIFIED:20260419T194516Z
UID:21058-1778522400-1778529600@www.tucsonpeacecalendar.org
SUMMARY:Veterans for Peace\, Jon Miles Chapter 13 Organizational Meeting
DESCRIPTION:Monday\, May 11\, 2026\, 6:00 pm – 8:00 pm. Doors open at 5:30 p.m.\nVeterans for Peace\, Jon Miles Chapter 13 organizational meeting.\nWard 3 City Council Office\, 1510 East Grant Road\nMonthly meetings\, 2nd Monday.  \nVeterans for Peace is an international organization of military veterans from all branches of services\, military family members\, and allies\, dedicated to building a culture of peace\, exposing the true costs of war\, and healing the wounds of war.     \nFor more info about VFP: http://www.veteransforpeace.org or contact William (Pete) Peterson at williampeterson492@yahoo.com
URL:https://www.tucsonpeacecalendar.org/event/veterans-for-peace-jon-miles-chapter-13-organizational-meeting-2/
LOCATION:Ward 3 City Council Office\, 1510 E. Grant Road\, Tucson\, AZ\, United States
CATEGORIES:Organization Meetings
END:VEVENT
BEGIN:VEVENT
DTSTART;VALUE=DATE:20260517
DTEND;VALUE=DATE:20260518
DTSTAMP:20260421T052818
CREATED:20260419T021856Z
LAST-MODIFIED:20260419T021856Z
UID:20975-1778976000-1779062399@www.tucsonpeacecalendar.org
SUMMARY:“End ALL War” Demonstration Commemorating Gretchen Nielsen\, Bob Phillips\, and Alice Ritter
DESCRIPTION:The VFP Jon Miles Chapter 13\, Tucson is encouraging all activists to demonstrate with friends in your own neighborhood one day a week for an hour at an intersection corner within walking distance. \nSend Pictures of your event to William (Pete) Peterson at williampeterson492@yahoo.com
URL:https://www.tucsonpeacecalendar.org/event/end-all-war-demonstration-commemorating-gretchen-nielsen-bob-phillips-and-alice-ritter-7/
LOCATION:AZ
CATEGORIES:Actions and Protests
END:VEVENT
BEGIN:VEVENT
DTSTART;VALUE=DATE:20260524
DTEND;VALUE=DATE:20260525
DTSTAMP:20260421T052818
CREATED:20260419T022010Z
LAST-MODIFIED:20260419T022010Z
UID:20977-1779580800-1779667199@www.tucsonpeacecalendar.org
SUMMARY:“End ALL War” Demonstration Commemorating Gretchen Nielsen\, Bob Phillips\, and Alice Ritter
DESCRIPTION:The VFP Jon Miles Chapter 13\, Tucson is encouraging all activists to demonstrate with friends in your own neighborhood one day a week for an hour at an intersection corner within walking distance. \nSend Pictures of your event to William (Pete) Peterson at williampeterson492@yahoo.com
URL:https://www.tucsonpeacecalendar.org/event/end-all-war-demonstration-commemorating-gretchen-nielsen-bob-phillips-and-alice-ritter-8/
LOCATION:AZ
CATEGORIES:Actions and Protests
END:VEVENT
BEGIN:VEVENT
DTSTART;VALUE=DATE:20260531
DTEND;VALUE=DATE:20260601
DTSTAMP:20260421T052818
CREATED:20260419T022050Z
LAST-MODIFIED:20260419T022050Z
UID:20979-1780185600-1780271999@www.tucsonpeacecalendar.org
SUMMARY:“End ALL War” Demonstration Commemorating Gretchen Nielsen\, Bob Phillips\, and Alice Ritter
DESCRIPTION:The VFP Jon Miles Chapter 13\, Tucson is encouraging all activists to demonstrate with friends in your own neighborhood one day a week for an hour at an intersection corner within walking distance. \nSend Pictures of your event to William (Pete) Peterson at williampeterson492@yahoo.com
URL:https://www.tucsonpeacecalendar.org/event/end-all-war-demonstration-commemorating-gretchen-nielsen-bob-phillips-and-alice-ritter-9/
LOCATION:AZ
CATEGORIES:Actions and Protests
END:VEVENT
END:VCALENDAR