BEGIN:VCALENDAR
VERSION:2.0
PRODID:-//Tucson Peace Center - ECPv6.15.20//NONSGML v1.0//EN
CALSCALE:GREGORIAN
METHOD:PUBLISH
X-WR-CALNAME:Tucson Peace Center
X-ORIGINAL-URL:https://www.tucsonpeacecalendar.org
X-WR-CALDESC:Events for Tucson Peace Center
REFRESH-INTERVAL;VALUE=DURATION:PT1H
X-Robots-Tag:noindex
X-PUBLISHED-TTL:PT1H
BEGIN:VTIMEZONE
TZID:America/Phoenix
BEGIN:STANDARD
TZOFFSETFROM:-0700
TZOFFSETTO:-0700
TZNAME:MST
DTSTART:20250101T000000
END:STANDARD
END:VTIMEZONE
BEGIN:VEVENT
DTSTART;VALUE=DATE:20260301
DTEND;VALUE=DATE:20260302
DTSTAMP:20260421T051852
CREATED:20260214T030050Z
LAST-MODIFIED:20260214T205657Z
UID:20208-1772323200-1772409599@www.tucsonpeacecalendar.org
SUMMARY:“End ALL War” Demonstration Commemorating Gretchen Nielsen\, Bob Phillips\, and Alice Ritter
DESCRIPTION:The VFP Jon Miles Chapter 13\, Tucson is encouraging all activists to demonstrate with friends in your own neighborhood one day a week for an hour at an intersection corner within walking distance. \nSend Pictures of your event to William (Pete) Peterson at williampeterson492@yahoo.com
URL:https://www.tucsonpeacecalendar.org/event/end-all-war-demonstration-commemorating-gretchen-nielsen-bob-phillips-and-alice-ritter-26/
LOCATION:AZ
CATEGORIES:Actions and Protests
END:VEVENT
BEGIN:VEVENT
DTSTART;TZID=America/Phoenix:20260306T070000
DTEND;TZID=America/Phoenix:20260306T080000
DTSTAMP:20260421T051852
CREATED:20260215T204826Z
LAST-MODIFIED:20260215T204826Z
UID:20325-1772780400-1772784000@www.tucsonpeacecalendar.org
SUMMARY:Save Our VA\, In Support Of VA Employees & Veterans
DESCRIPTION:Save Our VA\, In Support Of VA Employees & Veterans\, Every Friday\, 7 AM – 8:15 AM\, VA South 6th Entrance (3601 S 6th Avenue). \nJoin Veterans for Peace and Southern Arizona Community Activists to support VA workers as they come in to work. Meet at the S 6th Ave entrance every Friday unless otherwise noted. \nThe most up-to-date info about this event is at www.takeactiontucson.org/
URL:https://www.tucsonpeacecalendar.org/event/save-our-va-in-support-of-va-employees-veterans-31/
LOCATION:Tucson VA Medical Center\, 3601 South 6th Ave.\, Tucson\, AZ
CATEGORIES:Actions and Protests
END:VEVENT
BEGIN:VEVENT
DTSTART;VALUE=DATE:20260308
DTEND;VALUE=DATE:20260309
DTSTAMP:20260421T051852
CREATED:20260214T030318Z
LAST-MODIFIED:20260214T205808Z
UID:20210-1772928000-1773014399@www.tucsonpeacecalendar.org
SUMMARY:“End ALL War” Demonstration Commemorating Gretchen Nielsen\, Bob Phillips\, and Alice Ritter
DESCRIPTION:The VFP Jon Miles Chapter 13\, Tucson is encouraging all activists to demonstrate with friends in your own neighborhood one day a week for an hour at an intersection corner within walking distance. \nSend Pictures of your event to William (Pete) Peterson at williampeterson492@yahoo.com
URL:https://www.tucsonpeacecalendar.org/event/end-all-war-demonstration-commemorating-gretchen-nielsen-bob-phillips-and-alice-ritter-27/
LOCATION:AZ
CATEGORIES:Actions and Protests
END:VEVENT
BEGIN:VEVENT
DTSTART;TZID=America/Phoenix:20260309T180000
DTEND;TZID=America/Phoenix:20260309T200000
DTSTAMP:20260421T051852
CREATED:20260214T211236Z
LAST-MODIFIED:20260214T211236Z
UID:20224-1773079200-1773086400@www.tucsonpeacecalendar.org
SUMMARY:Veterans for Peace\, Jon Miles Chapter 13 Organizational Meeting
DESCRIPTION:Monday\, March 9\, 2026\, 6:00 pm – 8:00 pm. Doors open at 5:30 p.m.\nVeterans for Peace\, Jon Miles Chapter 13 organizational meeting.\nWard 3 City Council Office\, 1510 East Grant Road\nMonthly meetings\, 2nd Monday.  \nVeterans for Peace is an international organization of military veterans from all branches of services\, military family members\, and allies\, dedicated to building a culture of peace\, exposing the true costs of war\, and healing the wounds of war.     \nFor more info about VFP: http://www.veteransforpeace.org or contact William (Pete) Peterson at williampeterson492@yahoo.com
URL:https://www.tucsonpeacecalendar.org/event/veterans-for-peace-jon-miles-chapter-13-organizational-meeting-7/
LOCATION:Ward 3 City Council Office\, 1510 E. Grant Road\, Tucson\, AZ\, United States
CATEGORIES:Organization Meetings
END:VEVENT
BEGIN:VEVENT
DTSTART;TZID=America/Phoenix:20260313T070000
DTEND;TZID=America/Phoenix:20260313T080000
DTSTAMP:20260421T051852
CREATED:20260215T205238Z
LAST-MODIFIED:20260215T205238Z
UID:20327-1773385200-1773388800@www.tucsonpeacecalendar.org
SUMMARY:Save Our VA\, In Support Of VA Employees & Veterans
DESCRIPTION:Save Our VA\, In Support Of VA Employees & Veterans\, Every Friday\, 7 AM – 8:15 AM\, VA South 6th Entrance (3601 S 6th Avenue). \nJoin Veterans for Peace and Southern Arizona Community Activists to support VA workers as they come in to work. Meet at the S 6th Ave entrance every Friday unless otherwise noted. \nThe most up-to-date info about this event is at www.takeactiontucson.org/
URL:https://www.tucsonpeacecalendar.org/event/save-our-va-in-support-of-va-employees-veterans-32/
LOCATION:Tucson VA Medical Center\, 3601 South 6th Ave.\, Tucson\, AZ
CATEGORIES:Actions and Protests
END:VEVENT
BEGIN:VEVENT
DTSTART;VALUE=DATE:20260315
DTEND;VALUE=DATE:20260316
DTSTAMP:20260421T051852
CREATED:20260214T030932Z
LAST-MODIFIED:20260214T205919Z
UID:20212-1773532800-1773619199@www.tucsonpeacecalendar.org
SUMMARY:“End ALL War” Demonstration Commemorating Gretchen Nielsen\, Bob Phillips\, and Alice Ritter
DESCRIPTION:The VFP Jon Miles Chapter 13\, Tucson is encouraging all activists to demonstrate with friends in your own neighborhood one day a week for an hour at an intersection corner within walking distance. \nSend Pictures of your event to William (Pete) Peterson at williampeterson492@yahoo.com
URL:https://www.tucsonpeacecalendar.org/event/end-all-war-demonstration-commemorating-gretchen-nielsen-bob-phillips-and-alice-ritter-28/
LOCATION:AZ
CATEGORIES:Actions and Protests
END:VEVENT
BEGIN:VEVENT
DTSTART;TZID=America/Phoenix:20260320T070000
DTEND;TZID=America/Phoenix:20260320T080000
DTSTAMP:20260421T051852
CREATED:20260215T205349Z
LAST-MODIFIED:20260215T205349Z
UID:20329-1773990000-1773993600@www.tucsonpeacecalendar.org
SUMMARY:Save Our VA\, In Support Of VA Employees & Veterans
DESCRIPTION:Save Our VA\, In Support Of VA Employees & Veterans\, Every Friday\, 7 AM – 8:15 AM\, VA South 6th Entrance (3601 S 6th Avenue). \nJoin Veterans for Peace and Southern Arizona Community Activists to support VA workers as they come in to work. Meet at the S 6th Ave entrance every Friday unless otherwise noted. \nThe most up-to-date info about this event is at www.takeactiontucson.org/
URL:https://www.tucsonpeacecalendar.org/event/save-our-va-in-support-of-va-employees-veterans-33/
LOCATION:Tucson VA Medical Center\, 3601 South 6th Ave.\, Tucson\, AZ
CATEGORIES:Actions and Protests
END:VEVENT
BEGIN:VEVENT
DTSTART;VALUE=DATE:20260322
DTEND;VALUE=DATE:20260323
DTSTAMP:20260421T051852
CREATED:20260214T031115Z
LAST-MODIFIED:20260214T210614Z
UID:20214-1774137600-1774223999@www.tucsonpeacecalendar.org
SUMMARY:“End ALL War” Demonstration Commemorating Gretchen Nielsen\, Bob Phillips\, and Alice Ritter
DESCRIPTION:The VFP Jon Miles Chapter 13\, Tucson is encouraging all activists to demonstrate with friends in your own neighborhood one day a week for an hour at an intersection corner within walking distance. \nSend Pictures of your event to William (Pete) Peterson at williampeterson492@yahoo.com
URL:https://www.tucsonpeacecalendar.org/event/end-all-war-demonstration-commemorating-gretchen-nielsen-bob-phillips-and-alice-ritter-29/
LOCATION:AZ
CATEGORIES:Actions and Protests
END:VEVENT
BEGIN:VEVENT
DTSTART;TZID=America/Phoenix:20260327T070000
DTEND;TZID=America/Phoenix:20260327T080000
DTSTAMP:20260421T051852
CREATED:20260215T205520Z
LAST-MODIFIED:20260215T205520Z
UID:20331-1774594800-1774598400@www.tucsonpeacecalendar.org
SUMMARY:Save Our VA\, In Support Of VA Employees & Veterans
DESCRIPTION:Save Our VA\, In Support Of VA Employees & Veterans\, Every Friday\, 7 AM – 8:15 AM\, VA South 6th Entrance (3601 S 6th Avenue). \nJoin Veterans for Peace and Southern Arizona Community Activists to support VA workers as they come in to work. Meet at the S 6th Ave entrance every Friday unless otherwise noted. \nThe most up-to-date info about this event is at www.takeactiontucson.org/
URL:https://www.tucsonpeacecalendar.org/event/save-our-va-in-support-of-va-employees-veterans-34/
LOCATION:Tucson VA Medical Center\, 3601 South 6th Ave.\, Tucson\, AZ
CATEGORIES:Actions and Protests
END:VEVENT
BEGIN:VEVENT
DTSTART;VALUE=DATE:20260329
DTEND;VALUE=DATE:20260330
DTSTAMP:20260421T051852
CREATED:20260214T031215Z
LAST-MODIFIED:20260214T210656Z
UID:20216-1774742400-1774828799@www.tucsonpeacecalendar.org
SUMMARY:“End ALL War” Demonstration Commemorating Gretchen Nielsen\, Bob Phillips\, and Alice Ritter
DESCRIPTION:The VFP Jon Miles Chapter 13\, Tucson is encouraging all activists to demonstrate with friends in your own neighborhood one day a week for an hour at an intersection corner within walking distance. \nSend Pictures of your event to William (Pete) Peterson at williampeterson492@yahoo.com
URL:https://www.tucsonpeacecalendar.org/event/end-all-war-demonstration-commemorating-gretchen-nielsen-bob-phillips-and-alice-ritter-30/
LOCATION:AZ
CATEGORIES:Actions and Protests
END:VEVENT
END:VCALENDAR