BEGIN:VCALENDAR
VERSION:2.0
PRODID:-//Tucson Peace Center - ECPv6.15.20//NONSGML v1.0//EN
CALSCALE:GREGORIAN
METHOD:PUBLISH
X-ORIGINAL-URL:https://www.tucsonpeacecalendar.org
X-WR-CALDESC:Events for Tucson Peace Center
REFRESH-INTERVAL;VALUE=DURATION:PT1H
X-Robots-Tag:noindex
X-PUBLISHED-TTL:PT1H
BEGIN:VTIMEZONE
TZID:America/Phoenix
BEGIN:STANDARD
TZOFFSETFROM:-0700
TZOFFSETTO:-0700
TZNAME:MST
DTSTART:20250101T000000
END:STANDARD
END:VTIMEZONE
BEGIN:VEVENT
DTSTART;TZID=America/Phoenix:20260201T163000
DTEND;TZID=America/Phoenix:20260201T173000
DTSTAMP:20260421T064941
CREATED:20260116T182444Z
LAST-MODIFIED:20260116T182444Z
UID:19884-1769963400-1769967000@www.tucsonpeacecalendar.org
SUMMARY:“End ALL War” Demonstration Commemorating Gretchen Nielsen\, Bob Phillips\, and Alice Ritter
DESCRIPTION:The VFP Jon Miles Chapter 13\, Tucson is encouraging all activists to demonstrate with friends in your own neighborhood one day a week for an hour at an intersection corner within walking distance. \nA corner that’s already been established is Pantano Road and Golf Links from 4:30-5:30 p.m. on Sunday.  Others will be listed as they are established as to time & place.
URL:https://www.tucsonpeacecalendar.org/event/end-all-war-demonstration-commemorating-gretchen-nielsen-bob-phillips-and-alice-ritter-22/
LOCATION:Pantano and Golf Links\, Tucson\, AZ
CATEGORIES:Actions and Protests
END:VEVENT
BEGIN:VEVENT
DTSTART;TZID=America/Phoenix:20260205T163000
DTEND;TZID=America/Phoenix:20260205T173000
DTSTAMP:20260421T064941
CREATED:20260119T211555Z
LAST-MODIFIED:20260119T211555Z
UID:19998-1770309000-1770312600@www.tucsonpeacecalendar.org
SUMMARY:Weekly Counter-recruiting Vigil
DESCRIPTION:Weekly Counter-recruiting vigil at 3911 E Pima\, intersection Pima & Alvernon\, every Thursday from 4:30-5:30 PM. \nHaving your immunization\, wearing a medical mask\, & staying socially distanced are expected.   \nMore Info: cabissell@fastmail.fm
URL:https://www.tucsonpeacecalendar.org/event/weekly-counter-recruiting-vigil-10/
LOCATION:3911 E Pima\, AZ\, United States
CATEGORIES:Actions and Protests
END:VEVENT
BEGIN:VEVENT
DTSTART;TZID=America/Phoenix:20260206T070000
DTEND;TZID=America/Phoenix:20260206T080000
DTSTAMP:20260421T064941
CREATED:20260120T175906Z
LAST-MODIFIED:20260120T175906Z
UID:20022-1770361200-1770364800@www.tucsonpeacecalendar.org
SUMMARY:Save Our VA\, In Support of VA Employees & Veterans
DESCRIPTION:Save Our VA\, In Support Of VA Employees & Veterans\, Every Friday\, 7 AM – 8:15 AM\, VA South 6th Entrance (3601 S 6th Avenue). \nJoin Veterans for Peace and Southern Arizona Community Activists to support VA workers as they come in to work. Meet at the S 6th Ave entrance every Friday unless otherwise noted. \nThe most up-to-date info about this event is at www.takeactiontucson.org/
URL:https://www.tucsonpeacecalendar.org/event/save-our-va-in-support-of-va-employees-veterans-6/
LOCATION:Tucson VA Medical Center\, 3601 South 6th Ave.\, Tucson\, AZ
CATEGORIES:Actions and Protests
END:VEVENT
BEGIN:VEVENT
DTSTART;TZID=America/Phoenix:20260208T163000
DTEND;TZID=America/Phoenix:20260208T173000
DTSTAMP:20260421T064941
CREATED:20260116T193740Z
LAST-MODIFIED:20260116T193740Z
UID:19893-1770568200-1770571800@www.tucsonpeacecalendar.org
SUMMARY:“End ALL War” Demonstration Commemorating Gretchen Nielsen\, Bob Phillips\, and Alice Ritter
DESCRIPTION:The VFP Jon Miles Chapter 13\, Tucson is encouraging all activists to demonstrate with friends in your own neighborhood one day a week for an hour at an intersection corner within walking distance. \nA corner that’s already been established is Pantano Road and Golf Links from 4:30-5:30 p.m. on Sunday.  Others will be listed as they are established as to time & place.
URL:https://www.tucsonpeacecalendar.org/event/end-all-war-demonstration-commemorating-gretchen-nielsen-bob-phillips-and-alice-ritter-23/
LOCATION:Pantano and Golf Links\, Tucson\, AZ
CATEGORIES:Actions and Protests
END:VEVENT
BEGIN:VEVENT
DTSTART;TZID=America/Phoenix:20260209T180000
DTEND;TZID=America/Phoenix:20260209T200000
DTSTAMP:20260421T064941
CREATED:20260120T190118Z
LAST-MODIFIED:20260120T190118Z
UID:20052-1770660000-1770667200@www.tucsonpeacecalendar.org
SUMMARY:Veterans for Peace\, Jon Miles Chapter 13 Organizational Meeting
DESCRIPTION:Monday\, February 9\, 2026\, 6:00 pm – 8:00 pm. Doors open at 5:30 p.m.\nVeterans for Peace\, Jon Miles Chapter 13 organizational meeting.\nWard 3 City Council Office\, 1510 East Grant Road\nMonthly meetings\, 2nd Monday.  \nVeterans for Peace is an international organization of military veterans from all branches of services\, military family members\, and allies\, dedicated to building a culture of peace\, exposing the true costs of war\, and healing the wounds of war.     \nFor more info about VFP: http://www.veteransforpeace.org or contact Cara Bissell at cabissell@fastmail.fm or 718-721-5527
URL:https://www.tucsonpeacecalendar.org/event/veterans-for-peace-jon-miles-chapter-13-organizational-meeting-5/
LOCATION:Ward 3 City Council Office\, 1510 E. Grant Road\, Tucson\, AZ\, United States
CATEGORIES:Organization Meetings
END:VEVENT
BEGIN:VEVENT
DTSTART;TZID=America/Phoenix:20260212T163000
DTEND;TZID=America/Phoenix:20260212T173000
DTSTAMP:20260421T064941
CREATED:20260120T032431Z
LAST-MODIFIED:20260120T032431Z
UID:20000-1770913800-1770917400@www.tucsonpeacecalendar.org
SUMMARY:Weekly Counter-recruiting Vigil
DESCRIPTION:Weekly Counter-recruiting vigil at 3911 E Pima\, intersection Pima & Alvernon\, every Thursday from 4:30-5:30 PM. \nHaving your immunization\, wearing a medical mask\, & staying socially distanced are expected.   \nMore Info: cabissell@fastmail.fm
URL:https://www.tucsonpeacecalendar.org/event/weekly-counter-recruiting-vigil-11/
LOCATION:3911 E Pima\, AZ\, United States
CATEGORIES:Actions and Protests
END:VEVENT
BEGIN:VEVENT
DTSTART;TZID=America/Phoenix:20260213T070000
DTEND;TZID=America/Phoenix:20260213T080000
DTSTAMP:20260421T064941
CREATED:20260120T180157Z
LAST-MODIFIED:20260120T180157Z
UID:20024-1770966000-1770969600@www.tucsonpeacecalendar.org
SUMMARY:Save Our VA\, In Support of VA Employees & Veterans
DESCRIPTION:Save Our VA\, In Support Of VA Employees & Veterans\, Every Friday\, 7 AM – 8:15 AM\, VA South 6th Entrance (3601 S 6th Avenue). \nJoin Veterans for Peace and Southern Arizona Community Activists to support VA workers as they come in to work. Meet at the S 6th Ave entrance every Friday unless otherwise noted. \nThe most up-to-date info about this event is at www.takeactiontucson.org/
URL:https://www.tucsonpeacecalendar.org/event/save-our-va-in-support-of-va-employees-veterans-7/
LOCATION:Tucson VA Medical Center\, 3601 South 6th Ave.\, Tucson\, AZ
CATEGORIES:Actions and Protests
END:VEVENT
BEGIN:VEVENT
DTSTART;TZID=America/Phoenix:20260215T163000
DTEND;TZID=America/Phoenix:20260215T173000
DTSTAMP:20260421T064941
CREATED:20260116T193939Z
LAST-MODIFIED:20260116T193939Z
UID:19895-1771173000-1771176600@www.tucsonpeacecalendar.org
SUMMARY:“End ALL War” Demonstration Commemorating Gretchen Nielsen\, Bob Phillips\, and Alice Ritter
DESCRIPTION:The VFP Jon Miles Chapter 13\, Tucson is encouraging all activists to demonstrate with friends in your own neighborhood one day a week for an hour at an intersection corner within walking distance. \nA corner that’s already been established is Pantano Road and Golf Links from 4:30-5:30 p.m. on Sunday.  Others will be listed as they are established as to time & place.
URL:https://www.tucsonpeacecalendar.org/event/end-all-war-demonstration-commemorating-gretchen-nielsen-bob-phillips-and-alice-ritter-24/
LOCATION:Pantano and Golf Links\, Tucson\, AZ
CATEGORIES:Actions and Protests
END:VEVENT
BEGIN:VEVENT
DTSTART;TZID=America/Phoenix:20260220T070000
DTEND;TZID=America/Phoenix:20260220T080000
DTSTAMP:20260421T064941
CREATED:20260120T180326Z
LAST-MODIFIED:20260120T180326Z
UID:20026-1771570800-1771574400@www.tucsonpeacecalendar.org
SUMMARY:Save Our VA\, In Support of VA Employees & Veterans
DESCRIPTION:Save Our VA\, In Support Of VA Employees & Veterans\, Every Friday\, 7 AM – 8:15 AM\, VA South 6th Entrance (3601 S 6th Avenue). \nJoin Veterans for Peace and Southern Arizona Community Activists to support VA workers as they come in to work. Meet at the S 6th Ave entrance every Friday unless otherwise noted. \nThe most up-to-date info about this event is at www.takeactiontucson.org/
URL:https://www.tucsonpeacecalendar.org/event/save-our-va-in-support-of-va-employees-veterans-8/
LOCATION:Tucson VA Medical Center\, 3601 South 6th Ave.\, Tucson\, AZ
CATEGORIES:Actions and Protests
END:VEVENT
BEGIN:VEVENT
DTSTART;TZID=America/Phoenix:20260222T163000
DTEND;TZID=America/Phoenix:20260222T173000
DTSTAMP:20260421T064941
CREATED:20260116T194053Z
LAST-MODIFIED:20260116T194053Z
UID:19897-1771777800-1771781400@www.tucsonpeacecalendar.org
SUMMARY:“End ALL War” Demonstration Commemorating Gretchen Nielsen\, Bob Phillips\, and Alice Ritter
DESCRIPTION:The VFP Jon Miles Chapter 13\, Tucson is encouraging all activists to demonstrate with friends in your own neighborhood one day a week for an hour at an intersection corner within walking distance. \nA corner that’s already been established is Pantano Road and Golf Links from 4:30-5:30 p.m. on Sunday.  Others will be listed as they are established as to time & place.
URL:https://www.tucsonpeacecalendar.org/event/end-all-war-demonstration-commemorating-gretchen-nielsen-bob-phillips-and-alice-ritter-25/
LOCATION:Pantano and Golf Links\, Tucson\, AZ
CATEGORIES:Actions and Protests
END:VEVENT
BEGIN:VEVENT
DTSTART;TZID=America/Phoenix:20260227T070000
DTEND;TZID=America/Phoenix:20260227T080000
DTSTAMP:20260421T064941
CREATED:20260120T180453Z
LAST-MODIFIED:20260120T180453Z
UID:20028-1772175600-1772179200@www.tucsonpeacecalendar.org
SUMMARY:Save Our VA\, In Support of VA Employees & Veterans
DESCRIPTION:Save Our VA\, In Support Of VA Employees & Veterans\, Every Friday\, 7 AM – 8:15 AM\, VA South 6th Entrance (3601 S 6th Avenue). \nJoin Veterans for Peace and Southern Arizona Community Activists to support VA workers as they come in to work. Meet at the S 6th Ave entrance every Friday unless otherwise noted. \nThe most up-to-date info about this event is at www.takeactiontucson.org/
URL:https://www.tucsonpeacecalendar.org/event/save-our-va-in-support-of-va-employees-veterans-9/
LOCATION:Tucson VA Medical Center\, 3601 South 6th Ave.\, Tucson\, AZ
CATEGORIES:Actions and Protests
END:VEVENT
END:VCALENDAR