BEGIN:VCALENDAR
VERSION:2.0
PRODID:-//Tucson Peace Center - ECPv6.15.20//NONSGML v1.0//EN
CALSCALE:GREGORIAN
METHOD:PUBLISH
X-WR-CALNAME:Tucson Peace Center
X-ORIGINAL-URL:https://www.tucsonpeacecalendar.org
X-WR-CALDESC:Events for Tucson Peace Center
REFRESH-INTERVAL;VALUE=DURATION:PT1H
X-Robots-Tag:noindex
X-PUBLISHED-TTL:PT1H
BEGIN:VTIMEZONE
TZID:America/Phoenix
BEGIN:STANDARD
TZOFFSETFROM:-0700
TZOFFSETTO:-0700
TZNAME:MST
DTSTART:20250101T000000
END:STANDARD
END:VTIMEZONE
BEGIN:VEVENT
DTSTART;TZID=America/Phoenix:20260428T180000
DTEND;TZID=America/Phoenix:20260428T190000
DTSTAMP:20260423T025651
CREATED:20260318T024300Z
LAST-MODIFIED:20260318T024300Z
UID:20709-1777399200-1777402800@www.tucsonpeacecalendar.org
SUMMARY:Tucson Samaritans Meeting
DESCRIPTION:Tucson Samaritans Meetings are hybrid at 6:00 pm on Tuesdays.  If you are interested in attending\, please email us at hello@tucsonsamaritans.com. \nTo learn more about Tucson Samaritans\, go to https://www.tucsonsamaritans.org/
URL:https://www.tucsonpeacecalendar.org/event/tucson-samaritans-meeting-13/
LOCATION:Hybrid Event
CATEGORIES:Organization Meetings
END:VEVENT
END:VCALENDAR