BEGIN:VCALENDAR
VERSION:2.0
PRODID:-//Tucson Peace Center - ECPv6.15.20//NONSGML v1.0//EN
CALSCALE:GREGORIAN
METHOD:PUBLISH
X-WR-CALNAME:Tucson Peace Center
X-ORIGINAL-URL:https://www.tucsonpeacecalendar.org
X-WR-CALDESC:Events for Tucson Peace Center
REFRESH-INTERVAL;VALUE=DURATION:PT1H
X-Robots-Tag:noindex
X-PUBLISHED-TTL:PT1H
BEGIN:VTIMEZONE
TZID:America/Phoenix
BEGIN:STANDARD
TZOFFSETFROM:-0700
TZOFFSETTO:-0700
TZNAME:MST
DTSTART:20250101T000000
END:STANDARD
END:VTIMEZONE
BEGIN:VEVENT
DTSTART;TZID=America/Phoenix:20260428T180000
DTEND;TZID=America/Phoenix:20260428T190000
DTSTAMP:20260423T041107
CREATED:20260318T024300Z
LAST-MODIFIED:20260318T024300Z
UID:20709-1777399200-1777402800@www.tucsonpeacecalendar.org
SUMMARY:Tucson Samaritans Meeting
DESCRIPTION:Tucson Samaritans Meetings are hybrid at 6:00 pm on Tuesdays.  If you are interested in attending\, please email us at hello@tucsonsamaritans.com. \nTo learn more about Tucson Samaritans\, go to https://www.tucsonsamaritans.org/
URL:https://www.tucsonpeacecalendar.org/event/tucson-samaritans-meeting-13/
LOCATION:Hybrid Event
CATEGORIES:Organization Meetings
END:VEVENT
BEGIN:VEVENT
DTSTART;TZID=America/Phoenix:20260505T180000
DTEND;TZID=America/Phoenix:20260505T190000
DTSTAMP:20260423T041107
CREATED:20260419T183049Z
LAST-MODIFIED:20260419T183049Z
UID:21009-1778004000-1778007600@www.tucsonpeacecalendar.org
SUMMARY:Tucson Samaritans Meeting
DESCRIPTION:Tucson Samaritans Meetings are hybrid at 6:00 pm on Tuesdays.  If you are interested in attending\, please email us at hello@tucsonsamaritans.com. \nTo learn more about Tucson Samaritans\, go to https://www.tucsonsamaritans.org/
URL:https://www.tucsonpeacecalendar.org/event/tucson-samaritans-meeting-14/
LOCATION:Hybrid Event
CATEGORIES:Organization Meetings
END:VEVENT
BEGIN:VEVENT
DTSTART;TZID=America/Phoenix:20260512T180000
DTEND;TZID=America/Phoenix:20260512T190000
DTSTAMP:20260423T041107
CREATED:20260419T183210Z
LAST-MODIFIED:20260419T183210Z
UID:21011-1778608800-1778612400@www.tucsonpeacecalendar.org
SUMMARY:Tucson Samaritans Meeting
DESCRIPTION:Tucson Samaritans Meetings are hybrid at 6:00 pm on Tuesdays.  If you are interested in attending\, please email us at hello@tucsonsamaritans.com. \nTo learn more about Tucson Samaritans\, go to https://www.tucsonsamaritans.org/
URL:https://www.tucsonpeacecalendar.org/event/tucson-samaritans-meeting-15/
LOCATION:Hybrid Event
CATEGORIES:Organization Meetings
END:VEVENT
BEGIN:VEVENT
DTSTART;TZID=America/Phoenix:20260519T180000
DTEND;TZID=America/Phoenix:20260519T190000
DTSTAMP:20260423T041107
CREATED:20260419T183301Z
LAST-MODIFIED:20260419T183301Z
UID:21013-1779213600-1779217200@www.tucsonpeacecalendar.org
SUMMARY:Tucson Samaritans Meeting
DESCRIPTION:Tucson Samaritans Meetings are hybrid at 6:00 pm on Tuesdays.  If you are interested in attending\, please email us at hello@tucsonsamaritans.com. \nTo learn more about Tucson Samaritans\, go to https://www.tucsonsamaritans.org/
URL:https://www.tucsonpeacecalendar.org/event/tucson-samaritans-meeting-16/
LOCATION:Hybrid Event
CATEGORIES:Organization Meetings
END:VEVENT
BEGIN:VEVENT
DTSTART;TZID=America/Phoenix:20260526T180000
DTEND;TZID=America/Phoenix:20260526T190000
DTSTAMP:20260423T041107
CREATED:20260419T183413Z
LAST-MODIFIED:20260419T183413Z
UID:21015-1779818400-1779822000@www.tucsonpeacecalendar.org
SUMMARY:Tucson Samaritans Meeting
DESCRIPTION:Tucson Samaritans Meetings are hybrid at 6:00 pm on Tuesdays.  If you are interested in attending\, please email us at hello@tucsonsamaritans.com. \nTo learn more about Tucson Samaritans\, go to https://www.tucsonsamaritans.org/
URL:https://www.tucsonpeacecalendar.org/event/tucson-samaritans-meeting-17/
LOCATION:Hybrid Event
CATEGORIES:Organization Meetings
END:VEVENT
END:VCALENDAR