BEGIN:VCALENDAR
VERSION:2.0
PRODID:-//Tucson Peace Center - ECPv6.15.20//NONSGML v1.0//EN
CALSCALE:GREGORIAN
METHOD:PUBLISH
X-ORIGINAL-URL:https://www.tucsonpeacecalendar.org
X-WR-CALDESC:Events for Tucson Peace Center
REFRESH-INTERVAL;VALUE=DURATION:PT1H
X-Robots-Tag:noindex
X-PUBLISHED-TTL:PT1H
BEGIN:VTIMEZONE
TZID:America/Phoenix
BEGIN:STANDARD
TZOFFSETFROM:-0700
TZOFFSETTO:-0700
TZNAME:MST
DTSTART:20250101T000000
END:STANDARD
END:VTIMEZONE
BEGIN:VEVENT
DTSTART;TZID=America/Phoenix:20260421T183000
DTEND;TZID=America/Phoenix:20260421T200000
DTSTAMP:20260421T093818
CREATED:20260311T191256Z
LAST-MODIFIED:20260311T191256Z
UID:20527-1776796200-1776801600@www.tucsonpeacecalendar.org
SUMMARY:The Tucson Organic Gardeners Monthly Meeting
DESCRIPTION:On Tuesday\, April 21\, 6:30 pm\, The Tucson Organic Gardeners Monthly Meeting will be held at St Marks Presbyterian Church\, 3809 E. 3rd St. 85716 (the Knox Room is at the nw corner of the south parking lot).  The meeting will also be available on Zoom. \nThis month’s program is “Roots — The Hidden Power” presented by Will LaVoy\, University of Arizona \nOur free programs are held on the 3rd Tuesday of the month\, September thru April.  If you need Zoom access\, please email us at least 24 hours before the meeting at tucsonorganicgardeners@gmail.com to request a link. \nFor more information\, visit our Facebook page or our web site at www.tucsonorganicgardeners.org
URL:https://www.tucsonpeacecalendar.org/event/the-tucson-organic-gardeners-monthly-meeting/
LOCATION:St. Mark’s Presbyterian Church\, 3809 E 2nd St\, Tucson\, AZ\, United States
CATEGORIES:Organization Meetings
END:VEVENT
END:VCALENDAR