BEGIN:VCALENDAR
VERSION:2.0
PRODID:-//Tucson Peace Center - ECPv6.15.20//NONSGML v1.0//EN
CALSCALE:GREGORIAN
METHOD:PUBLISH
X-WR-CALNAME:Tucson Peace Center
X-ORIGINAL-URL:https://www.tucsonpeacecalendar.org
X-WR-CALDESC:Events for Tucson Peace Center
REFRESH-INTERVAL;VALUE=DURATION:PT1H
X-Robots-Tag:noindex
X-PUBLISHED-TTL:PT1H
BEGIN:VTIMEZONE
TZID:America/Phoenix
BEGIN:STANDARD
TZOFFSETFROM:-0700
TZOFFSETTO:-0700
TZNAME:MST
DTSTART:20250101T000000
END:STANDARD
END:VTIMEZONE
BEGIN:VEVENT
DTSTART;TZID=America/Phoenix:20260120T183000
DTEND;TZID=America/Phoenix:20260120T200000
DTSTAMP:20260421T141705
CREATED:20251213T013032Z
LAST-MODIFIED:20251213T013032Z
UID:19575-1768933800-1768939200@www.tucsonpeacecalendar.org
SUMMARY:Tucson Organic Gardeners Monthly Meeting
DESCRIPTION:On Tuesday\, January 20 at 6:30 pm\, The Tucson Organic Gardeners Monthly Meeting will be held at St Marks Presbyterian Church\, 3809 E. 3rd St. 85716 (the Knox Room is at the nw corner of the south parking lot).  The meeting will also be available on Zoom. \nThis month’s program is “Mushrooms for the Home & Garden” presented by Chad Borseth\, Sky Island Spice Co. \nOur free programs are held on the 3rd Tuesday of the month\, September thru April.  If you need Zoom access\, please email us at least 24 hours before the meeting at tucsonorganicgardeners@gmail.com to request a link. \nFor more information\, visit our Facebook page or our web site at www.tucsonorganicgardeners.org
URL:https://www.tucsonpeacecalendar.org/event/tucson-organic-gardeners-monthly-meeting-2/
LOCATION:Hybrid Event
CATEGORIES:Organization Meetings
END:VEVENT
END:VCALENDAR