BEGIN:VCALENDAR
VERSION:2.0
PRODID:-//Tucson Peace Center - ECPv6.15.20//NONSGML v1.0//EN
CALSCALE:GREGORIAN
METHOD:PUBLISH
X-ORIGINAL-URL:https://www.tucsonpeacecalendar.org
X-WR-CALDESC:Events for Tucson Peace Center
REFRESH-INTERVAL;VALUE=DURATION:PT1H
X-Robots-Tag:noindex
X-PUBLISHED-TTL:PT1H
BEGIN:VTIMEZONE
TZID:America/Phoenix
BEGIN:STANDARD
TZOFFSETFROM:-0700
TZOFFSETTO:-0700
TZNAME:MST
DTSTART:20250101T000000
END:STANDARD
END:VTIMEZONE
BEGIN:VEVENT
DTSTART;TZID=America/Phoenix:20260502T090000
DTEND;TZID=America/Phoenix:20260502T103000
DTSTAMP:20260421T050711
CREATED:20260415T190958Z
LAST-MODIFIED:20260415T190958Z
UID:20875-1777712400-1777717800@www.tucsonpeacecalendar.org
SUMMARY:The Hard-Sci SF Zoom Proudly Presents Sonja Fritzsche
DESCRIPTION:The Hard-Sci SF Zoom proudly presents Sonja Fritzsche\nSaturday\, May 2\, 2026 @ 9AM Pacific\, 11 AM Central and Noon Eastern \nSonja Fritzsche is Associate Dean and Prof. of German Studies at Michigan State University.”  She is a leader in The Science Fiction Research Association\, which is global. \nTitle: “Global Science Fiction and Global Understanding” \nDescription: Prof. Sonja Fritsche has worked long and hard making international connections via the understanding that science fiction can provide in its ability to generate possible scenarios. In the world today\, people working in culture are crossing boundaries of conflicts with the quiet persistence of those in the SF community. \nRegister in advance for this meeting: https://us02web.zoom.us/meeting/register/3MW8AMnSSjWWK5lzg27tXQ\nNo password \nContact scifi200111@gmail.com
URL:https://www.tucsonpeacecalendar.org/event/the-hard-sci-sf-zoom-proudly-presents-sonja-fritzsche/
LOCATION:via Zoom
CATEGORIES:Organization Meetings
END:VEVENT
END:VCALENDAR