BEGIN:VCALENDAR
VERSION:2.0
PRODID:-//Tucson Peace Center - ECPv6.15.20//NONSGML v1.0//EN
CALSCALE:GREGORIAN
METHOD:PUBLISH
X-ORIGINAL-URL:https://www.tucsonpeacecalendar.org
X-WR-CALDESC:Events for Tucson Peace Center
REFRESH-INTERVAL;VALUE=DURATION:PT1H
X-Robots-Tag:noindex
X-PUBLISHED-TTL:PT1H
BEGIN:VTIMEZONE
TZID:America/Phoenix
BEGIN:STANDARD
TZOFFSETFROM:-0700
TZOFFSETTO:-0700
TZNAME:MST
DTSTART:20250101T000000
END:STANDARD
END:VTIMEZONE
BEGIN:VEVENT
DTSTART;TZID=America/Phoenix:20260425T090000
DTEND;TZID=America/Phoenix:20260425T140000
DTSTAMP:20260421T083300
CREATED:20260407T022146Z
LAST-MODIFIED:20260407T022146Z
UID:20828-1777107600-1777125600@www.tucsonpeacecalendar.org
SUMMARY:May Day Solidarity School
DESCRIPTION:May Day Solidarity School\nApril 25\, 9:00 a.m. to 2:00 p.m.\nBreakfast and Registration at 8:45 a.m.\nLunch Provided\nSponsored by Tucson DSA \nSpace is limited. RSVP to join at: https://actionnetwork.org/events/may-day-solidarity-school
URL:https://www.tucsonpeacecalendar.org/event/may-day-solidarity-school/
CATEGORIES:Workshops and Training
END:VEVENT
END:VCALENDAR