BEGIN:VCALENDAR
VERSION:2.0
PRODID:-//Tucson Peace Center - ECPv6.15.20//NONSGML v1.0//EN
CALSCALE:GREGORIAN
METHOD:PUBLISH
X-ORIGINAL-URL:https://www.tucsonpeacecalendar.org
X-WR-CALDESC:Events for Tucson Peace Center
REFRESH-INTERVAL;VALUE=DURATION:PT1H
X-Robots-Tag:noindex
X-PUBLISHED-TTL:PT1H
BEGIN:VTIMEZONE
TZID:America/Phoenix
BEGIN:STANDARD
TZOFFSETFROM:-0700
TZOFFSETTO:-0700
TZNAME:MST
DTSTART:20250101T000000
END:STANDARD
END:VTIMEZONE
BEGIN:VEVENT
DTSTART;TZID=America/Phoenix:20260504T190000
DTEND;TZID=America/Phoenix:20260504T203000
DTSTAMP:20260423T042614
CREATED:20260419T181045Z
LAST-MODIFIED:20260419T181045Z
UID:20995-1777921200-1777926600@www.tucsonpeacecalendar.org
SUMMARY:Tucson Club Communist Party USA Zoom Meeting
DESCRIPTION:Tucson Club Communist Party USA Zoom Meeting \n1st and 3rd Mondays\, 7:00-8:30PM.  \nFor details\, contact stelnik@webtv.net or (520) 235-0694.
URL:https://www.tucsonpeacecalendar.org/event/tucson-club-communist-party-usa-zoom-meeting-9/
LOCATION:via Zoom
CATEGORIES:Organization Meetings
END:VEVENT
BEGIN:VEVENT
DTSTART;TZID=America/Phoenix:20260518T190000
DTEND;TZID=America/Phoenix:20260518T203000
DTSTAMP:20260423T042614
CREATED:20260419T181143Z
LAST-MODIFIED:20260419T181143Z
UID:20997-1779130800-1779136200@www.tucsonpeacecalendar.org
SUMMARY:Tucson Club Communist Party USA Zoom Meeting
DESCRIPTION:Tucson Club Communist Party USA Zoom Meeting \n1st and 3rd Mondays\, 7:00-8:30PM.  \nFor details\, contact stelnik@webtv.net or (520) 235-0694.
URL:https://www.tucsonpeacecalendar.org/event/tucson-club-communist-party-usa-zoom-meeting-10/
LOCATION:via Zoom
CATEGORIES:Organization Meetings
END:VEVENT
END:VCALENDAR