BEGIN:VCALENDAR
VERSION:2.0
PRODID:-//Tucson Peace Center - ECPv6.15.20//NONSGML v1.0//EN
CALSCALE:GREGORIAN
METHOD:PUBLISH
X-WR-CALNAME:Tucson Peace Center
X-ORIGINAL-URL:https://www.tucsonpeacecalendar.org
X-WR-CALDESC:Events for Tucson Peace Center
REFRESH-INTERVAL;VALUE=DURATION:PT1H
X-Robots-Tag:noindex
X-PUBLISHED-TTL:PT1H
BEGIN:VTIMEZONE
TZID:America/Phoenix
BEGIN:STANDARD
TZOFFSETFROM:-0700
TZOFFSETTO:-0700
TZNAME:MST
DTSTART:20250101T000000
END:STANDARD
END:VTIMEZONE
BEGIN:VEVENT
DTSTART;TZID=America/Phoenix:20260105T190000
DTEND;TZID=America/Phoenix:20260105T203000
DTSTAMP:20260423T072108
CREATED:20251214T015331Z
LAST-MODIFIED:20251214T015331Z
UID:19672-1767639600-1767645000@www.tucsonpeacecalendar.org
SUMMARY:Tucson Club Communist Party USA Zoom Meeting
DESCRIPTION:Tucson Club Communist Party USA Zoom Meeting \n1st and 3rd Mondays\, 7:00-8:30PM.  \nFor details\, contact stelnik@webtv.net or (520) 235-0694.
URL:https://www.tucsonpeacecalendar.org/event/tucson-club-communist-party-usa-zoom-meeting-3/
LOCATION:via Zoom
CATEGORIES:Organization Meetings
END:VEVENT
BEGIN:VEVENT
DTSTART;TZID=America/Phoenix:20260119T190000
DTEND;TZID=America/Phoenix:20260119T203000
DTSTAMP:20260423T072108
CREATED:20251214T015632Z
LAST-MODIFIED:20251214T015632Z
UID:19674-1768849200-1768854600@www.tucsonpeacecalendar.org
SUMMARY:Tucson Club Communist Party USA Zoom Meeting
DESCRIPTION:Tucson Club Communist Party USA Zoom Meeting \n1st and 3rd Mondays\, 7:00-8:30PM.  \nFor details\, contact stelnik@webtv.net or (520) 235-0694.
URL:https://www.tucsonpeacecalendar.org/event/tucson-club-communist-party-usa-zoom-meeting-4/
LOCATION:via Zoom
CATEGORIES:Organization Meetings
END:VEVENT
END:VCALENDAR