BEGIN:VCALENDAR
VERSION:2.0
PRODID:-//Tucson Peace Center - ECPv6.15.20//NONSGML v1.0//EN
CALSCALE:GREGORIAN
METHOD:PUBLISH
X-ORIGINAL-URL:https://www.tucsonpeacecalendar.org
X-WR-CALDESC:Events for Tucson Peace Center
REFRESH-INTERVAL;VALUE=DURATION:PT1H
X-Robots-Tag:noindex
X-PUBLISHED-TTL:PT1H
BEGIN:VTIMEZONE
TZID:America/Phoenix
BEGIN:STANDARD
TZOFFSETFROM:-0700
TZOFFSETTO:-0700
TZNAME:MST
DTSTART:20250101T000000
END:STANDARD
END:VTIMEZONE
BEGIN:VEVENT
DTSTART;TZID=America/Phoenix:20260328T113000
DTEND;TZID=America/Phoenix:20260328T123000
DTSTAMP:20260421T051003
CREATED:20260328T022131Z
LAST-MODIFIED:20260328T022131Z
UID:20807-1774697400-1774701000@www.tucsonpeacecalendar.org
SUMMARY:Join the Anti-War Contingent at No Kings Day
DESCRIPTION:Join the anti-war contingent at No Kings Day this Saturday at 22nd st and Country Club! \nWe must build a broad\, united anti-war movement against Trump and U.S. interventions everywhere! Join us for the march from 22nd St/Country Club to the Reid Park Bandshell at 11:30!
URL:https://www.tucsonpeacecalendar.org/event/join-the-anti-war-contingent-at-no-kings-day/
LOCATION:22nd St. and Country Club\, Tucson\, AZ
CATEGORIES:Actions and Protests
END:VEVENT
END:VCALENDAR