BEGIN:VCALENDAR
VERSION:2.0
PRODID:-//Tucson Peace Center - ECPv6.15.20//NONSGML v1.0//EN
CALSCALE:GREGORIAN
METHOD:PUBLISH
X-ORIGINAL-URL:https://www.tucsonpeacecalendar.org
X-WR-CALDESC:Events for Tucson Peace Center
REFRESH-INTERVAL;VALUE=DURATION:PT1H
X-Robots-Tag:noindex
X-PUBLISHED-TTL:PT1H
BEGIN:VTIMEZONE
TZID:America/Phoenix
BEGIN:STANDARD
TZOFFSETFROM:-0700
TZOFFSETTO:-0700
TZNAME:MST
DTSTART:20250101T000000
END:STANDARD
END:VTIMEZONE
BEGIN:VEVENT
DTSTART;TZID=America/Phoenix:20260512T180000
DTEND;TZID=America/Phoenix:20260512T193000
DTSTAMP:20260421T100852
CREATED:20260416T184218Z
LAST-MODIFIED:20260416T184218Z
UID:20888-1778608800-1778614200@www.tucsonpeacecalendar.org
SUMMARY:Sustainable Tucson Monthly Meeting
DESCRIPTION:Sustainable Tucson Monthly Meeting\, 2nd Tuesday\, 6:00-7:30 pm\, on Zoom. \nJoin us Tuesday\, May 12\, at 6:00 pm for Sustainable Tucson’s monthly Sustainability Spotlight program. Presentation is still being finalized. Topic\, speakers\, and Zoom link for the meeting will be at www.sustainabletucson.org\, and on our Facebook and Meetup pages. To be added to our newsletter e-list\, send name and email address to paula@sustainabletucson.org.
URL:https://www.tucsonpeacecalendar.org/event/sustainable-tucson-monthly-meeting-5/
LOCATION:via Zoom
CATEGORIES:Organization Meetings
END:VEVENT
END:VCALENDAR