BEGIN:VCALENDAR
VERSION:2.0
PRODID:-//Tucson Peace Center - ECPv6.15.20//NONSGML v1.0//EN
CALSCALE:GREGORIAN
METHOD:PUBLISH
X-WR-CALNAME:Tucson Peace Center
X-ORIGINAL-URL:https://www.tucsonpeacecalendar.org
X-WR-CALDESC:Events for Tucson Peace Center
REFRESH-INTERVAL;VALUE=DURATION:PT1H
X-Robots-Tag:noindex
X-PUBLISHED-TTL:PT1H
BEGIN:VTIMEZONE
TZID:America/Phoenix
BEGIN:STANDARD
TZOFFSETFROM:-0700
TZOFFSETTO:-0700
TZNAME:MST
DTSTART:20250101T000000
END:STANDARD
END:VTIMEZONE
BEGIN:VEVENT
DTSTART;TZID=America/Phoenix:20260210T180000
DTEND;TZID=America/Phoenix:20260210T193000
DTSTAMP:20260421T113818
CREATED:20260118T021305Z
LAST-MODIFIED:20260118T021305Z
UID:19941-1770746400-1770751800@www.tucsonpeacecalendar.org
SUMMARY:Sustainable Tucson Monthly Meeting
DESCRIPTION:Sustainable Tucson Monthly Meeting\, 2nd Tuesday\, 6:00-7:30 pm\, on Zoom. Join us Tuesday\, February 10 at 6:00 pm for Sustainable Tucson’s monthly Sustainability Spotlight program. The topic will be Transportation in Tucson. Details\, speakers\, and the Zoom link for the meeting will be on our website www.sustainabletucson.org\, and on our Facebook and Meetup pages. To be added to our newsletter e-list\, send yourname and email address to paula@sustainabletucson.org.
URL:https://www.tucsonpeacecalendar.org/event/sustainable-tucson-monthly-meeting-3/
LOCATION:via Zoom
CATEGORIES:Organization Meetings
END:VEVENT
END:VCALENDAR