BEGIN:VCALENDAR
VERSION:2.0
PRODID:-//Tucson Peace Center - ECPv6.15.20//NONSGML v1.0//EN
CALSCALE:GREGORIAN
METHOD:PUBLISH
X-ORIGINAL-URL:https://www.tucsonpeacecalendar.org
X-WR-CALDESC:Events for Tucson Peace Center
REFRESH-INTERVAL;VALUE=DURATION:PT1H
X-Robots-Tag:noindex
X-PUBLISHED-TTL:PT1H
BEGIN:VTIMEZONE
TZID:America/Phoenix
BEGIN:STANDARD
TZOFFSETFROM:-0700
TZOFFSETTO:-0700
TZNAME:MST
DTSTART:20250101T000000
END:STANDARD
END:VTIMEZONE
BEGIN:VEVENT
DTSTART;TZID=America/Phoenix:20260103T100000
DTEND;TZID=America/Phoenix:20260103T120000
DTSTAMP:20260421T131050
CREATED:20251210T205937Z
LAST-MODIFIED:20251210T210149Z
UID:19503-1767434400-1767441600@www.tucsonpeacecalendar.org
SUMMARY:Ambassadors of Sustainability Training
DESCRIPTION:Ambassadors of Sustainability Training\nSaturdays\, Jan 3-Mar 28\, 10 am-noon \nLooking for ways to restore and increase the momentum on protection of our living planet?  Join Sustainable Tucson for Ambassadors’ training this spring. \n \nLocal leaders share their insights on topics from green infrastructure to zero waste to sustainable housing.  \nThroughout the program we practice skills of communication for effective advocacy and collaboration. \nVia Zoom\, with field trip Jan 3 and an optional outing \nCost: $80; Sustainable Tucson members $60; students $30; scholarships on request\n \nFacilitators:  Laura Key & Stuart Moody\nInfo: Write to laura@sustainabletucson.org\n \nREGISTER HERE
URL:https://www.tucsonpeacecalendar.org/event/ambassadors-of-sustainability-training/
LOCATION:via Zoom
CATEGORIES:Workshops and Training
END:VEVENT
BEGIN:VEVENT
DTSTART;TZID=America/Phoenix:20260106T180000
DTEND;TZID=America/Phoenix:20260106T193000
DTSTAMP:20260421T131050
CREATED:20251213T021423Z
LAST-MODIFIED:20251213T021423Z
UID:19587-1767722400-1767727800@www.tucsonpeacecalendar.org
SUMMARY:Sustainable Tucson Monthly Meeting
DESCRIPTION:Sustainable Tucson Monthly Meeting\, 1st Tuesday\, 6:00-7:30 pm\, on Zoom.\nNOTE: This is a different date than our regular program.  \nJoin us Tuesday\, January 6\, at 6:00 pm\, for our Sustainability Spotlight\, “An Environmental Preview for 2026.” This will be a look ahead at what can be expected in coming months from state (and some national) legislative and administrative actions\, with a focus on what will have particular impact on Tucson and Southern AZ. Our panel to date includes State Senator Priya Sundareshan and Sandy Bahr\, director of the Sierra Club’s Grand Canyon Chapter. The Zoom link for the meeting is on our website (www.sustainabletucson.org)\, Facebook\, and Meetup. If you would like to be added to our newsletter e-list\, please send name and email address to paula@sustainabletucson.org.
URL:https://www.tucsonpeacecalendar.org/event/sustainable-tucson-monthly-meeting-2/
LOCATION:via Zoom
CATEGORIES:Organization Meetings
END:VEVENT
BEGIN:VEVENT
DTSTART;TZID=America/Phoenix:20260110T100000
DTEND;TZID=America/Phoenix:20260110T120000
DTSTAMP:20260421T131050
CREATED:20251210T210259Z
LAST-MODIFIED:20251210T210259Z
UID:19507-1768039200-1768046400@www.tucsonpeacecalendar.org
SUMMARY:Ambassadors of Sustainability Training
DESCRIPTION:Ambassadors of Sustainability Training\nSaturdays\, Jan 3-Mar 28\, 10 am-noon \nLooking for ways to restore and increase the momentum on protection of our living planet?  Join Sustainable Tucson for Ambassadors’ training this spring. \n \nLocal leaders share their insights on topics from green infrastructure to zero waste to sustainable housing.  \nThroughout the program we practice skills of communication for effective advocacy and collaboration. \nVia Zoom\, with field trip Jan 3 and an optional outing \nCost: $80; Sustainable Tucson members $60; students $30; scholarships on request\n \nFacilitators:  Laura Key & Stuart Moody\nInfo: Write to laura@sustainabletucson.org\n \nREGISTER HERE
URL:https://www.tucsonpeacecalendar.org/event/ambassadors-of-sustainability-training-2/
LOCATION:via Zoom
CATEGORIES:Workshops and Training
END:VEVENT
BEGIN:VEVENT
DTSTART;TZID=America/Phoenix:20260117T100000
DTEND;TZID=America/Phoenix:20260117T120000
DTSTAMP:20260421T131050
CREATED:20251211T023139Z
LAST-MODIFIED:20251211T023139Z
UID:19509-1768644000-1768651200@www.tucsonpeacecalendar.org
SUMMARY:Ambassadors of Sustainability Training
DESCRIPTION:Ambassadors of Sustainability Training\nSaturdays\, Jan 3-Mar 28\, 10 am-noon \nLooking for ways to restore and increase the momentum on protection of our living planet?  Join Sustainable Tucson for Ambassadors’ training this spring. \n \nLocal leaders share their insights on topics from green infrastructure to zero waste to sustainable housing.  \nThroughout the program we practice skills of communication for effective advocacy and collaboration. \nVia Zoom\, with field trip Jan 3 and an optional outing \nCost: $80; Sustainable Tucson members $60; students $30; scholarships on request\n \nFacilitators:  Laura Key & Stuart Moody\nInfo: Write to laura@sustainabletucson.org\n \nREGISTER HERE
URL:https://www.tucsonpeacecalendar.org/event/ambassadors-of-sustainability-training-3/
LOCATION:via Zoom
CATEGORIES:Workshops and Training
END:VEVENT
BEGIN:VEVENT
DTSTART;TZID=America/Phoenix:20260124T100000
DTEND;TZID=America/Phoenix:20260124T120000
DTSTAMP:20260421T131050
CREATED:20251211T175635Z
LAST-MODIFIED:20251211T175635Z
UID:19511-1769248800-1769256000@www.tucsonpeacecalendar.org
SUMMARY:Ambassadors of Sustainability Training
DESCRIPTION:Ambassadors of Sustainability Training\nSaturdays\, Jan 3-Mar 28\, 10 am-noon \nLooking for ways to restore and increase the momentum on protection of our living planet?  Join Sustainable Tucson for Ambassadors’ training this spring. \n \nLocal leaders share their insights on topics from green infrastructure to zero waste to sustainable housing.  \nThroughout the program we practice skills of communication for effective advocacy and collaboration. \nVia Zoom\, with field trip Jan 3 and an optional outing \nCost: $80; Sustainable Tucson members $60; students $30; scholarships on request\n \nFacilitators:  Laura Key & Stuart Moody\nInfo: Write to laura@sustainabletucson.org\n \nREGISTER HERE
URL:https://www.tucsonpeacecalendar.org/event/ambassadors-of-sustainability-training-4/
LOCATION:via Zoom
CATEGORIES:Workshops and Training
END:VEVENT
BEGIN:VEVENT
DTSTART;TZID=America/Phoenix:20260131T100000
DTEND;TZID=America/Phoenix:20260131T120000
DTSTAMP:20260421T131050
CREATED:20251211T175749Z
LAST-MODIFIED:20251211T175749Z
UID:19513-1769853600-1769860800@www.tucsonpeacecalendar.org
SUMMARY:Ambassadors of Sustainability Training
DESCRIPTION:Ambassadors of Sustainability Training\nSaturdays\, Jan 3-Mar 28\, 10 am-noon \nLooking for ways to restore and increase the momentum on protection of our living planet?  Join Sustainable Tucson for Ambassadors’ training this spring. \n \nLocal leaders share their insights on topics from green infrastructure to zero waste to sustainable housing.  \nThroughout the program we practice skills of communication for effective advocacy and collaboration. \nVia Zoom\, with field trip Jan 3 and an optional outing \nCost: $80; Sustainable Tucson members $60; students $30; scholarships on request\n \nFacilitators:  Laura Key & Stuart Moody\nInfo: Write to laura@sustainabletucson.org\n \nREGISTER HERE
URL:https://www.tucsonpeacecalendar.org/event/ambassadors-of-sustainability-training-5/
LOCATION:via Zoom
CATEGORIES:Workshops and Training
END:VEVENT
END:VCALENDAR