BEGIN:VCALENDAR
VERSION:2.0
PRODID:-//Tucson Peace Center - ECPv6.15.20//NONSGML v1.0//EN
CALSCALE:GREGORIAN
METHOD:PUBLISH
X-ORIGINAL-URL:https://www.tucsonpeacecalendar.org
X-WR-CALDESC:Events for Tucson Peace Center
REFRESH-INTERVAL;VALUE=DURATION:PT1H
X-Robots-Tag:noindex
X-PUBLISHED-TTL:PT1H
BEGIN:VTIMEZONE
TZID:America/Phoenix
BEGIN:STANDARD
TZOFFSETFROM:-0700
TZOFFSETTO:-0700
TZNAME:MST
DTSTART:20250101T000000
END:STANDARD
END:VTIMEZONE
BEGIN:VEVENT
DTSTART;TZID=America/Phoenix:20260119T100000
DTEND;TZID=America/Phoenix:20260119T150000
DTSTAMP:20260421T052817
CREATED:20260115T180903Z
LAST-MODIFIED:20260115T180903Z
UID:19855-1768816800-1768834800@www.tucsonpeacecalendar.org
SUMMARY:SPEAK Animal Rights Educational Exhibit at Tucson MLK Celebration
DESCRIPTION:Monday\, 1/19/26                                 10 A.M. – 3 P.M.\nSPEAK will present its animal rights educational exhibit at the Tucson MLK Celebration Festival.\nLocation: DeMeester Outdoor Performance Center in Reid Park\nContact #: 981-7416 (no text)
URL:https://www.tucsonpeacecalendar.org/event/speak-animal-rights-educational-exhibit-at-tucson-mlk-celebration/
LOCATION:Reid Park\, Tucson\, AZ\, United States
CATEGORIES:Other
END:VEVENT
BEGIN:VEVENT
DTSTART;TZID=America/Phoenix:20260122T160000
DTEND;TZID=America/Phoenix:20260122T173000
DTSTAMP:20260421T052817
CREATED:20260115T183047Z
LAST-MODIFIED:20260115T183047Z
UID:19860-1769097600-1769103000@www.tucsonpeacecalendar.org
SUMMARY:SPEAK Protest Against Animal Kingdom for Sourcing Dogs from Puppy Mills
DESCRIPTION:Thursday\, 1/22/26                               4 P.M. – 5:30 P.M.\nSPEAK has scheduled a protest against Animal Kingdom for sourcing dogs from puppy mills\nLocation: Both east entrances to Tucson Mall property; north and west of Wetmore/Stone intersection.\nSignage provided on-site.\nContact #: 981-7416 (no text)
URL:https://www.tucsonpeacecalendar.org/event/speak-protest-against-animal-kingdom-for-sourcing-dogs-from-puppy-mills/
LOCATION:Both east entrances to Tucson Mall property\, (north and west of Stone/Wetmore intersection)\, Tucson\, AZ
CATEGORIES:Actions and Protests
END:VEVENT
BEGIN:VEVENT
DTSTART;TZID=America/Phoenix:20260128T163000
DTEND;TZID=America/Phoenix:20260128T180000
DTSTAMP:20260421T052817
CREATED:20260115T183418Z
LAST-MODIFIED:20260115T183418Z
UID:19862-1769617800-1769623200@www.tucsonpeacecalendar.org
SUMMARY:SPEAK Protest Against Urban Outfitters' Use of Animal Products in Its Apparel Line
DESCRIPTION:Wednesday\, 1/28/26                               4:30 P.M. – 6 P.M.\nSPEAK has scheduled a protest against Urban Outfitters’ use of animal products in its apparel line.\n(I.e.\, wool\, alpaca\, mohair\, cashmere\, down\, leather\, & silk.) Visit: https://headlines.peta.org/urban-outfitters/\nLocation: 901 E. University Blvd. (at Tyndall Ave.)\nSignage provided on-site.\nContact #: 981-7416 (no text)
URL:https://www.tucsonpeacecalendar.org/event/speak-protest-against-urban-outfitters-use-of-animal-products-in-its-apparel-line/
LOCATION:Urban Outfitters\, 901 E. University Blvd.\, Tucson\, AZ
CATEGORIES:Actions and Protests
END:VEVENT
END:VCALENDAR