BEGIN:VCALENDAR
VERSION:2.0
PRODID:-//Tucson Peace Center - ECPv6.15.20//NONSGML v1.0//EN
CALSCALE:GREGORIAN
METHOD:PUBLISH
X-WR-CALNAME:Tucson Peace Center
X-ORIGINAL-URL:https://www.tucsonpeacecalendar.org
X-WR-CALDESC:Events for Tucson Peace Center
REFRESH-INTERVAL;VALUE=DURATION:PT1H
X-Robots-Tag:noindex
X-PUBLISHED-TTL:PT1H
BEGIN:VTIMEZONE
TZID:America/Phoenix
BEGIN:STANDARD
TZOFFSETFROM:-0700
TZOFFSETTO:-0700
TZNAME:MST
DTSTART:20250101T000000
END:STANDARD
END:VTIMEZONE
BEGIN:VEVENT
DTSTART;TZID=America/Phoenix:20260301T160000
DTEND;TZID=America/Phoenix:20260301T180000
DTSTAMP:20260421T083126
CREATED:20260212T191638Z
LAST-MODIFIED:20260212T191638Z
UID:20157-1772380800-1772388000@www.tucsonpeacecalendar.org
SUMMARY:Southern Arizona Senior Pride Trans Elder Group
DESCRIPTION:Trans Elder Group\n03/01\, 4:00 – 6:00 PM\nLocation provided after registration. \nDescription: All transgender and non-binary adults ages 55+ looking for a safe space to talk with peers are encouraged to join us on the first Sunday of every month! This support group is a collaboration between Southern Arizona Senior Pride and Fluxx Productions. \nSeries Link:\nhttps://soazseniorpride.org/series/trans-elder-group/\nRegistration Link:\nhttps://soazseniorpride.org/event/trans-elder-group/2026-03-01/
URL:https://www.tucsonpeacecalendar.org/event/southern-arizona-senior-pride-trans-elder-group/
CATEGORIES:Other
END:VEVENT
BEGIN:VEVENT
DTSTART;TZID=America/Phoenix:20260303T100000
DTEND;TZID=America/Phoenix:20260303T120000
DTSTAMP:20260421T083126
CREATED:20260212T183828Z
LAST-MODIFIED:20260212T183828Z
UID:20148-1772532000-1772539200@www.tucsonpeacecalendar.org
SUMMARY:Southern Arizona Senior Pride Advance Medical Care Planning Workshop
DESCRIPTION:Advance Medical Care Planning Workshop\n03/03\, 10:00 AM – 12:00 PM\nLocation: St. Francis in the Foothills UMC (4625 E River Rd. Tucson\, AZ 85718) \nDescription: Senior Pride provides support to LGBTQI+ adults ages 55+ for advance medical care planning. Our goal is to encourage each of us to talk about and document what’s important so that we can live well and end well. \nSenior Pride’s free community workshops offer education and insight about advance healthcare topics like power of attorney and living wills and provide necessary legal documents. \nThis workshop is followed up by Meet & Complete Sessions\, where you can get one-on-one help completing the forms. \nSeries Link:\nhttps://soazseniorpride.org/series/advance-medical-care-planning/ \nRegistration Link:\nhttps://soazseniorpride.org/event/amcp-workshop-2026-03-03/ \nAdvance Medical Care Planning Meet & Complete Session\n03/17\, 03/24\, 10:00 AM – 12:00 PM\nLocation: St. Francis in the Foothills UMC (4625 E River Rd. Tucson\, AZ 85718) \nDescription: After attending Senior Pride’s Advance Medical Care Planning Workshop\, stop by one of our Meet & Complete Sessions to receive one-on-one help completing the forms.  \nSeries Link:\nhttps://soazseniorpride.org/series/advance-medical-care-planning/ \nRegistration Links:\nhttps://soazseniorpride.org/event/amcp-meet-and-complete-2026-03-17/\nhttps://soazseniorpride.org/event/amcp-meet-and-complete-2026-03-24/
URL:https://www.tucsonpeacecalendar.org/event/southern-arizona-senior-pride-advance-medical-care-planning-workshop/
LOCATION:St. Francis in the Foothills UMC\, 4625 E River Rd.\, Tucson\, AZ
CATEGORIES:Workshops and Training
END:VEVENT
BEGIN:VEVENT
DTSTART;TZID=America/Phoenix:20260308T160000
DTEND;TZID=America/Phoenix:20260308T180000
DTSTAMP:20260421T083126
CREATED:20260212T192030Z
LAST-MODIFIED:20260212T192030Z
UID:20159-1772985600-1772992800@www.tucsonpeacecalendar.org
SUMMARY:You Are Not Alone: Trans Grief Support
DESCRIPTION:You Are Not Alone: Trans Grief Support\n03/08\, 4:00 – 6:00 PM\nLocation provided after registration. \nDescription: Grief touches all of us—and in our LGBTQI+ communities\, that grief is often intensified by isolation\, discrimination\, and the lack of safe\, affirming spaces. \nSenior Pride and Fluxx have partnered to establish a supportive\, intergenerational grief group for transgender and non-binary adults (age 18+) navigating all forms of loss—especially during these uncertain times. This group meets on the 2nd Sunday of every month. \nThis space is designed for connection\, being witnessed without judgment\, and healing. Facilitated by members of Senior Pride and Fluxx\, and grounded in compassion\, this peer-led group welcomes transgender and non-binary adults from all generations and backgrounds. \nCome as you are. Whether you are deep in your grief or just beginning to unpack it\, you are welcome and safe here. \nSeries Link:\nhttps://soazseniorpride.org/series/you-are-not-alone-trans-grief-support/\nRegistration Link:\nhttps://soazseniorpride.org/event/trans-grief-support/2026-03-08/
URL:https://www.tucsonpeacecalendar.org/event/you-are-not-alone-trans-grief-support-3/
CATEGORIES:Other
END:VEVENT
BEGIN:VEVENT
DTSTART;TZID=America/Phoenix:20260318T140000
DTEND;TZID=America/Phoenix:20260318T153000
DTSTAMP:20260421T083126
CREATED:20260212T185852Z
LAST-MODIFIED:20260212T185852Z
UID:20153-1773842400-1773847800@www.tucsonpeacecalendar.org
SUMMARY:Southern Arizona Senior Pride Book Club
DESCRIPTION:Senior Pride Book Club\n03/18\, 2:00 -3:30 PM\nLocation: We meet virtually. Zoom link provided after registration. \nDescription: All LGBTQI+ adults ages 55+ are invited to join us on Zoom to discuss the Book Club selection of the month. \nSeries Link:\nhttps://soazseniorpride.org/series/senior-pride-book-club/\nRegistration Link:\nhttps://soazseniorpride.org/event/senior-pride-book-club-2026-03-18/
URL:https://www.tucsonpeacecalendar.org/event/southern-arizona-senior-pride-book-club/
LOCATION:via Zoom
CATEGORIES:Book Group
END:VEVENT
BEGIN:VEVENT
DTSTART;TZID=America/Phoenix:20260321T100000
DTEND;TZID=America/Phoenix:20260321T113000
DTSTAMP:20260421T083126
CREATED:20260212T184451Z
LAST-MODIFIED:20260212T184451Z
UID:20151-1774087200-1774092600@www.tucsonpeacecalendar.org
SUMMARY:Southern Arizona Senior Pride Gathering in Himmel Park
DESCRIPTION:Gathering in Himmel Park\nMonthly on 3rd Saturday\n03/21\, 10:00 – 11:30 AM\nLocation: Himmel Park (1035 N Treat Ave. Tucson\, AZ 85716) \nDescription: LGBTQI+ adults ages 55+ are invited to get together with us on the third Saturday of every month at Himmel Park to chat with friends in the beautiful outdoors. Won’t you stop by and join us? Bring a chair and your favorite morning snack and beverage! \nSeries Link:\nhttps://soazseniorpride.org/series/gathering-in-himmel-park-2/ \nRegistration Link:\nhttps://soazseniorpride.org/event/gathering-in-himmel-park/2026-03-21/
URL:https://www.tucsonpeacecalendar.org/event/southern-arizona-senior-pride-gathering-in-himmel-park-5/
LOCATION:Himmel Park\, E. 1st Street between Tucson and Treat\, Tucson\, AZ\, United States
CATEGORIES:Other
END:VEVENT
BEGIN:VEVENT
DTSTART;TZID=America/Phoenix:20260321T120000
DTEND;TZID=America/Phoenix:20260321T140000
DTSTAMP:20260421T083126
CREATED:20260212T191234Z
LAST-MODIFIED:20260218T201302Z
UID:20155-1774094400-1774101600@www.tucsonpeacecalendar.org
SUMMARY:Southern Arizona Senior Pride Monthly Potluck
DESCRIPTION:Senior Pride Monthly Potluck\nUsually on Last Saturday but rescheduled in March\n03/21\, 12:00 – 2:00 PM\nLocation: St. Francis in the Foothills UMC (4625 E River Rd. Tucson\, AZ 85718) \nDescription: All LGBTQI+ adults ages 55+ are invited to join us at our monthly potluck for great food and even better conversation. Bring a dish to share or just come enjoy what others have cooked up!  \nSeries Link:\nhttps://soazseniorpride.org/series/monthly-potluck/\nRegistration Link:\nhttps://soazseniorpride.org/event/potluck-2026-03-21/
URL:https://www.tucsonpeacecalendar.org/event/southern-arizona-senior-pride-monthly-potluck/
LOCATION:St. Francis in the Foothills UMC\, 4625 E River Rd.\, Tucson\, AZ
CATEGORIES:Food, Dinners and Potlucks
END:VEVENT
END:VCALENDAR