BEGIN:VCALENDAR
VERSION:2.0
PRODID:-//Tucson Peace Center - ECPv6.15.20//NONSGML v1.0//EN
CALSCALE:GREGORIAN
METHOD:PUBLISH
X-WR-CALNAME:Tucson Peace Center
X-ORIGINAL-URL:https://www.tucsonpeacecalendar.org
X-WR-CALDESC:Events for Tucson Peace Center
REFRESH-INTERVAL;VALUE=DURATION:PT1H
X-Robots-Tag:noindex
X-PUBLISHED-TTL:PT1H
BEGIN:VTIMEZONE
TZID:America/Phoenix
BEGIN:STANDARD
TZOFFSETFROM:-0700
TZOFFSETTO:-0700
TZNAME:MST
DTSTART:20250101T000000
END:STANDARD
END:VTIMEZONE
BEGIN:VEVENT
DTSTART;TZID=America/Phoenix:20260516T080000
DTEND;TZID=America/Phoenix:20260516T100000
DTSTAMP:20260421T035529
CREATED:20260419T201128Z
LAST-MODIFIED:20260419T201128Z
UID:21064-1778918400-1778925600@www.tucsonpeacecalendar.org
SUMMARY:Really Really Free Market in Himmel Park
DESCRIPTION:Really Really Free Market — Cash-Free Community Sharing Event.\n3rd Saturday\, 8:00-10:00AM\nHimmel Park\, east of tennis courts; E 1st Street between Tucson & Treat. \nMore Info: Carol at clhintucson@gmail.com
URL:https://www.tucsonpeacecalendar.org/event/really-really-free-market-in-himmel-park-5/
LOCATION:Himmel Park\, E. 1st Street between Tucson and Treat\, Tucson\, AZ\, United States
CATEGORIES:Other
END:VEVENT
END:VCALENDAR