BEGIN:VCALENDAR
VERSION:2.0
PRODID:-//Tucson Peace Center - ECPv6.15.20//NONSGML v1.0//EN
CALSCALE:GREGORIAN
METHOD:PUBLISH
X-ORIGINAL-URL:https://www.tucsonpeacecalendar.org
X-WR-CALDESC:Events for Tucson Peace Center
REFRESH-INTERVAL;VALUE=DURATION:PT1H
X-Robots-Tag:noindex
X-PUBLISHED-TTL:PT1H
BEGIN:VTIMEZONE
TZID:America/Phoenix
BEGIN:STANDARD
TZOFFSETFROM:-0700
TZOFFSETTO:-0700
TZNAME:MST
DTSTART:20250101T000000
END:STANDARD
END:VTIMEZONE
BEGIN:VEVENT
DTSTART;TZID=America/Phoenix:20260423T190000
DTEND;TZID=America/Phoenix:20260423T203000
DTSTAMP:20260421T064313
CREATED:20260318T201843Z
LAST-MODIFIED:20260318T201843Z
UID:20737-1776970800-1776976200@www.tucsonpeacecalendar.org
SUMMARY:Jobs with Justice Meeting
DESCRIPTION:Jobs with Justice Meeting \n2nd and 4th Thursdays\, 7–8:30PM.  \nIf you want to receive the meeting agenda and details\, send a message to steven_valencia_5@hotmail.com. Questions? Call 241-2730.
URL:https://www.tucsonpeacecalendar.org/event/jobs-with-justice-meeting-2/
CATEGORIES:Organization Meetings
END:VEVENT
END:VCALENDAR