BEGIN:VCALENDAR
VERSION:2.0
PRODID:-//Tucson Peace Center - ECPv6.15.20//NONSGML v1.0//EN
CALSCALE:GREGORIAN
METHOD:PUBLISH
X-WR-CALNAME:Tucson Peace Center
X-ORIGINAL-URL:https://www.tucsonpeacecalendar.org
X-WR-CALDESC:Events for Tucson Peace Center
REFRESH-INTERVAL;VALUE=DURATION:PT1H
X-Robots-Tag:noindex
X-PUBLISHED-TTL:PT1H
BEGIN:VTIMEZONE
TZID:America/Phoenix
BEGIN:STANDARD
TZOFFSETFROM:-0700
TZOFFSETTO:-0700
TZNAME:MST
DTSTART:20250101T000000
END:STANDARD
END:VTIMEZONE
BEGIN:VEVENT
DTSTART;TZID=America/Phoenix:20260424T080000
DTEND;TZID=America/Phoenix:20260424T110000
DTSTAMP:20260421T032916
CREATED:20260416T185641Z
LAST-MODIFIED:20260416T185641Z
UID:20894-1777017600-1777028400@www.tucsonpeacecalendar.org
SUMMARY:Harvesters Needed! Iskashitaa Refugee Network Needs Help
DESCRIPTION:Harvesters needed! Iskashitaa Refugee Network gleans fruit by request from homeowners and businesses to promote food security\, prevent food waste and protect our landfill. \nDuring April\, on Friday and Saturday mornings from 8:00-11:00 a.m.\, we go out as a group and pick. We need you! Please sign up here: https://www.iskashitaa.org/helpusharvest \nIf you want Iskashitaa to pick your fruit\, donate here: https://www.iskashitaa.org/donate-your-fruit or call us at 520-440-0100
URL:https://www.tucsonpeacecalendar.org/event/harvesters-needed-iskashitaa-refugee-network-needs-help-21/
CATEGORIES:Other
END:VEVENT
BEGIN:VEVENT
DTSTART;TZID=America/Phoenix:20260425T080000
DTEND;TZID=America/Phoenix:20260425T110000
DTSTAMP:20260421T032916
CREATED:20260416T185729Z
LAST-MODIFIED:20260416T185729Z
UID:20896-1777104000-1777114800@www.tucsonpeacecalendar.org
SUMMARY:Harvesters Needed! Iskashitaa Refugee Network Needs Help
DESCRIPTION:Harvesters needed! Iskashitaa Refugee Network gleans fruit by request from homeowners and businesses to promote food security\, prevent food waste and protect our landfill. \nDuring April\, on Friday and Saturday mornings from 8:00-11:00 a.m.\, we go out as a group and pick. We need you! Please sign up here: https://www.iskashitaa.org/helpusharvest \nIf you want Iskashitaa to pick your fruit\, donate here: https://www.iskashitaa.org/donate-your-fruit or call us at 520-440-0100
URL:https://www.tucsonpeacecalendar.org/event/harvesters-needed-iskashitaa-refugee-network-needs-help-22/
CATEGORIES:Other
END:VEVENT
END:VCALENDAR