BEGIN:VCALENDAR
VERSION:2.0
PRODID:-//Tucson Peace Center - ECPv6.15.20//NONSGML v1.0//EN
CALSCALE:GREGORIAN
METHOD:PUBLISH
X-ORIGINAL-URL:https://www.tucsonpeacecalendar.org
X-WR-CALDESC:Events for Tucson Peace Center
REFRESH-INTERVAL;VALUE=DURATION:PT1H
X-Robots-Tag:noindex
X-PUBLISHED-TTL:PT1H
BEGIN:VTIMEZONE
TZID:America/Phoenix
BEGIN:STANDARD
TZOFFSETFROM:-0700
TZOFFSETTO:-0700
TZNAME:MST
DTSTART:20250101T000000
END:STANDARD
END:VTIMEZONE
BEGIN:VEVENT
DTSTART;TZID=America/Phoenix:20260302T090000
DTEND;TZID=America/Phoenix:20260302T120000
DTSTAMP:20260421T050834
CREATED:20260217T030508Z
LAST-MODIFIED:20260217T030551Z
UID:20353-1772442000-1772452800@www.tucsonpeacecalendar.org
SUMMARY:Harvesters Needed! Iskashitaa Refugee Network Needs Help
DESCRIPTION:Harvesters needed! Iskashitaa Refugee Network gleans fruit by request from homeowners and businesses to promote food security\, prevent food waste and protect our landfill. \nEvery Monday and Friday morning\, beginning at 9:00 a.m.\, we go out as a group and pick. We need you! Please sign up here: https://www.iskashitaa.org/helpusharvest \nIf you want Iskashitaa to pick your fruit\, donate here: https://www.iskashitaa.org/donate-your-fruit or call us at 520-440-0100
URL:https://www.tucsonpeacecalendar.org/event/harvesters-needed-iskashitaa-refugee-network-needs-help-10/
CATEGORIES:Other
END:VEVENT
BEGIN:VEVENT
DTSTART;TZID=America/Phoenix:20260306T090000
DTEND;TZID=America/Phoenix:20260306T120000
DTSTAMP:20260421T050834
CREATED:20260217T030753Z
LAST-MODIFIED:20260217T030753Z
UID:20355-1772787600-1772798400@www.tucsonpeacecalendar.org
SUMMARY:Harvesters Needed! Iskashitaa Refugee Network Needs Help
DESCRIPTION:Harvesters needed! Iskashitaa Refugee Network gleans fruit by request from homeowners and businesses to promote food security\, prevent food waste and protect our landfill. \nEvery Monday and Friday morning\, beginning at 9:00 a.m.\, we go out as a group and pick. We need you! Please sign up here: https://www.iskashitaa.org/helpusharvest \nIf you want Iskashitaa to pick your fruit\, donate here: https://www.iskashitaa.org/donate-your-fruit or call us at 520-440-0100
URL:https://www.tucsonpeacecalendar.org/event/harvesters-needed-iskashitaa-refugee-network-needs-help-11/
CATEGORIES:Other
END:VEVENT
BEGIN:VEVENT
DTSTART;TZID=America/Phoenix:20260309T090000
DTEND;TZID=America/Phoenix:20260309T120000
DTSTAMP:20260421T050834
CREATED:20260217T030913Z
LAST-MODIFIED:20260217T030913Z
UID:20357-1773046800-1773057600@www.tucsonpeacecalendar.org
SUMMARY:Harvesters Needed! Iskashitaa Refugee Network Needs Help
DESCRIPTION:Harvesters needed! Iskashitaa Refugee Network gleans fruit by request from homeowners and businesses to promote food security\, prevent food waste and protect our landfill. \nEvery Monday and Friday morning\, beginning at 9:00 a.m.\, we go out as a group and pick. We need you! Please sign up here: https://www.iskashitaa.org/helpusharvest \nIf you want Iskashitaa to pick your fruit\, donate here: https://www.iskashitaa.org/donate-your-fruit or call us at 520-440-0100
URL:https://www.tucsonpeacecalendar.org/event/harvesters-needed-iskashitaa-refugee-network-needs-help-12/
CATEGORIES:Other
END:VEVENT
BEGIN:VEVENT
DTSTART;TZID=America/Phoenix:20260313T090000
DTEND;TZID=America/Phoenix:20260313T120000
DTSTAMP:20260421T050834
CREATED:20260217T031014Z
LAST-MODIFIED:20260217T031014Z
UID:20359-1773392400-1773403200@www.tucsonpeacecalendar.org
SUMMARY:Harvesters Needed! Iskashitaa Refugee Network Needs Help
DESCRIPTION:Harvesters needed! Iskashitaa Refugee Network gleans fruit by request from homeowners and businesses to promote food security\, prevent food waste and protect our landfill. \nEvery Monday and Friday morning\, beginning at 9:00 a.m.\, we go out as a group and pick. We need you! Please sign up here: https://www.iskashitaa.org/helpusharvest \nIf you want Iskashitaa to pick your fruit\, donate here: https://www.iskashitaa.org/donate-your-fruit or call us at 520-440-0100
URL:https://www.tucsonpeacecalendar.org/event/harvesters-needed-iskashitaa-refugee-network-needs-help-13/
CATEGORIES:Other
END:VEVENT
BEGIN:VEVENT
DTSTART;TZID=America/Phoenix:20260316T090000
DTEND;TZID=America/Phoenix:20260316T120000
DTSTAMP:20260421T050834
CREATED:20260217T031121Z
LAST-MODIFIED:20260217T031121Z
UID:20361-1773651600-1773662400@www.tucsonpeacecalendar.org
SUMMARY:Harvesters Needed! Iskashitaa Refugee Network Needs Help
DESCRIPTION:Harvesters needed! Iskashitaa Refugee Network gleans fruit by request from homeowners and businesses to promote food security\, prevent food waste and protect our landfill. \nEvery Monday and Friday morning\, beginning at 9:00 a.m.\, we go out as a group and pick. We need you! Please sign up here: https://www.iskashitaa.org/helpusharvest \nIf you want Iskashitaa to pick your fruit\, donate here: https://www.iskashitaa.org/donate-your-fruit or call us at 520-440-0100
URL:https://www.tucsonpeacecalendar.org/event/harvesters-needed-iskashitaa-refugee-network-needs-help-14/
CATEGORIES:Other
END:VEVENT
BEGIN:VEVENT
DTSTART;TZID=America/Phoenix:20260320T090000
DTEND;TZID=America/Phoenix:20260320T120000
DTSTAMP:20260421T050834
CREATED:20260217T031211Z
LAST-MODIFIED:20260217T031211Z
UID:20363-1773997200-1774008000@www.tucsonpeacecalendar.org
SUMMARY:Harvesters Needed! Iskashitaa Refugee Network Needs Help
DESCRIPTION:Harvesters needed! Iskashitaa Refugee Network gleans fruit by request from homeowners and businesses to promote food security\, prevent food waste and protect our landfill. \nEvery Monday and Friday morning\, beginning at 9:00 a.m.\, we go out as a group and pick. We need you! Please sign up here: https://www.iskashitaa.org/helpusharvest \nIf you want Iskashitaa to pick your fruit\, donate here: https://www.iskashitaa.org/donate-your-fruit or call us at 520-440-0100
URL:https://www.tucsonpeacecalendar.org/event/harvesters-needed-iskashitaa-refugee-network-needs-help-15/
CATEGORIES:Other
END:VEVENT
BEGIN:VEVENT
DTSTART;TZID=America/Phoenix:20260323T090000
DTEND;TZID=America/Phoenix:20260323T120000
DTSTAMP:20260421T050834
CREATED:20260217T031353Z
LAST-MODIFIED:20260217T031728Z
UID:20365-1774256400-1774267200@www.tucsonpeacecalendar.org
SUMMARY:Harvesters Needed! Iskashitaa Refugee Network Needs Help
DESCRIPTION:Harvesters needed! Iskashitaa Refugee Network gleans fruit by request from homeowners and businesses to promote food security\, prevent food waste and protect our landfill. \nEvery Monday and Friday morning\, beginning at 9:00 a.m.\, we go out as a group and pick. We need you! Please sign up here: https://www.iskashitaa.org/helpusharvest \nIf you want Iskashitaa to pick your fruit\, donate here: https://www.iskashitaa.org/donate-your-fruit or call us at 520-440-0100
URL:https://www.tucsonpeacecalendar.org/event/harvesters-needed-iskashitaa-refugee-network-needs-help-16/
CATEGORIES:Other
END:VEVENT
BEGIN:VEVENT
DTSTART;TZID=America/Phoenix:20260327T090000
DTEND;TZID=America/Phoenix:20260327T120000
DTSTAMP:20260421T050834
CREATED:20260217T031848Z
LAST-MODIFIED:20260217T031848Z
UID:20368-1774602000-1774612800@www.tucsonpeacecalendar.org
SUMMARY:Harvesters Needed! Iskashitaa Refugee Network Needs Help
DESCRIPTION:Harvesters needed! Iskashitaa Refugee Network gleans fruit by request from homeowners and businesses to promote food security\, prevent food waste and protect our landfill. \nEvery Monday and Friday morning\, beginning at 9:00 a.m.\, we go out as a group and pick. We need you! Please sign up here: https://www.iskashitaa.org/helpusharvest \nIf you want Iskashitaa to pick your fruit\, donate here: https://www.iskashitaa.org/donate-your-fruit or call us at 520-440-0100
URL:https://www.tucsonpeacecalendar.org/event/harvesters-needed-iskashitaa-refugee-network-needs-help-17/
CATEGORIES:Other
END:VEVENT
BEGIN:VEVENT
DTSTART;TZID=America/Phoenix:20260330T090000
DTEND;TZID=America/Phoenix:20260330T120000
DTSTAMP:20260421T050834
CREATED:20260217T031958Z
LAST-MODIFIED:20260217T031958Z
UID:20370-1774861200-1774872000@www.tucsonpeacecalendar.org
SUMMARY:Harvesters Needed! Iskashitaa Refugee Network Needs Help
DESCRIPTION:Harvesters needed! Iskashitaa Refugee Network gleans fruit by request from homeowners and businesses to promote food security\, prevent food waste and protect our landfill. \nEvery Monday and Friday morning\, beginning at 9:00 a.m.\, we go out as a group and pick. We need you! Please sign up here: https://www.iskashitaa.org/helpusharvest \nIf you want Iskashitaa to pick your fruit\, donate here: https://www.iskashitaa.org/donate-your-fruit or call us at 520-440-0100
URL:https://www.tucsonpeacecalendar.org/event/harvesters-needed-iskashitaa-refugee-network-needs-help-18/
CATEGORIES:Other
END:VEVENT
END:VCALENDAR