BEGIN:VCALENDAR
VERSION:2.0
PRODID:-//Tucson Peace Center - ECPv6.15.20//NONSGML v1.0//EN
CALSCALE:GREGORIAN
METHOD:PUBLISH
X-WR-CALNAME:Tucson Peace Center
X-ORIGINAL-URL:https://www.tucsonpeacecalendar.org
X-WR-CALDESC:Events for Tucson Peace Center
REFRESH-INTERVAL;VALUE=DURATION:PT1H
X-Robots-Tag:noindex
X-PUBLISHED-TTL:PT1H
BEGIN:VTIMEZONE
TZID:America/Phoenix
BEGIN:STANDARD
TZOFFSETFROM:-0700
TZOFFSETTO:-0700
TZNAME:MST
DTSTART:20250101T000000
END:STANDARD
END:VTIMEZONE
BEGIN:VEVENT
DTSTART;TZID=America/Phoenix:20260206T090000
DTEND;TZID=America/Phoenix:20260206T120000
DTSTAMP:20260421T064122
CREATED:20260120T181126Z
LAST-MODIFIED:20260120T181126Z
UID:20030-1770368400-1770379200@www.tucsonpeacecalendar.org
SUMMARY:Harvesters Needed! Iskashitaa Refugee Network Needs Help
DESCRIPTION:Harvesters needed! Iskashitaa Refugee Network gleans fruit by request from homeowners and businesses to promote food security\, prevent food waste and protect our landfill. \nEvery Friday morning\, beginning at 9:00 a.m.\, we go out as a group and pick. We need you! Please sign up here: https://www.iskashitaa.org/helpusharvest \nIf you want Iskashitaa to pick your fruit\, donate here: https://www.iskashitaa.org/donate-your-fruit or call us at 520-440-0100
URL:https://www.tucsonpeacecalendar.org/event/harvesters-needed-iskashitaa-refugee-network-needs-help-6/
CATEGORIES:Other
END:VEVENT
BEGIN:VEVENT
DTSTART;TZID=America/Phoenix:20260213T090000
DTEND;TZID=America/Phoenix:20260213T120000
DTSTAMP:20260421T064122
CREATED:20260120T181214Z
LAST-MODIFIED:20260120T181214Z
UID:20032-1770973200-1770984000@www.tucsonpeacecalendar.org
SUMMARY:Harvesters Needed! Iskashitaa Refugee Network Needs Help
DESCRIPTION:Harvesters needed! Iskashitaa Refugee Network gleans fruit by request from homeowners and businesses to promote food security\, prevent food waste and protect our landfill. \nEvery Friday morning\, beginning at 9:00 a.m.\, we go out as a group and pick. We need you! Please sign up here: https://www.iskashitaa.org/helpusharvest \nIf you want Iskashitaa to pick your fruit\, donate here: https://www.iskashitaa.org/donate-your-fruit or call us at 520-440-0100
URL:https://www.tucsonpeacecalendar.org/event/harvesters-needed-iskashitaa-refugee-network-needs-help-7/
CATEGORIES:Other
END:VEVENT
BEGIN:VEVENT
DTSTART;TZID=America/Phoenix:20260220T090000
DTEND;TZID=America/Phoenix:20260220T120000
DTSTAMP:20260421T064122
CREATED:20260120T181327Z
LAST-MODIFIED:20260120T181327Z
UID:20034-1771578000-1771588800@www.tucsonpeacecalendar.org
SUMMARY:Harvesters Needed! Iskashitaa Refugee Network Needs Help
DESCRIPTION:Harvesters needed! Iskashitaa Refugee Network gleans fruit by request from homeowners and businesses to promote food security\, prevent food waste and protect our landfill. \nEvery Friday morning\, beginning at 9:00 a.m.\, we go out as a group and pick. We need you! Please sign up here: https://www.iskashitaa.org/helpusharvest \nIf you want Iskashitaa to pick your fruit\, donate here: https://www.iskashitaa.org/donate-your-fruit or call us at 520-440-0100
URL:https://www.tucsonpeacecalendar.org/event/harvesters-needed-iskashitaa-refugee-network-needs-help-8/
CATEGORIES:Other
END:VEVENT
BEGIN:VEVENT
DTSTART;TZID=America/Phoenix:20260227T090000
DTEND;TZID=America/Phoenix:20260227T120000
DTSTAMP:20260421T064122
CREATED:20260120T181413Z
LAST-MODIFIED:20260120T181413Z
UID:20036-1772182800-1772193600@www.tucsonpeacecalendar.org
SUMMARY:Harvesters Needed! Iskashitaa Refugee Network Needs Help
DESCRIPTION:Harvesters needed! Iskashitaa Refugee Network gleans fruit by request from homeowners and businesses to promote food security\, prevent food waste and protect our landfill. \nEvery Friday morning\, beginning at 9:00 a.m.\, we go out as a group and pick. We need you! Please sign up here: https://www.iskashitaa.org/helpusharvest \nIf you want Iskashitaa to pick your fruit\, donate here: https://www.iskashitaa.org/donate-your-fruit or call us at 520-440-0100
URL:https://www.tucsonpeacecalendar.org/event/harvesters-needed-iskashitaa-refugee-network-needs-help-9/
CATEGORIES:Other
END:VEVENT
END:VCALENDAR