BEGIN:VCALENDAR
VERSION:2.0
PRODID:-//Tucson Peace Center - ECPv6.15.20//NONSGML v1.0//EN
CALSCALE:GREGORIAN
METHOD:PUBLISH
X-ORIGINAL-URL:https://www.tucsonpeacecalendar.org
X-WR-CALDESC:Events for Tucson Peace Center
REFRESH-INTERVAL;VALUE=DURATION:PT1H
X-Robots-Tag:noindex
X-PUBLISHED-TTL:PT1H
BEGIN:VTIMEZONE
TZID:America/Phoenix
BEGIN:STANDARD
TZOFFSETFROM:-0700
TZOFFSETTO:-0700
TZNAME:MST
DTSTART:20250101T000000
END:STANDARD
END:VTIMEZONE
BEGIN:VEVENT
DTSTART;TZID=America/Phoenix:20260322T130000
DTEND;TZID=America/Phoenix:20260322T170000
DTSTAMP:20260421T110429
CREATED:20260311T183403Z
LAST-MODIFIED:20260311T183403Z
UID:20507-1774184400-1774198800@www.tucsonpeacecalendar.org
SUMMARY:Good Trouble Action Group Nonviolence Direct Action Training
DESCRIPTION:Sunday March 22\, 2026: “Never be afraid to make some noise and get in good trouble\, necessary trouble”! Nonviolence Direct Action Training conducted by the Good Trouble Action Group at Grace-St.Paul’s Episcopal Church…Earth Justice-Migrant Justice-Social Justice\, 2331 East Adams Street\, from 1-5 pm. Training includes principles and practice of Gandhian/Kingian Nonviolence\, the power of sacrifice to achieve just goals\, tactical and moral motivations\, history of efficacy of nonviolence campaigns\, nonviolence behavior and emotional regulation\, and nonviolent civil resistance action scenarios with role plays relevant to the present situation. \nSign Up: http://tinyurl.com/NonviolenceTrainingSignUP
URL:https://www.tucsonpeacecalendar.org/event/good-trouble-action-group-nonviolence-direct-action-training/
LOCATION:Grace St. Paul Episcopal Church\, 2331 E Adams St.\, Tucson\, AZ
CATEGORIES:Workshops and Training
END:VEVENT
END:VCALENDAR