BEGIN:VCALENDAR
VERSION:2.0
PRODID:-//Tucson Peace Center - ECPv6.15.20//NONSGML v1.0//EN
CALSCALE:GREGORIAN
METHOD:PUBLISH
X-ORIGINAL-URL:https://www.tucsonpeacecalendar.org
X-WR-CALDESC:Events for Tucson Peace Center
REFRESH-INTERVAL;VALUE=DURATION:PT1H
X-Robots-Tag:noindex
X-PUBLISHED-TTL:PT1H
BEGIN:VTIMEZONE
TZID:America/Phoenix
BEGIN:STANDARD
TZOFFSETFROM:-0700
TZOFFSETTO:-0700
TZNAME:MST
DTSTART:20250101T000000
END:STANDARD
END:VTIMEZONE
BEGIN:VEVENT
DTSTART;TZID=America/Phoenix:20260105T120000
DTEND;TZID=America/Phoenix:20260105T130000
DTSTAMP:20260421T120628
CREATED:20251214T020342Z
LAST-MODIFIED:20251214T020342Z
UID:19676-1767614400-1767618000@www.tucsonpeacecalendar.org
SUMMARY:Democrats of Greater Tucson Weekly Forum
DESCRIPTION:Democrats of Greater Tucson Weekly Forum \nMondays\, 12:00-1:00PM\, via Zoom. Join us every Monday. \nDemocrats of Greater Tucson is Arizona’s only weekly forum for Democrats. Every meeting has speakers addressing subjects of political or community interest. More info at https://thedgt.org/
URL:https://www.tucsonpeacecalendar.org/event/democrats-of-greater-tucson-weekly-forum-5/
LOCATION:via Zoom
CATEGORIES:Speakers and Presentations
END:VEVENT
BEGIN:VEVENT
DTSTART;TZID=America/Phoenix:20260112T120000
DTEND;TZID=America/Phoenix:20260112T130000
DTSTAMP:20260421T120628
CREATED:20251214T020527Z
LAST-MODIFIED:20251214T020527Z
UID:19678-1768219200-1768222800@www.tucsonpeacecalendar.org
SUMMARY:Democrats of Greater Tucson Weekly Forum
DESCRIPTION:Democrats of Greater Tucson Weekly Forum \nMondays\, 12:00-1:00PM\, via Zoom. Join us every Monday. \nDemocrats of Greater Tucson is Arizona’s only weekly forum for Democrats. Every meeting has speakers addressing subjects of political or community interest. More info at https://thedgt.org/
URL:https://www.tucsonpeacecalendar.org/event/democrats-of-greater-tucson-weekly-forum-6/
LOCATION:via Zoom
CATEGORIES:Speakers and Presentations
END:VEVENT
BEGIN:VEVENT
DTSTART;TZID=America/Phoenix:20260119T120000
DTEND;TZID=America/Phoenix:20260119T130000
DTSTAMP:20260421T120628
CREATED:20251214T020702Z
LAST-MODIFIED:20251214T020702Z
UID:19680-1768824000-1768827600@www.tucsonpeacecalendar.org
SUMMARY:Democrats of Greater Tucson Weekly Forum
DESCRIPTION:Democrats of Greater Tucson Weekly Forum \nMondays\, 12:00-1:00PM\, via Zoom. Join us every Monday. \nDemocrats of Greater Tucson is Arizona’s only weekly forum for Democrats. Every meeting has speakers addressing subjects of political or community interest. More info at https://thedgt.org/
URL:https://www.tucsonpeacecalendar.org/event/democrats-of-greater-tucson-weekly-forum-7/
LOCATION:via Zoom
CATEGORIES:Speakers and Presentations
END:VEVENT
BEGIN:VEVENT
DTSTART;TZID=America/Phoenix:20260126T120000
DTEND;TZID=America/Phoenix:20260126T130000
DTSTAMP:20260421T120628
CREATED:20251214T020833Z
LAST-MODIFIED:20251214T020833Z
UID:19682-1769428800-1769432400@www.tucsonpeacecalendar.org
SUMMARY:Democrats of Greater Tucson Weekly Forum
DESCRIPTION:Democrats of Greater Tucson Weekly Forum \nMondays\, 12:00-1:00PM\, via Zoom. Join us every Monday. \nDemocrats of Greater Tucson is Arizona’s only weekly forum for Democrats. Every meeting has speakers addressing subjects of political or community interest. More info at https://thedgt.org/
URL:https://www.tucsonpeacecalendar.org/event/democrats-of-greater-tucson-weekly-forum-8/
LOCATION:via Zoom
CATEGORIES:Speakers and Presentations
END:VEVENT
END:VCALENDAR