BEGIN:VCALENDAR
VERSION:2.0
PRODID:-//Tucson Peace Center - ECPv6.15.20//NONSGML v1.0//EN
CALSCALE:GREGORIAN
METHOD:PUBLISH
X-ORIGINAL-URL:https://www.tucsonpeacecalendar.org
X-WR-CALDESC:Events for Tucson Peace Center
REFRESH-INTERVAL;VALUE=DURATION:PT1H
X-Robots-Tag:noindex
X-PUBLISHED-TTL:PT1H
BEGIN:VTIMEZONE
TZID:America/Phoenix
BEGIN:STANDARD
TZOFFSETFROM:-0700
TZOFFSETTO:-0700
TZNAME:MST
DTSTART:20250101T000000
END:STANDARD
END:VTIMEZONE
BEGIN:VEVENT
DTSTART;TZID=America/Phoenix:20260120T160000
DTEND;TZID=America/Phoenix:20260120T170000
DTSTAMP:20260421T125306
CREATED:20260113T192923Z
LAST-MODIFIED:20260113T193029Z
UID:19836-1768924800-1768928400@www.tucsonpeacecalendar.org
SUMMARY:Call-up Courage & Cast-out Despair: “Cacerolazo” Against Trump/ICE\, for Venezuela
DESCRIPTION:Call-up Courage & Cast-out Despair: “Cacerolazo” Against Trump/ICE\, for Venezuela\nTuesday\, January 20\, 4:15 p.m.\nLocation: Tucson Federal Building\n300 W Congress St\nOrganizer: Defend Tucson! ¡Tucson Se Defiende! (DTTSD) Coalition \nOn Tuesday\, January 20\, the end of one bad year under Trump\, we will get out our pots and pans to make some noise\, a “Cacerolazo\,” and reinvigorate ourselves for the year ahead. We will let Trump know we oppose ICE’s killing of Renee Nicole Good and so many others and his attack on Venezuela. \nWe will gather at the Federal Building at\, 4:15 pm. We will march to Veinte de Agosto Park with music at both ends. We are responding to a call for a national walkout at 2 p.m. on the anniversary of Trump’s inauguration. We encourage folks to do their own cacerolazos at 2 p.m. or other times and places\, if that makes more sense. If you plan to attend the downtown event\, set up your own cacerolazos or would like to get involved in any way\, please fill out this form.
URL:https://www.tucsonpeacecalendar.org/event/call-up-courage-cast-out-despair-cacerolazo-against-trump-ice-for-venezuela/
LOCATION:Tucson Federal Building\, 300 W. Congress\, Tucson\, AZ\, United States
CATEGORIES:Actions and Protests
END:VEVENT
END:VCALENDAR