BEGIN:VCALENDAR
VERSION:2.0
PRODID:-//Tucson Peace Center - ECPv6.15.20//NONSGML v1.0//EN
CALSCALE:GREGORIAN
METHOD:PUBLISH
X-ORIGINAL-URL:https://www.tucsonpeacecalendar.org
X-WR-CALDESC:Events for Tucson Peace Center
REFRESH-INTERVAL;VALUE=DURATION:PT1H
X-Robots-Tag:noindex
X-PUBLISHED-TTL:PT1H
BEGIN:VTIMEZONE
TZID:America/Phoenix
BEGIN:STANDARD
TZOFFSETFROM:-0700
TZOFFSETTO:-0700
TZNAME:MST
DTSTART:20250101T000000
END:STANDARD
END:VTIMEZONE
BEGIN:VEVENT
DTSTART;TZID=America/Phoenix:20260504T190000
DTEND;TZID=America/Phoenix:20260504T210000
DTSTAMP:20260421T081342
CREATED:20260419T181642Z
LAST-MODIFIED:20260419T181642Z
UID:20999-1777921200-1777928400@www.tucsonpeacecalendar.org
SUMMARY:Deconstructing Patriarchy Zoom Book Club
DESCRIPTION:Deconstructing Patriarchy Zoom Book Club \nMonday evenings from 7:00pm – 9:00pm\, ALL are welcome! \nQuestions about the group?\nContact Chuck at cwi1950@gmail.com at which time the Zoom link will be provided. \nbell hooks says “patriarchy does not have a gender” and it continues to exist because both sexes continue to participate in it. \nOne goal is to increase our awareness of how patriarchy is detrimental to humanity\, the planet and how to neutralize its nefarious effects upon us all. \nClick here for more info concerning bell hooks and patriarchy.
URL:https://www.tucsonpeacecalendar.org/event/deconstructing-patriarchy-zoom-book-club-5/
LOCATION:via Zoom
CATEGORIES:Book Group
END:VEVENT
BEGIN:VEVENT
DTSTART;TZID=America/Phoenix:20260511T190000
DTEND;TZID=America/Phoenix:20260511T210000
DTSTAMP:20260421T081342
CREATED:20260419T181803Z
LAST-MODIFIED:20260419T181803Z
UID:21001-1778526000-1778533200@www.tucsonpeacecalendar.org
SUMMARY:Deconstructing Patriarchy Zoom Book Club
DESCRIPTION:Deconstructing Patriarchy Zoom Book Club \nMonday evenings from 7:00pm – 9:00pm\, ALL are welcome! \nQuestions about the group?\nContact Chuck at cwi1950@gmail.com at which time the Zoom link will be provided. \nbell hooks says “patriarchy does not have a gender” and it continues to exist because both sexes continue to participate in it. \nOne goal is to increase our awareness of how patriarchy is detrimental to humanity\, the planet and how to neutralize its nefarious effects upon us all. \nClick here for more info concerning bell hooks and patriarchy.
URL:https://www.tucsonpeacecalendar.org/event/deconstructing-patriarchy-zoom-book-club-10/
LOCATION:via Zoom
CATEGORIES:Book Group
END:VEVENT
BEGIN:VEVENT
DTSTART;TZID=America/Phoenix:20260518T190000
DTEND;TZID=America/Phoenix:20260518T210000
DTSTAMP:20260421T081342
CREATED:20260419T182025Z
LAST-MODIFIED:20260419T182025Z
UID:21003-1779130800-1779138000@www.tucsonpeacecalendar.org
SUMMARY:Deconstructing Patriarchy Zoom Book Club
DESCRIPTION:Deconstructing Patriarchy Zoom Book Club \nMonday evenings from 7:00pm – 9:00pm\, ALL are welcome! \nQuestions about the group?\nContact Chuck at cwi1950@gmail.com at which time the Zoom link will be provided. \nbell hooks says “patriarchy does not have a gender” and it continues to exist because both sexes continue to participate in it. \nOne goal is to increase our awareness of how patriarchy is detrimental to humanity\, the planet and how to neutralize its nefarious effects upon us all. \nClick here for more info concerning bell hooks and patriarchy.
URL:https://www.tucsonpeacecalendar.org/event/deconstructing-patriarchy-zoom-book-club-11/
CATEGORIES:Book Group
END:VEVENT
BEGIN:VEVENT
DTSTART;TZID=America/Phoenix:20260525T190000
DTEND;TZID=America/Phoenix:20260525T210000
DTSTAMP:20260421T081342
CREATED:20260419T182146Z
LAST-MODIFIED:20260419T182146Z
UID:21005-1779735600-1779742800@www.tucsonpeacecalendar.org
SUMMARY:Deconstructing Patriarchy Zoom Book Club
DESCRIPTION:Deconstructing Patriarchy Zoom Book Club \nMonday evenings from 7:00pm – 9:00pm\, ALL are welcome! \nQuestions about the group?\nContact Chuck at cwi1950@gmail.com at which time the Zoom link will be provided. \nbell hooks says “patriarchy does not have a gender” and it continues to exist because both sexes continue to participate in it. \nOne goal is to increase our awareness of how patriarchy is detrimental to humanity\, the planet and how to neutralize its nefarious effects upon us all. \nClick here for more info concerning bell hooks and patriarchy.
URL:https://www.tucsonpeacecalendar.org/event/deconstructing-patriarchy-zoom-book-club-12/
LOCATION:via Zoom
CATEGORIES:Book Group
END:VEVENT
END:VCALENDAR