BEGIN:VCALENDAR
VERSION:2.0
PRODID:-//Tucson Peace Center - ECPv6.15.20//NONSGML v1.0//EN
CALSCALE:GREGORIAN
METHOD:PUBLISH
X-WR-CALNAME:Tucson Peace Center
X-ORIGINAL-URL:https://www.tucsonpeacecalendar.org
X-WR-CALDESC:Events for Tucson Peace Center
REFRESH-INTERVAL;VALUE=DURATION:PT1H
X-Robots-Tag:noindex
X-PUBLISHED-TTL:PT1H
BEGIN:VTIMEZONE
TZID:America/Phoenix
BEGIN:STANDARD
TZOFFSETFROM:-0700
TZOFFSETTO:-0700
TZNAME:MST
DTSTART:20250101T000000
END:STANDARD
END:VTIMEZONE
BEGIN:VEVENT
DTSTART;TZID=America/Phoenix:20260302T190000
DTEND;TZID=America/Phoenix:20260302T210000
DTSTAMP:20260421T081105
CREATED:20260215T022136Z
LAST-MODIFIED:20260215T022136Z
UID:20255-1772478000-1772485200@www.tucsonpeacecalendar.org
SUMMARY:Deconstructing Patriarchy Zoom Book Club
DESCRIPTION:Deconstructing Patriarchy Zoom Book Club \nMonday evenings from 7:00pm – 9:00pm\, ALL are welcome! \nQuestions about the group?\nContact Chuck at cwi1950@gmail.com at which time the Zoom link will be provided. \nbell hooks says “patriarchy does not have a gender” and it continues to exist because both sexes continue to participate in it. \nOne goal is to increase our awareness of how patriarchy is detrimental to humanity\, the planet and how to neutralize its nefarious effects upon us all. \nClick here for more info concerning bell hooks and patriarchy.
URL:https://www.tucsonpeacecalendar.org/event/deconstructing-patriarchy-zoom-book-club-22/
LOCATION:via Zoom
CATEGORIES:Book Group
END:VEVENT
BEGIN:VEVENT
DTSTART;TZID=America/Phoenix:20260309T190000
DTEND;TZID=America/Phoenix:20260309T210000
DTSTAMP:20260421T081105
CREATED:20260215T022245Z
LAST-MODIFIED:20260215T022245Z
UID:20257-1773082800-1773090000@www.tucsonpeacecalendar.org
SUMMARY:Deconstructing Patriarchy Zoom Book Club
DESCRIPTION:Deconstructing Patriarchy Zoom Book Club \nMonday evenings from 7:00pm – 9:00pm\, ALL are welcome! \nQuestions about the group?\nContact Chuck at cwi1950@gmail.com at which time the Zoom link will be provided. \nbell hooks says “patriarchy does not have a gender” and it continues to exist because both sexes continue to participate in it. \nOne goal is to increase our awareness of how patriarchy is detrimental to humanity\, the planet and how to neutralize its nefarious effects upon us all. \nClick here for more info concerning bell hooks and patriarchy.
URL:https://www.tucsonpeacecalendar.org/event/deconstructing-patriarchy-zoom-book-club-23/
LOCATION:via Zoom
CATEGORIES:Book Group
END:VEVENT
BEGIN:VEVENT
DTSTART;TZID=America/Phoenix:20260316T190000
DTEND;TZID=America/Phoenix:20260316T210000
DTSTAMP:20260421T081105
CREATED:20260215T022410Z
LAST-MODIFIED:20260215T022410Z
UID:20259-1773687600-1773694800@www.tucsonpeacecalendar.org
SUMMARY:Deconstructing Patriarchy Zoom Book Club
DESCRIPTION:Deconstructing Patriarchy Zoom Book Club \nMonday evenings from 7:00pm – 9:00pm\, ALL are welcome! \nQuestions about the group?\nContact Chuck at cwi1950@gmail.com at which time the Zoom link will be provided. \nbell hooks says “patriarchy does not have a gender” and it continues to exist because both sexes continue to participate in it. \nOne goal is to increase our awareness of how patriarchy is detrimental to humanity\, the planet and how to neutralize its nefarious effects upon us all. \nClick here for more info concerning bell hooks and patriarchy.
URL:https://www.tucsonpeacecalendar.org/event/deconstructing-patriarchy-zoom-book-club-24/
LOCATION:via Zoom
CATEGORIES:Book Group
END:VEVENT
BEGIN:VEVENT
DTSTART;TZID=America/Phoenix:20260323T190000
DTEND;TZID=America/Phoenix:20260323T210000
DTSTAMP:20260421T081105
CREATED:20260215T022504Z
LAST-MODIFIED:20260215T022504Z
UID:20261-1774292400-1774299600@www.tucsonpeacecalendar.org
SUMMARY:Deconstructing Patriarchy Zoom Book Club
DESCRIPTION:Deconstructing Patriarchy Zoom Book Club \nMonday evenings from 7:00pm – 9:00pm\, ALL are welcome! \nQuestions about the group?\nContact Chuck at cwi1950@gmail.com at which time the Zoom link will be provided. \nbell hooks says “patriarchy does not have a gender” and it continues to exist because both sexes continue to participate in it. \nOne goal is to increase our awareness of how patriarchy is detrimental to humanity\, the planet and how to neutralize its nefarious effects upon us all. \nClick here for more info concerning bell hooks and patriarchy.
URL:https://www.tucsonpeacecalendar.org/event/deconstructing-patriarchy-zoom-book-club-25/
LOCATION:via Zoom
CATEGORIES:Book Group
END:VEVENT
BEGIN:VEVENT
DTSTART;TZID=America/Phoenix:20260330T190000
DTEND;TZID=America/Phoenix:20260330T210000
DTSTAMP:20260421T081105
CREATED:20260215T022624Z
LAST-MODIFIED:20260215T022624Z
UID:20263-1774897200-1774904400@www.tucsonpeacecalendar.org
SUMMARY:Deconstructing Patriarchy Zoom Book Club
DESCRIPTION:Deconstructing Patriarchy Zoom Book Club \nMonday evenings from 7:00pm – 9:00pm\, ALL are welcome! \nQuestions about the group?\nContact Chuck at cwi1950@gmail.com at which time the Zoom link will be provided. \nbell hooks says “patriarchy does not have a gender” and it continues to exist because both sexes continue to participate in it. \nOne goal is to increase our awareness of how patriarchy is detrimental to humanity\, the planet and how to neutralize its nefarious effects upon us all. \nClick here for more info concerning bell hooks and patriarchy.
URL:https://www.tucsonpeacecalendar.org/event/deconstructing-patriarchy-zoom-book-club-27/
LOCATION:via Zoom
CATEGORIES:Book Group
END:VEVENT
END:VCALENDAR