BEGIN:VCALENDAR
VERSION:2.0
PRODID:-//Tucson Peace Center - ECPv6.15.20//NONSGML v1.0//EN
CALSCALE:GREGORIAN
METHOD:PUBLISH
X-WR-CALNAME:Tucson Peace Center
X-ORIGINAL-URL:https://www.tucsonpeacecalendar.org
X-WR-CALDESC:Events for Tucson Peace Center
REFRESH-INTERVAL;VALUE=DURATION:PT1H
X-Robots-Tag:noindex
X-PUBLISHED-TTL:PT1H
BEGIN:VTIMEZONE
TZID:America/Phoenix
BEGIN:STANDARD
TZOFFSETFROM:-0700
TZOFFSETTO:-0700
TZNAME:MST
DTSTART:20250101T000000
END:STANDARD
END:VTIMEZONE
BEGIN:VEVENT
DTSTART;TZID=America/Phoenix:20260507T173000
DTEND;TZID=America/Phoenix:20260507T190000
DTSTAMP:20260421T083024
CREATED:20260419T184944Z
LAST-MODIFIED:20260419T184944Z
UID:21033-1778175000-1778180400@www.tucsonpeacecalendar.org
SUMMARY:Derechos Humanos Meeting
DESCRIPTION:Coalición de Derechos Humanos meetings take place every Thursday from 5:30-7:00 pm at the Derechos Humanos office (225 E. 26th St.) and are free and open to the community. More information at https://derechoshumanosaz.net/ \nLearn how you can join Coalición de Derechos Humanos in Community-wide Resistance Against Mass Deportations in Tucson\, AZ.
URL:https://www.tucsonpeacecalendar.org/event/derechos-humanos-meeting-11/
LOCATION:Global Justice Center\, 225 E 26th St.\, Tucson\, AZ\, United States
CATEGORIES:Organization Meetings
END:VEVENT
BEGIN:VEVENT
DTSTART;TZID=America/Phoenix:20260514T173000
DTEND;TZID=America/Phoenix:20260514T190000
DTSTAMP:20260421T083024
CREATED:20260419T185030Z
LAST-MODIFIED:20260419T185030Z
UID:21035-1778779800-1778785200@www.tucsonpeacecalendar.org
SUMMARY:Derechos Humanos Meeting
DESCRIPTION:Coalición de Derechos Humanos meetings take place every Thursday from 5:30-7:00 pm at the Derechos Humanos office (225 E. 26th St.) and are free and open to the community. More information at https://derechoshumanosaz.net/ \nLearn how you can join Coalición de Derechos Humanos in Community-wide Resistance Against Mass Deportations in Tucson\, AZ.
URL:https://www.tucsonpeacecalendar.org/event/derechos-humanos-meeting-12/
LOCATION:Global Justice Center\, 225 E 26th St.\, Tucson\, AZ\, United States
CATEGORIES:Organization Meetings
END:VEVENT
BEGIN:VEVENT
DTSTART;TZID=America/Phoenix:20260521T173000
DTEND;TZID=America/Phoenix:20260521T190000
DTSTAMP:20260421T083024
CREATED:20260419T185115Z
LAST-MODIFIED:20260419T185115Z
UID:21037-1779384600-1779390000@www.tucsonpeacecalendar.org
SUMMARY:Derechos Humanos Meeting
DESCRIPTION:Coalición de Derechos Humanos meetings take place every Thursday from 5:30-7:00 pm at the Derechos Humanos office (225 E. 26th St.) and are free and open to the community. More information at https://derechoshumanosaz.net/ \nLearn how you can join Coalición de Derechos Humanos in Community-wide Resistance Against Mass Deportations in Tucson\, AZ.
URL:https://www.tucsonpeacecalendar.org/event/derechos-humanos-meeting-13/
LOCATION:Global Justice Center\, 225 E 26th St.\, Tucson\, AZ\, United States
CATEGORIES:Organization Meetings
END:VEVENT
BEGIN:VEVENT
DTSTART;TZID=America/Phoenix:20260528T173000
DTEND;TZID=America/Phoenix:20260528T190000
DTSTAMP:20260421T083024
CREATED:20260419T185158Z
LAST-MODIFIED:20260419T185158Z
UID:21039-1779989400-1779994800@www.tucsonpeacecalendar.org
SUMMARY:Derechos Humanos Meeting
DESCRIPTION:Coalición de Derechos Humanos meetings take place every Thursday from 5:30-7:00 pm at the Derechos Humanos office (225 E. 26th St.) and are free and open to the community. More information at https://derechoshumanosaz.net/ \nLearn how you can join Coalición de Derechos Humanos in Community-wide Resistance Against Mass Deportations in Tucson\, AZ.
URL:https://www.tucsonpeacecalendar.org/event/derechos-humanos-meeting-14/
LOCATION:Global Justice Center\, 225 E 26th St.\, Tucson\, AZ\, United States
CATEGORIES:Organization Meetings
END:VEVENT
END:VCALENDAR