BEGIN:VCALENDAR
VERSION:2.0
PRODID:-//Tucson Peace Center - ECPv6.15.20//NONSGML v1.0//EN
CALSCALE:GREGORIAN
METHOD:PUBLISH
X-WR-CALNAME:Tucson Peace Center
X-ORIGINAL-URL:https://www.tucsonpeacecalendar.org
X-WR-CALDESC:Events for Tucson Peace Center
REFRESH-INTERVAL;VALUE=DURATION:PT1H
X-Robots-Tag:noindex
X-PUBLISHED-TTL:PT1H
BEGIN:VTIMEZONE
TZID:America/Phoenix
BEGIN:STANDARD
TZOFFSETFROM:-0700
TZOFFSETTO:-0700
TZNAME:MST
DTSTART:20250101T000000
END:STANDARD
END:VTIMEZONE
BEGIN:VEVENT
DTSTART;TZID=America/Phoenix:20260305T173000
DTEND;TZID=America/Phoenix:20260305T190000
DTSTAMP:20260421T083022
CREATED:20260215T201301Z
LAST-MODIFIED:20260215T201301Z
UID:20317-1772731800-1772737200@www.tucsonpeacecalendar.org
SUMMARY:Derechos Humanos Meeting
DESCRIPTION:Coalición de Derechos Humanos meetings take place every Thursday from 5:30-7:00 pm at the Derechos Humanos office (225 E. 26th St.) and are free and open to the community. More information at https://derechoshumanosaz.net/ \nLearn how you can join Coalición de Derechos Humanos in Community-wide Resistance Against Mass Deportations in Tucson\, AZ.
URL:https://www.tucsonpeacecalendar.org/event/derechos-humanos-meeting-26/
LOCATION:Global Justice Center\, 225 E 26th St.\, Tucson\, AZ\, United States
CATEGORIES:Organization Meetings
END:VEVENT
BEGIN:VEVENT
DTSTART;TZID=America/Phoenix:20260312T173000
DTEND;TZID=America/Phoenix:20260312T190000
DTSTAMP:20260421T083022
CREATED:20260215T202544Z
LAST-MODIFIED:20260215T202544Z
UID:20319-1773336600-1773342000@www.tucsonpeacecalendar.org
SUMMARY:Derechos Humanos Meeting
DESCRIPTION:Coalición de Derechos Humanos meetings take place every Thursday from 5:30-7:00 pm at the Derechos Humanos office (225 E. 26th St.) and are free and open to the community. More information at https://derechoshumanosaz.net/ \nLearn how you can join Coalición de Derechos Humanos in Community-wide Resistance Against Mass Deportations in Tucson\, AZ.
URL:https://www.tucsonpeacecalendar.org/event/derechos-humanos-meeting-27/
LOCATION:Global Justice Center\, 225 E 26th St.\, Tucson\, AZ\, United States
CATEGORIES:Organization Meetings
END:VEVENT
BEGIN:VEVENT
DTSTART;TZID=America/Phoenix:20260319T173000
DTEND;TZID=America/Phoenix:20260319T190000
DTSTAMP:20260421T083022
CREATED:20260215T203644Z
LAST-MODIFIED:20260215T203644Z
UID:20321-1773941400-1773946800@www.tucsonpeacecalendar.org
SUMMARY:Derechos Humanos Meeting
DESCRIPTION:Coalición de Derechos Humanos meetings take place every Thursday from 5:30-7:00 pm at the Derechos Humanos office (225 E. 26th St.) and are free and open to the community. More information at https://derechoshumanosaz.net/ \nLearn how you can join Coalición de Derechos Humanos in Community-wide Resistance Against Mass Deportations in Tucson\, AZ.
URL:https://www.tucsonpeacecalendar.org/event/derechos-humanos-meeting-28/
LOCATION:Global Justice Center\, 225 E 26th St.\, Tucson\, AZ\, United States
CATEGORIES:Organization Meetings
END:VEVENT
BEGIN:VEVENT
DTSTART;TZID=America/Phoenix:20260326T173000
DTEND;TZID=America/Phoenix:20260326T190000
DTSTAMP:20260421T083022
CREATED:20260215T203741Z
LAST-MODIFIED:20260215T203741Z
UID:20323-1774546200-1774551600@www.tucsonpeacecalendar.org
SUMMARY:Derechos Humanos Meeting
DESCRIPTION:Coalición de Derechos Humanos meetings take place every Thursday from 5:30-7:00 pm at the Derechos Humanos office (225 E. 26th St.) and are free and open to the community. More information at https://derechoshumanosaz.net/ \nLearn how you can join Coalición de Derechos Humanos in Community-wide Resistance Against Mass Deportations in Tucson\, AZ.
URL:https://www.tucsonpeacecalendar.org/event/derechos-humanos-meeting-29/
LOCATION:Global Justice Center\, 225 E 26th St.\, Tucson\, AZ\, United States
CATEGORIES:Organization Meetings
END:VEVENT
END:VCALENDAR