BEGIN:VCALENDAR
VERSION:2.0
PRODID:-//Tucson Peace Center - ECPv6.15.20//NONSGML v1.0//EN
CALSCALE:GREGORIAN
METHOD:PUBLISH
X-WR-CALNAME:Tucson Peace Center
X-ORIGINAL-URL:https://www.tucsonpeacecalendar.org
X-WR-CALDESC:Events for Tucson Peace Center
REFRESH-INTERVAL;VALUE=DURATION:PT1H
X-Robots-Tag:noindex
X-PUBLISHED-TTL:PT1H
BEGIN:VTIMEZONE
TZID:America/Phoenix
BEGIN:STANDARD
TZOFFSETFROM:-0700
TZOFFSETTO:-0700
TZNAME:MST
DTSTART:20250101T000000
END:STANDARD
END:VTIMEZONE
BEGIN:VEVENT
DTSTART;TZID=America/Phoenix:20260523T100000
DTEND;TZID=America/Phoenix:20260523T190000
DTSTAMP:20260421T095426
CREATED:20260415T192342Z
LAST-MODIFIED:20260415T192342Z
UID:20877-1779530400-1779562800@www.tucsonpeacecalendar.org
SUMMARY:520 Mayan Wisdoms Revealed Presented by Arizona Book Publishing LLC
DESCRIPTION:520 Mayan Wisdoms Revealed\nPresented by Arizona Book Publishing LLC \nJose Muñoz\, Mayan Shaman\, Spiritual Guide\, and Ceremonial Leader is the Galactic Timekeeper of the new 26\,000-year Cycle Calendar of the Sixth Sun. \nOn May 23\, 2026\, he will hold a full-day workshop to discuss the book and present a sacred Cacao ceremony.  This will be the first time these teachings have been revealed since the Spanish Conquistadors destroyed the Mayan culture more than 300 years ago. \nWhen: Saturday May 23\, 2026\nWhere: St. Francis of Foothills Methodist Church: 4645 E River Rd.\nTime: 10am-7pm (bring a bagged lunch and something to share with others)\nPrice: $77.00 \nwww.mayanwisdoms.com \nCall or text David Swift 520-683-4494\, or email ArizonaBookPublishing@gmail.com
URL:https://www.tucsonpeacecalendar.org/event/520-mayan-wisdoms-revealed-presented-by-arizona-book-publishing-llc/
LOCATION:St. Francis in the Foothills UMC\, 4625 E River Rd.\, Tucson\, AZ
CATEGORIES:Workshops and Training
END:VEVENT
END:VCALENDAR