BEGIN:VCALENDAR
VERSION:2.0
PRODID:-//Tucson Peace Center - ECPv6.15.20//NONSGML v1.0//EN
CALSCALE:GREGORIAN
METHOD:PUBLISH
X-ORIGINAL-URL:https://www.tucsonpeacecalendar.org
X-WR-CALDESC:Events for Tucson Peace Center
REFRESH-INTERVAL;VALUE=DURATION:PT1H
X-Robots-Tag:noindex
X-PUBLISHED-TTL:PT1H
BEGIN:VTIMEZONE
TZID:America/Phoenix
BEGIN:STANDARD
TZOFFSETFROM:-0700
TZOFFSETTO:-0700
TZNAME:MST
DTSTART:20250101T000000
END:STANDARD
END:VTIMEZONE
BEGIN:VEVENT
DTSTART;TZID=America/Phoenix:20260208T140000
DTEND;TZID=America/Phoenix:20260208T160000
DTSTAMP:20260421T111355
CREATED:20260116T191722Z
LAST-MODIFIED:20260118T011651Z
UID:19886-1770559200-1770566400@www.tucsonpeacecalendar.org
SUMMARY:Tucson Says NO to Israel's Supreme Court of Occupation -- Teach-in
DESCRIPTION:Tucson Says NO to Israel’s Supreme Court of Occupation\nTeach In in person with Palestinian Food and via Zoom\nSunday\, February 8\n2:00 p.m.\nFree and Open to the public!\nRSVP for location: https://tinyurl.com/APSATeach-in \nAnd Protest on Tuesday\, February 10\n5:00 p.m.\nBrandi Fenton Park at Alvernon/Dodge near JCC \nSPONSORS: \n\nArizona Palestine Solidarity Alliance (APSA)\nJewish Voice for Peace Tucson\nCoalición de Derechos Humanos \nTucson Anti War Committee\nPalestine Community Center Arizona (PCCAZ)\nNuclear Resister \nProgressive Actions Arizona\nVeterans for Peace \nWomen International League for Peace & Freedom (WILPF)\nThe Gloo Factory \nSpadefoot Nursery\nParty for Socialism & Liberation (PSL)\nTucson Peace Center\nCasa Maria \nTucson Safety Team \nProgressive Democrats of America (PDA Arizona)\nBorderlinks \nPalestinian American Community Center (PACC)\nArizona Palestine Network (AZPAL Network)\nNational Lawyers Guild (NLG Southern Arizona)\nStudent for Socialism UA\nDemocratic Socialists of America (DSL Tucson)
URL:https://www.tucsonpeacecalendar.org/event/tucson-says-no-to-israels-supreme-court-of-occupation-teach-in/
LOCATION:Hybrid Event
CATEGORIES:Workshops and Training
END:VEVENT
BEGIN:VEVENT
DTSTART;TZID=America/Phoenix:20260227T090000
DTEND;TZID=America/Phoenix:20260227T200000
DTSTAMP:20260421T111355
CREATED:20260113T190228Z
LAST-MODIFIED:20260113T190228Z
UID:19828-1772182800-1772222400@www.tucsonpeacecalendar.org
SUMMARY:St. Michael and All Angels Episcopal Church Will be Hosting Creating a Culture of Peace Training
DESCRIPTION:St. Michael and All Angels Episcopal Church\nWill be hosting Creating a Culture of Peace training\nFebruary 27 – March 1 \nCreating a Culture of Peace (CCP) is a nationwide program for community-based peacemaking. The innovative design of CCP provides a holistic and practical foundation in spiritually-grounded active nonviolence. Participants come to recognize their own power for making personal and social changes without violence and improve their skills for respectful engagement with opponents\, instead of confrontation that polarizes and demonizes. \nThe focus of the training is to help individuals and small groups to plan and carry out non violent social actions to strengthen their communities. \nUnlike trainings that focus only on anti-war protest\, CCP training is an incubator for participants to raise issues which most concern them–group controversy and conflict\, neighborhood violence\, domestic violence\, climate change\, war and militarism\, discrimination\, homelessness\, peace education\, and health care. The training is highly participatory and does not depend on reading a book or lectures. It draws upon the wisdom\, experience and talents of all the participants and on the skills and knowledge of trainers. Mutual learning occurs through storytelling\, meditation\, small group sharing\, brainstorming\, role plays\, thought-provoking exercises\, music and movement. CCP offers training on nonviolence principles\, analysis of social change and community-building\, skills for peacemaking\, and resources. Every group chooses\, and plans concrete projects for change. \nWe ask participants to commit to attending the full three day\, 20 hour training.\nThe schedule is 9 AM to 8 PM on Friday and Saturday\, with breaks for meals\, and 1PM to 5 PM on Sunday. \nLunch and dinner will be provided on Friday and Saturday\, and lunch on Sunday. The cost to attend is $120.00 and includes 5 meals and materials. If the cost to attend is a barrier please contact Daniel Petersen-Snyder at (917) 597-7203 or dpetersensnyder@gmail.com. \nIf you are interested in attending or have questions please contact Daniel Petersen-Snyder at dpetersensnyder@gmail.com.
URL:https://www.tucsonpeacecalendar.org/event/st-michael-and-all-angels-episcopal-church-will-be-hosting-creating-a-culture-of-peace-training/
LOCATION:St. Michael & All Angels Episcopal Church\, 602 N. Wilmot Rd. (at 5th St.)\, Tucson\, AZ\, United States
CATEGORIES:Workshops and Training
END:VEVENT
BEGIN:VEVENT
DTSTART;TZID=America/Phoenix:20260228T090000
DTEND;TZID=America/Phoenix:20260228T200000
DTSTAMP:20260421T111355
CREATED:20260113T190653Z
LAST-MODIFIED:20260113T190653Z
UID:19830-1772269200-1772308800@www.tucsonpeacecalendar.org
SUMMARY:St. Michael and All Angels Episcopal Church Creating a Culture of Peace Training
DESCRIPTION:St. Michael and All Angels Episcopal Church\nWill be hosting Creating a Culture of Peace training\nFebruary 27 – March 1 \nCreating a Culture of Peace (CCP) is a nationwide program for community-based peacemaking. The innovative design of CCP provides a holistic and practical foundation in spiritually-grounded active nonviolence. Participants come to recognize their own power for making personal and social changes without violence and improve their skills for respectful engagement with opponents\, instead of confrontation that polarizes and demonizes. \nThe focus of the training is to help individuals and small groups to plan and carry out non violent social actions to strengthen their communities. \nUnlike trainings that focus only on anti-war protest\, CCP training is an incubator for participants to raise issues which most concern them–group controversy and conflict\, neighborhood violence\, domestic violence\, climate change\, war and militarism\, discrimination\, homelessness\, peace education\, and health care. The training is highly participatory and does not depend on reading a book or lectures. It draws upon the wisdom\, experience and talents of all the participants and on the skills and knowledge of trainers. Mutual learning occurs through storytelling\, meditation\, small group sharing\, brainstorming\, role plays\, thought-provoking exercises\, music and movement. CCP offers training on nonviolence principles\, analysis of social change and community-building\, skills for peacemaking\, and resources. Every group chooses\, and plans concrete projects for change. \nWe ask participants to commit to attending the full three day\, 20 hour training.\nThe schedule is 9 AM to 8 PM on Friday and Saturday\, with breaks for meals\, and 1PM to 5 PM on Sunday. \nLunch and dinner will be provided on Friday and Saturday\, and lunch on Sunday. The cost to attend is $120.00 and includes 5 meals and materials. If the cost to attend is a barrier please contact Daniel Petersen-Snyder at (917) 597-7203 or dpetersensnyder@gmail.com. \nIf you are interested in attending or have questions please contact Daniel Petersen-Snyder at dpetersensnyder@gmail.com.
URL:https://www.tucsonpeacecalendar.org/event/st-michael-and-all-angels-episcopal-church-creating-a-culture-of-peace-training/
LOCATION:St. Michael & All Angels Episcopal Church\, 602 N. Wilmot Rd. (at 5th St.)\, Tucson\, AZ\, United States
CATEGORIES:Workshops and Training
END:VEVENT
END:VCALENDAR