BEGIN:VCALENDAR
VERSION:2.0
PRODID:-//Tucson Peace Center - ECPv6.15.20//NONSGML v1.0//EN
CALSCALE:GREGORIAN
METHOD:PUBLISH
X-ORIGINAL-URL:https://www.tucsonpeacecalendar.org
X-WR-CALDESC:Events for Tucson Peace Center
REFRESH-INTERVAL;VALUE=DURATION:PT1H
X-Robots-Tag:noindex
X-PUBLISHED-TTL:PT1H
BEGIN:VTIMEZONE
TZID:America/Phoenix
BEGIN:STANDARD
TZOFFSETFROM:-0700
TZOFFSETTO:-0700
TZNAME:MST
DTSTART:20250101T000000
END:STANDARD
END:VTIMEZONE
BEGIN:VEVENT
DTSTART;TZID=America/Phoenix:20260428T100000
DTEND;TZID=America/Phoenix:20260428T120000
DTSTAMP:20260421T035012
CREATED:20260319T193625Z
LAST-MODIFIED:20260319T193625Z
UID:20765-1777370400-1777377600@www.tucsonpeacecalendar.org
SUMMARY:Peace Calendar Mailing Party
DESCRIPTION:Peace Calendar Mailing Party\, Tuesday\, April 28\, 10:00 AM\, at the Quaker Meeting House. Please park in the lot behind the building and use the back entrance. Help us prep the Peace Calendar for mailing. More info: editor@tucsonpeacecenter.org.
URL:https://www.tucsonpeacecalendar.org/event/peace-calendar-mailing-party/
LOCATION:Quaker Meeting House\, 931 N. 5th Ave.\, Tucson\, AZ
CATEGORIES:Peace Center Event
END:VEVENT
END:VCALENDAR