BEGIN:VCALENDAR
VERSION:2.0
PRODID:-//Tucson Peace Center - ECPv6.15.20//NONSGML v1.0//EN
CALSCALE:GREGORIAN
METHOD:PUBLISH
X-WR-CALNAME:Tucson Peace Center
X-ORIGINAL-URL:https://www.tucsonpeacecalendar.org
X-WR-CALDESC:Events for Tucson Peace Center
REFRESH-INTERVAL;VALUE=DURATION:PT1H
X-Robots-Tag:noindex
X-PUBLISHED-TTL:PT1H
BEGIN:VTIMEZONE
TZID:America/Phoenix
BEGIN:STANDARD
TZOFFSETFROM:-0700
TZOFFSETTO:-0700
TZNAME:MST
DTSTART:20250101T000000
END:STANDARD
END:VTIMEZONE
BEGIN:VEVENT
DTSTART;TZID=America/Phoenix:20260303T180000
DTEND;TZID=America/Phoenix:20260303T190000
DTSTAMP:20260421T051852
CREATED:20260215T184701Z
LAST-MODIFIED:20260215T184701Z
UID:20283-1772560800-1772564400@www.tucsonpeacecalendar.org
SUMMARY:Tucson Peace Center Board Meeting
DESCRIPTION:Tucson Peace Center Board Mtg\, First Tuesdays\, from 6:00-7:00 PM at the Quaker Meeting House. Please park in the lot behind the building and use the back entrance. Contact editor@tucsonpeacecenter.org if you have questions. All are welcome.  \n(Questions about Tucson Peace Center? Call 520 468-5805)
URL:https://www.tucsonpeacecalendar.org/event/tucson-peace-center-board-meeting-7/
LOCATION:Quaker Meeting House\, 931 N. 5th Ave.\, Tucson\, AZ
CATEGORIES:Peace Center Event
END:VEVENT
BEGIN:VEVENT
DTSTART;TZID=America/Phoenix:20260327T100000
DTEND;TZID=America/Phoenix:20260327T120000
DTSTAMP:20260421T051852
CREATED:20260218T190510Z
LAST-MODIFIED:20260218T190510Z
UID:20403-1774605600-1774612800@www.tucsonpeacecalendar.org
SUMMARY:Peace Calendar Mailing Party
DESCRIPTION:Peace Calendar Mailing Party\, Friday\, March 27\, 10:00 AM\, at the Quaker Meeting House. Please park in the lot behind the building and use the back entrance. Help us prep the Peace Calendar for mailing. More info: editor@tucsonpeacecenter.org.
URL:https://www.tucsonpeacecalendar.org/event/peace-calendar-mailing-party-8/
LOCATION:Quaker Meeting House\, 931 N. 5th Ave.\, Tucson\, AZ
CATEGORIES:Peace Center Event
END:VEVENT
END:VCALENDAR