BEGIN:VCALENDAR
VERSION:2.0
PRODID:-//Tucson Peace Center - ECPv6.15.20//NONSGML v1.0//EN
CALSCALE:GREGORIAN
METHOD:PUBLISH
X-WR-CALNAME:Tucson Peace Center
X-ORIGINAL-URL:https://www.tucsonpeacecalendar.org
X-WR-CALDESC:Events for Tucson Peace Center
REFRESH-INTERVAL;VALUE=DURATION:PT1H
X-Robots-Tag:noindex
X-PUBLISHED-TTL:PT1H
BEGIN:VTIMEZONE
TZID:America/Phoenix
BEGIN:STANDARD
TZOFFSETFROM:-0700
TZOFFSETTO:-0700
TZNAME:MST
DTSTART:20250101T000000
END:STANDARD
END:VTIMEZONE
BEGIN:VEVENT
DTSTART;TZID=America/Phoenix:20260102T100000
DTEND;TZID=America/Phoenix:20260102T120000
DTSTAMP:20260421T082744
CREATED:20251227T211526Z
LAST-MODIFIED:20251227T211526Z
UID:19730-1767348000-1767355200@www.tucsonpeacecalendar.org
SUMMARY:POSTPONED: Peace Center Mailing Party
DESCRIPTION:The Tucson Peace Center mailing party\, tentatively scheduled for Friday\, January 2\, at 10:00 a.m. at the Quaker Meeting House\, has been postponed. When we decide on the date for sending out membership renewal letters\, we’ll post more information here in the online Calendar.
URL:https://www.tucsonpeacecalendar.org/event/postponed-peace-center-mailing-party/
LOCATION:Quaker Meeting House\, 931 N. 5th Ave.\, Tucson\, AZ
CATEGORIES:Peace Center Event
END:VEVENT
BEGIN:VEVENT
DTSTART;TZID=America/Phoenix:20260106T180000
DTEND;TZID=America/Phoenix:20260106T190000
DTSTAMP:20260421T082744
CREATED:20251214T015155Z
LAST-MODIFIED:20251214T015155Z
UID:19670-1767722400-1767726000@www.tucsonpeacecalendar.org
SUMMARY:Tucson Peace Center Board Meeting
DESCRIPTION:Tucson Peace Center Board Mtg\, First Tuesdays\, from 6:00-7:00 PM at the Quaker Meeting House. Please park in the lot behind the building and use the back entrance. Contact editor@tucsonpeacecenter.org if you have questions. All are welcome.  \n(Questions about Tucson Peace Center? Call 520 468-5805)
URL:https://www.tucsonpeacecalendar.org/event/tucson-peace-center-board-meeting-3/
LOCATION:Quaker Meeting House\, 931 N. 5th Ave.\, Tucson\, AZ
CATEGORIES:Peace Center Event
END:VEVENT
BEGIN:VEVENT
DTSTART;TZID=America/Phoenix:20260114T100000
DTEND;TZID=America/Phoenix:20260114T120000
DTSTAMP:20260421T082744
CREATED:20260112T183043Z
LAST-MODIFIED:20260112T183043Z
UID:19819-1768384800-1768392000@www.tucsonpeacecalendar.org
SUMMARY:Mailing Party for Peace Center Membership Renewal Letters
DESCRIPTION:The Tucson Peace Center will send out membership renewal letters at a mailing party on Wednesday\, January 14\, at 10:00 a.m. at the Quaker Meeting House\, 931 N. Fifth Ave. If you’re available to help with the mailing\, please join us. Please park in the lot behind the building and use the back entrance.  \nIf you have questions\, please contact editor@tucsonpeacecenter.org. \nNOTE: This mailing was originally scheduled for January 2.
URL:https://www.tucsonpeacecalendar.org/event/mailing-party-for-peace-center-membership-renewal-letters/
LOCATION:Quaker Meeting House\, 931 N. 5th Ave.\, Tucson\, AZ
CATEGORIES:Peace Center Event
END:VEVENT
BEGIN:VEVENT
DTSTART;TZID=America/Phoenix:20260128T100000
DTEND;TZID=America/Phoenix:20260128T120000
DTSTAMP:20260421T082744
CREATED:20251216T191731Z
LAST-MODIFIED:20251216T191731Z
UID:19727-1769594400-1769601600@www.tucsonpeacecalendar.org
SUMMARY:Peace Calendar Mailing Party
DESCRIPTION:Peace Calendar Mailing Party\, Wednesday\, January 28\, 10:00 AM\, at the Quaker Meeting House. Please park in the lot behind the building and use the back entrance. Help us prep the Peace Calendar for mailing. More info: editor@tucsonpeacecenter.org.
URL:https://www.tucsonpeacecalendar.org/event/peace-calendar-mailing-party-6/
LOCATION:Quaker Meeting House\, 931 N. 5th Ave.\, Tucson\, AZ
CATEGORIES:Peace Center Event
END:VEVENT
BEGIN:VEVENT
DTSTART;TZID=America/Phoenix:20260131T180000
DTEND;TZID=America/Phoenix:20260131T210000
DTSTAMP:20260421T082744
CREATED:20251207T202517Z
LAST-MODIFIED:20260112T015313Z
UID:19475-1769882400-1769893200@www.tucsonpeacecalendar.org
SUMMARY:Join the Tucson Peace Center at a Vegetarian Feast
DESCRIPTION:January 31\, 2026 at 6:00 p.m.\nSouthside Presbyterian Church\, 317 W. 23rd St.\nJoin Us for Conversation\, Good Food\, Music\, Guest Speaker\, and 50-50 Raffle!\nBenefits the Tucson Peace Center\nSuggested Donation: $10/person\, $25/family\, no one turned away. \nIf you would like to help publicize this event\, you can download and print this full-page flyer. Or if you prefer\, you can download and print the flyer four-on-a-page.
URL:https://www.tucsonpeacecalendar.org/event/join-the-tucson-peace-center-at-a-vegetarian-feast/
LOCATION:Southside Presbyterian Church\, 317 West 23rd Street\, Tucson\, AZ
CATEGORIES:Peace Center Event
END:VEVENT
END:VCALENDAR