BEGIN:VCALENDAR
VERSION:2.0
PRODID:-//Tucson Peace Center - ECPv6.15.20//NONSGML v1.0//EN
CALSCALE:GREGORIAN
METHOD:PUBLISH
X-WR-CALNAME:Tucson Peace Center
X-ORIGINAL-URL:https://www.tucsonpeacecalendar.org
X-WR-CALDESC:Events for Tucson Peace Center
REFRESH-INTERVAL;VALUE=DURATION:PT1H
X-Robots-Tag:noindex
X-PUBLISHED-TTL:PT1H
BEGIN:VTIMEZONE
TZID:America/Phoenix
BEGIN:STANDARD
TZOFFSETFROM:-0700
TZOFFSETTO:-0700
TZNAME:MST
DTSTART:20250101T000000
END:STANDARD
END:VTIMEZONE
BEGIN:VEVENT
DTSTART;TZID=America/Phoenix:20260307T140000
DTEND;TZID=America/Phoenix:20260307T160000
DTSTAMP:20260421T093324
CREATED:20260303T192330Z
LAST-MODIFIED:20260303T192330Z
UID:20422-1772892000-1772899200@www.tucsonpeacecalendar.org
SUMMARY:Arizona Palestine Solidarity Alliance Will Show From Ground Zero: Stories from Gaza
DESCRIPTION:APSA will show a documentary\, From Ground Zero: Stories from Gaza\, at Woods Library 2:00 pm on Saturday March 7th. \nFree. Bring a friend!
URL:https://www.tucsonpeacecalendar.org/event/arizona-palestine-solidarity-alliance-will-show-from-ground-zero-stories-from-gaza/
LOCATION:Woods Memorial Library\, 3455 N 1st St.\, Tucson\, AZ
CATEGORIES:Film
END:VEVENT
BEGIN:VEVENT
DTSTART;TZID=America/Phoenix:20260322T160000
DTEND;TZID=America/Phoenix:20260322T180000
DTSTAMP:20260421T093324
CREATED:20260217T025414Z
LAST-MODIFIED:20260318T030521Z
UID:20349-1774195200-1774202400@www.tucsonpeacecalendar.org
SUMMARY:Salt of the Earth Labor College presents: PARTNERS--HOW BARISTAS STARTED A LABOR REVOLUTION
DESCRIPTION:Salt of the Earth Labor College presents:\nPARTNERS:  HOW BARISTAS STARTED A LABOR REVOLUTION \nFilm and discussion – in person only \nSunday\, March 22nd             4:00 pm\nSalt of the Earth Labor College\n1902 E. Irene Vista\nIn Tucson’s South Side \nThis film\, shot by workers\, captures the fight that ignited the nationwide movement to organize Starbucks workers when Baristas in Buffalo confronted Starbucks’ anti-union tactics.  Discussion following the film with Jobs with Justice activists who have been out in solidarity with Tucson Starbucks baristas. How can we support workers struggling for living wages\, fair treatment and dignity on the job?\n——————————————————————————————\nFor more information about Salt of the Earth Labor College please email to SELC@webtv.net or call (520)235-0694 \nWe will be depending on your generosity to keep us going.  You can mail checks to- Salt of the Earth Labor College\, 1902 East Irene Vista\, Tucson  AZ  85713. We need to maintain our building\, pay for insurance\, property taxes\, and do mailings\, etc.
URL:https://www.tucsonpeacecalendar.org/event/salt-of-the-earth-labor-college-presents-how-baristas-started-a-labor-revolution/
LOCATION:Hybrid Event
CATEGORIES:Film
END:VEVENT
BEGIN:VEVENT
DTSTART;TZID=America/Phoenix:20260326T140000
DTEND;TZID=America/Phoenix:20260326T160000
DTSTAMP:20260421T093324
CREATED:20260315T203300Z
LAST-MODIFIED:20260319T182818Z
UID:20660-1774533600-1774540800@www.tucsonpeacecalendar.org
SUMMARY:Screening of the Film Dolores\, a Documentary About Dolores Huerta
DESCRIPTION:Join Pima EGTS Club for a very special screening of DOLORES: A film detailing the life of Dolores Huerta\, an American labor leader and activist. \nDolores Huerta is one of the most important activists in American history\, fighting tirelessly for workers rights\, women\, immigrants\, the Igbtq+ community\, the environment\, and so much more!! \nThursday March 26th\nDoors Open: 1:30pm | Screening 2:00pm\nPima Community College Downtown Campus Library (Room LB153)\nFollowed by Panel Discussion.
URL:https://www.tucsonpeacecalendar.org/event/screening-of-the-film-dolores-a-documentary-about-dolores-huerta/
LOCATION:Pima Community College Downtown Campus\, 1255 N. Stone\, Tucson\, AZ
CATEGORIES:Film
END:VEVENT
END:VCALENDAR