BEGIN:VCALENDAR
VERSION:2.0
PRODID:-//Tucson Peace Center - ECPv6.15.20//NONSGML v1.0//EN
CALSCALE:GREGORIAN
METHOD:PUBLISH
X-ORIGINAL-URL:https://www.tucsonpeacecalendar.org
X-WR-CALDESC:Events for Tucson Peace Center
REFRESH-INTERVAL;VALUE=DURATION:PT1H
X-Robots-Tag:noindex
X-PUBLISHED-TTL:PT1H
BEGIN:VTIMEZONE
TZID:America/Phoenix
BEGIN:STANDARD
TZOFFSETFROM:-0700
TZOFFSETTO:-0700
TZNAME:MST
DTSTART:20250101T000000
END:STANDARD
END:VTIMEZONE
BEGIN:VEVENT
DTSTART;TZID=America/Phoenix:20260323T163000
DTEND;TZID=America/Phoenix:20260323T180000
DTSTAMP:20260421T050928
CREATED:20260215T021313Z
LAST-MODIFIED:20260215T021313Z
UID:20247-1774283400-1774288800@www.tucsonpeacecalendar.org
SUMMARY:Tucson Food Share Distribution
DESCRIPTION:Tucson Food Share Distribution\n2500 N Stone Ave\nMondays 4:30-6:00 PM\, Thursdays 6:00-7:30 PM & Saturdays 8:00-9:30 AM \nHere’s how to contact Tucson Food Share:\ntucsonfoodshare@gmail.com\n520-222-9242 (español 520-253-3130)\nhttps://tucsonfoodshare.org \nAt our website you’ll see how to volunteer\, donate\, or request a food delivery.
URL:https://www.tucsonpeacecalendar.org/event/tucson-food-share-distribution-49/
LOCATION:Tucson Food Share Pick-up\, 2500 N Stone Ave\, Tucson\, AZ\, United States
CATEGORIES:Food, Dinners and Potlucks
END:VEVENT
BEGIN:VEVENT
DTSTART;TZID=America/Phoenix:20260321T120000
DTEND;TZID=America/Phoenix:20260321T140000
DTSTAMP:20260421T050928
CREATED:20260212T191234Z
LAST-MODIFIED:20260218T201302Z
UID:20155-1774094400-1774101600@www.tucsonpeacecalendar.org
SUMMARY:Southern Arizona Senior Pride Monthly Potluck
DESCRIPTION:Senior Pride Monthly Potluck\nUsually on Last Saturday but rescheduled in March\n03/21\, 12:00 – 2:00 PM\nLocation: St. Francis in the Foothills UMC (4625 E River Rd. Tucson\, AZ 85718) \nDescription: All LGBTQI+ adults ages 55+ are invited to join us at our monthly potluck for great food and even better conversation. Bring a dish to share or just come enjoy what others have cooked up!  \nSeries Link:\nhttps://soazseniorpride.org/series/monthly-potluck/\nRegistration Link:\nhttps://soazseniorpride.org/event/potluck-2026-03-21/
URL:https://www.tucsonpeacecalendar.org/event/southern-arizona-senior-pride-monthly-potluck/
LOCATION:St. Francis in the Foothills UMC\, 4625 E River Rd.\, Tucson\, AZ
CATEGORIES:Food, Dinners and Potlucks
END:VEVENT
BEGIN:VEVENT
DTSTART;TZID=America/Phoenix:20260321T080000
DTEND;TZID=America/Phoenix:20260321T093000
DTSTAMP:20260421T050928
CREATED:20260215T021150Z
LAST-MODIFIED:20260215T021150Z
UID:20245-1774080000-1774085400@www.tucsonpeacecalendar.org
SUMMARY:Tucson Food Share Distribution
DESCRIPTION:Tucson Food Share Distribution\n2500 N Stone Ave\nMondays 4:30-6:00 PM\, Thursdays 6:00-7:30 PM & Saturdays 8:00-9:30 AM \nHere’s how to contact Tucson Food Share:\ntucsonfoodshare@gmail.com\n520-222-9242 (español 520-253-3130)\nhttps://tucsonfoodshare.org \nAt our website you’ll see how to volunteer\, donate\, or request a food delivery.
URL:https://www.tucsonpeacecalendar.org/event/tucson-food-share-distribution-48/
LOCATION:Tucson Food Share Pick-up\, 2500 N Stone Ave\, Tucson\, AZ\, United States
CATEGORIES:Food, Dinners and Potlucks
END:VEVENT
BEGIN:VEVENT
DTSTART;TZID=America/Phoenix:20260319T180000
DTEND;TZID=America/Phoenix:20260319T193000
DTSTAMP:20260421T050928
CREATED:20260215T021050Z
LAST-MODIFIED:20260215T021050Z
UID:20243-1773943200-1773948600@www.tucsonpeacecalendar.org
SUMMARY:Tucson Food Share Distribution
DESCRIPTION:Tucson Food Share Distribution\n2500 N Stone Ave\nMondays 4:30-6:00 PM\, Thursdays 6:00-7:30 PM & Saturdays 8:00-9:30 AM \nHere’s how to contact Tucson Food Share:\ntucsonfoodshare@gmail.com\n520-222-9242 (español 520-253-3130)\nhttps://tucsonfoodshare.org \nAt our website you’ll see how to volunteer\, donate\, or request a food delivery.
URL:https://www.tucsonpeacecalendar.org/event/tucson-food-share-distribution-47/
LOCATION:Tucson Food Share Pick-up\, 2500 N Stone Ave\, Tucson\, AZ\, United States
CATEGORIES:Food, Dinners and Potlucks
END:VEVENT
BEGIN:VEVENT
DTSTART;TZID=America/Phoenix:20260316T163000
DTEND;TZID=America/Phoenix:20260316T180000
DTSTAMP:20260421T050928
CREATED:20260215T020917Z
LAST-MODIFIED:20260215T020917Z
UID:20241-1773678600-1773684000@www.tucsonpeacecalendar.org
SUMMARY:Tucson Food Share Distribution
DESCRIPTION:Tucson Food Share Distribution\n2500 N Stone Ave\nMondays 4:30-6:00 PM\, Thursdays 6:00-7:30 PM & Saturdays 8:00-9:30 AM \nHere’s how to contact Tucson Food Share:\ntucsonfoodshare@gmail.com\n520-222-9242 (español 520-253-3130)\nhttps://tucsonfoodshare.org \nAt our website you’ll see how to volunteer\, donate\, or request a food delivery.
URL:https://www.tucsonpeacecalendar.org/event/tucson-food-share-distribution-46/
LOCATION:Tucson Food Share Pick-up\, 2500 N Stone Ave\, Tucson\, AZ\, United States
CATEGORIES:Food, Dinners and Potlucks
END:VEVENT
BEGIN:VEVENT
DTSTART;TZID=America/Phoenix:20260314T080000
DTEND;TZID=America/Phoenix:20260314T093000
DTSTAMP:20260421T050928
CREATED:20260215T020311Z
LAST-MODIFIED:20260215T020311Z
UID:20239-1773475200-1773480600@www.tucsonpeacecalendar.org
SUMMARY:Tucson Food Share Distribution
DESCRIPTION:Tucson Food Share Distribution\n2500 N Stone Ave\nMondays 4:30-6:00 PM\, Thursdays 6:00-7:30 PM & Saturdays 8:00-9:30 AM \nHere’s how to contact Tucson Food Share:\ntucsonfoodshare@gmail.com\n520-222-9242 (español 520-253-3130)\nhttps://tucsonfoodshare.org \nAt our website you’ll see how to volunteer\, donate\, or request a food delivery.
URL:https://www.tucsonpeacecalendar.org/event/tucson-food-share-distribution-45/
LOCATION:Tucson Food Share Pick-up\, 2500 N Stone Ave\, Tucson\, AZ\, United States
CATEGORIES:Food, Dinners and Potlucks
END:VEVENT
BEGIN:VEVENT
DTSTART;TZID=America/Phoenix:20260312T180000
DTEND;TZID=America/Phoenix:20260312T193000
DTSTAMP:20260421T050928
CREATED:20260215T020212Z
LAST-MODIFIED:20260215T020212Z
UID:20237-1773338400-1773343800@www.tucsonpeacecalendar.org
SUMMARY:Tucson Food Share Distribution
DESCRIPTION:Tucson Food Share Distribution\n2500 N Stone Ave\nMondays 4:30-6:00 PM\, Thursdays 6:00-7:30 PM & Saturdays 8:00-9:30 AM \nHere’s how to contact Tucson Food Share:\ntucsonfoodshare@gmail.com\n520-222-9242 (español 520-253-3130)\nhttps://tucsonfoodshare.org \nAt our website you’ll see how to volunteer\, donate\, or request a food delivery.
URL:https://www.tucsonpeacecalendar.org/event/tucson-food-share-distribution-44/
LOCATION:Tucson Food Share Pick-up\, 2500 N Stone Ave\, Tucson\, AZ\, United States
CATEGORIES:Food, Dinners and Potlucks
END:VEVENT
BEGIN:VEVENT
DTSTART;TZID=America/Phoenix:20260309T163000
DTEND;TZID=America/Phoenix:20260309T180000
DTSTAMP:20260421T050928
CREATED:20260214T213159Z
LAST-MODIFIED:20260214T213159Z
UID:20234-1773073800-1773079200@www.tucsonpeacecalendar.org
SUMMARY:Tucson Food Share Distribution
DESCRIPTION:Tucson Food Share Distribution\n2500 N Stone Ave\nMondays 4:30-6:00 PM\, Thursdays 6:00-7:30 PM & Saturdays 8:00-9:30 AM \nHere’s how to contact Tucson Food Share:\ntucsonfoodshare@gmail.com\n520-222-9242 (español 520-253-3130)\nhttps://tucsonfoodshare.org \nAt our website you’ll see how to volunteer\, donate\, or request a food delivery.
URL:https://www.tucsonpeacecalendar.org/event/tucson-food-share-distribution-43/
LOCATION:Tucson Food Share Pick-up\, 2500 N Stone Ave\, Tucson\, AZ\, United States
CATEGORIES:Food, Dinners and Potlucks
END:VEVENT
BEGIN:VEVENT
DTSTART;TZID=America/Phoenix:20260307T080000
DTEND;TZID=America/Phoenix:20260307T093000
DTSTAMP:20260421T050928
CREATED:20260214T213030Z
LAST-MODIFIED:20260214T213030Z
UID:20232-1772870400-1772875800@www.tucsonpeacecalendar.org
SUMMARY:Tucson Food Share Distribution
DESCRIPTION:Tucson Food Share Distribution\n2500 N Stone Ave\nMondays 4:30-6:00 PM\, Thursdays 6:00-7:30 PM & Saturdays 8:00-9:30 AM \nHere’s how to contact Tucson Food Share:\ntucsonfoodshare@gmail.com\n520-222-9242 (español 520-253-3130)\nhttps://tucsonfoodshare.org \nAt our website you’ll see how to volunteer\, donate\, or request a food delivery.
URL:https://www.tucsonpeacecalendar.org/event/tucson-food-share-distribution-42/
LOCATION:Tucson Food Share Pick-up\, 2500 N Stone Ave\, Tucson\, AZ\, United States
CATEGORIES:Food, Dinners and Potlucks
END:VEVENT
BEGIN:VEVENT
DTSTART;TZID=America/Phoenix:20260305T180000
DTEND;TZID=America/Phoenix:20260305T193000
DTSTAMP:20260421T050928
CREATED:20260214T212918Z
LAST-MODIFIED:20260214T212918Z
UID:20230-1772733600-1772739000@www.tucsonpeacecalendar.org
SUMMARY:Tucson Food Share Distribution
DESCRIPTION:Tucson Food Share Distribution\n2500 N Stone Ave\nMondays 4:30-6:00 PM\, Thursdays 6:00-7:30 PM & Saturdays 8:00-9:30 AM \nHere’s how to contact Tucson Food Share:\ntucsonfoodshare@gmail.com\n520-222-9242 (español 520-253-3130)\nhttps://tucsonfoodshare.org \nAt our website you’ll see how to volunteer\, donate\, or request a food delivery.
URL:https://www.tucsonpeacecalendar.org/event/tucson-food-share-distribution-41/
LOCATION:Tucson Food Share Pick-up\, 2500 N Stone Ave\, Tucson\, AZ\, United States
CATEGORIES:Food, Dinners and Potlucks
END:VEVENT
BEGIN:VEVENT
DTSTART;TZID=America/Phoenix:20260302T163000
DTEND;TZID=America/Phoenix:20260302T180000
DTSTAMP:20260421T050928
CREATED:20260214T212751Z
LAST-MODIFIED:20260214T212751Z
UID:20228-1772469000-1772474400@www.tucsonpeacecalendar.org
SUMMARY:Tucson Food Share Distribution
DESCRIPTION:Tucson Food Share Distribution\n2500 N Stone Ave\nMondays 4:30-6:00 PM\, Thursdays 6:00-7:30 PM & Saturdays 8:00-9:30 AM \nHere’s how to contact Tucson Food Share:\ntucsonfoodshare@gmail.com\n520-222-9242 (español 520-253-3130)\nhttps://tucsonfoodshare.org \nAt our website you’ll see how to volunteer\, donate\, or request a food delivery.
URL:https://www.tucsonpeacecalendar.org/event/tucson-food-share-distribution-40/
LOCATION:Tucson Food Share Pick-up\, 2500 N Stone Ave\, Tucson\, AZ\, United States
CATEGORIES:Food, Dinners and Potlucks
END:VEVENT
BEGIN:VEVENT
DTSTART;TZID=America/Phoenix:20260228T080000
DTEND;TZID=America/Phoenix:20260228T093000
DTSTAMP:20260421T050928
CREATED:20260117T023206Z
LAST-MODIFIED:20260117T023206Z
UID:19922-1772265600-1772271000@www.tucsonpeacecalendar.org
SUMMARY:Tucson Food Share Distribution
DESCRIPTION:Tucson Food Share Distribution\n2500 N Stone Ave\nMondays 4:30-6:00 PM\, Thursdays 6:00-7:30 PM & Saturdays 8:00-9:30 AM \nHere’s how to contact Tucson Food Share:\ntucsonfoodshare@gmail.com\n520-222-9242 (español 520-253-3130)\nhttps://tucsonfoodshare.org \nAt our website you’ll see how to volunteer\, donate\, or request a food delivery.
URL:https://www.tucsonpeacecalendar.org/event/tucson-food-share-distribution-39/
LOCATION:Tucson Food Share Pick-up\, 2500 N Stone Ave\, Tucson\, AZ\, United States
CATEGORIES:Food, Dinners and Potlucks
END:VEVENT
BEGIN:VEVENT
DTSTART;TZID=America/Phoenix:20260226T180000
DTEND;TZID=America/Phoenix:20260226T193000
DTSTAMP:20260421T050928
CREATED:20260117T023040Z
LAST-MODIFIED:20260117T023040Z
UID:19920-1772128800-1772134200@www.tucsonpeacecalendar.org
SUMMARY:Tucson Food Share Distribution
DESCRIPTION:Tucson Food Share Distribution\n2500 N Stone Ave\nMondays 4:30-6:00 PM\, Thursdays 6:00-7:30 PM & Saturdays 8:00-9:30 AM \nHere’s how to contact Tucson Food Share:\ntucsonfoodshare@gmail.com\n520-222-9242 (español 520-253-3130)\nhttps://tucsonfoodshare.org \nAt our website you’ll see how to volunteer\, donate\, or request a food delivery.
URL:https://www.tucsonpeacecalendar.org/event/tucson-food-share-distribution-38/
LOCATION:Tucson Food Share Pick-up\, 2500 N Stone Ave\, Tucson\, AZ\, United States
CATEGORIES:Food, Dinners and Potlucks
END:VEVENT
BEGIN:VEVENT
DTSTART;TZID=America/Phoenix:20260223T163000
DTEND;TZID=America/Phoenix:20260223T180000
DTSTAMP:20260421T050928
CREATED:20260117T022839Z
LAST-MODIFIED:20260117T022839Z
UID:19918-1771864200-1771869600@www.tucsonpeacecalendar.org
SUMMARY:Tucson Food Share Distribution
DESCRIPTION:Tucson Food Share Distribution\n2500 N Stone Ave\nMondays 4:30-6:00 PM\, Thursdays 6:00-7:30 PM & Saturdays 8:00-9:30 AM \nHere’s how to contact Tucson Food Share:\ntucsonfoodshare@gmail.com\n520-222-9242 (español 520-253-3130)\nhttps://tucsonfoodshare.org \nAt our website you’ll see how to volunteer\, donate\, or request a food delivery.
URL:https://www.tucsonpeacecalendar.org/event/tucson-food-share-distribution-37/
LOCATION:Tucson Food Share Pick-up\, 2500 N Stone Ave\, Tucson\, AZ\, United States
CATEGORIES:Food, Dinners and Potlucks
END:VEVENT
BEGIN:VEVENT
DTSTART;TZID=America/Phoenix:20260221T080000
DTEND;TZID=America/Phoenix:20260221T093000
DTSTAMP:20260421T050928
CREATED:20260117T022425Z
LAST-MODIFIED:20260117T022425Z
UID:19916-1771660800-1771666200@www.tucsonpeacecalendar.org
SUMMARY:Tucson Food Share Distribution
DESCRIPTION:Tucson Food Share Distribution\n2500 N Stone Ave\nMondays 4:30-6:00 PM\, Thursdays 6:00-7:30 PM & Saturdays 8:00-9:30 AM \nHere’s how to contact Tucson Food Share:\ntucsonfoodshare@gmail.com\n520-222-9242 (español 520-253-3130)\nhttps://tucsonfoodshare.org \nAt our website you’ll see how to volunteer\, donate\, or request a food delivery.
URL:https://www.tucsonpeacecalendar.org/event/tucson-food-share-distribution-36/
LOCATION:Tucson Food Share Pick-up\, 2500 N Stone Ave\, Tucson\, AZ\, United States
CATEGORIES:Food, Dinners and Potlucks
END:VEVENT
BEGIN:VEVENT
DTSTART;TZID=America/Phoenix:20260219T180000
DTEND;TZID=America/Phoenix:20260219T193000
DTSTAMP:20260421T050928
CREATED:20260117T022308Z
LAST-MODIFIED:20260117T022308Z
UID:19914-1771524000-1771529400@www.tucsonpeacecalendar.org
SUMMARY:Tucson Food Share Distribution
DESCRIPTION:Tucson Food Share Distribution\n2500 N Stone Ave\nMondays 4:30-6:00 PM\, Thursdays 6:00-7:30 PM & Saturdays 8:00-9:30 AM \nHere’s how to contact Tucson Food Share:\ntucsonfoodshare@gmail.com\n520-222-9242 (español 520-253-3130)\nhttps://tucsonfoodshare.org \nAt our website you’ll see how to volunteer\, donate\, or request a food delivery.
URL:https://www.tucsonpeacecalendar.org/event/tucson-food-share-distribution-35/
LOCATION:Tucson Food Share Pick-up\, 2500 N Stone Ave\, Tucson\, AZ\, United States
CATEGORIES:Food, Dinners and Potlucks
END:VEVENT
BEGIN:VEVENT
DTSTART;TZID=America/Phoenix:20260216T163000
DTEND;TZID=America/Phoenix:20260216T180000
DTSTAMP:20260421T050928
CREATED:20260117T022122Z
LAST-MODIFIED:20260117T022122Z
UID:19912-1771259400-1771264800@www.tucsonpeacecalendar.org
SUMMARY:Tucson Food Share Distribution
DESCRIPTION:Tucson Food Share Distribution\n2500 N Stone Ave\nMondays 4:30-6:00 PM\, Thursdays 6:00-7:30 PM & Saturdays 8:00-9:30 AM \nHere’s how to contact Tucson Food Share:\ntucsonfoodshare@gmail.com\n520-222-9242 (español 520-253-3130)\nhttps://tucsonfoodshare.org \nAt our website you’ll see how to volunteer\, donate\, or request a food delivery.
URL:https://www.tucsonpeacecalendar.org/event/tucson-food-share-distribution-34/
LOCATION:Tucson Food Share Pick-up\, 2500 N Stone Ave\, Tucson\, AZ\, United States
CATEGORIES:Food, Dinners and Potlucks
END:VEVENT
BEGIN:VEVENT
DTSTART;TZID=America/Phoenix:20260214T080000
DTEND;TZID=America/Phoenix:20260214T093000
DTSTAMP:20260421T050928
CREATED:20260117T021944Z
LAST-MODIFIED:20260117T021944Z
UID:19910-1771056000-1771061400@www.tucsonpeacecalendar.org
SUMMARY:Tucson Food Share Distribution
DESCRIPTION:Tucson Food Share Distribution\n2500 N Stone Ave\nMondays 4:30-6:00 PM\, Thursdays 6:00-7:30 PM & Saturdays 8:00-9:30 AM \nHere’s how to contact Tucson Food Share:\ntucsonfoodshare@gmail.com\n520-222-9242 (español 520-253-3130)\nhttps://tucsonfoodshare.org \nAt our website you’ll see how to volunteer\, donate\, or request a food delivery.
URL:https://www.tucsonpeacecalendar.org/event/tucson-food-share-distribution-33/
LOCATION:AZ
CATEGORIES:Food, Dinners and Potlucks
END:VEVENT
BEGIN:VEVENT
DTSTART;TZID=America/Phoenix:20260212T180000
DTEND;TZID=America/Phoenix:20260212T193000
DTSTAMP:20260421T050928
CREATED:20260117T020413Z
LAST-MODIFIED:20260117T020413Z
UID:19908-1770919200-1770924600@www.tucsonpeacecalendar.org
SUMMARY:Tucson Food Share Distribution
DESCRIPTION:Tucson Food Share Distribution\n2500 N Stone Ave\nMondays 4:30-6:00 PM\, Thursdays 6:00-7:30 PM & Saturdays 8:00-9:30 AM \nHere’s how to contact Tucson Food Share:\ntucsonfoodshare@gmail.com\n520-222-9242 (español 520-253-3130)\nhttps://tucsonfoodshare.org \nAt our website you’ll see how to volunteer\, donate\, or request a food delivery.
URL:https://www.tucsonpeacecalendar.org/event/tucson-food-share-distribution-32/
LOCATION:Tucson Food Share Pick-up\, 2500 N Stone Ave\, Tucson\, AZ\, United States
CATEGORIES:Food, Dinners and Potlucks
END:VEVENT
BEGIN:VEVENT
DTSTART;TZID=America/Phoenix:20260209T163000
DTEND;TZID=America/Phoenix:20260209T180000
DTSTAMP:20260421T050928
CREATED:20260117T020159Z
LAST-MODIFIED:20260117T020159Z
UID:19906-1770654600-1770660000@www.tucsonpeacecalendar.org
SUMMARY:Tucson Food Share Distribution
DESCRIPTION:Tucson Food Share Distribution\n2500 N Stone Ave\nMondays 4:30-6:00 PM\, Thursdays 6:00-7:30 PM & Saturdays 8:00-9:30 AM \nHere’s how to contact Tucson Food Share:\ntucsonfoodshare@gmail.com\n520-222-9242 (español 520-253-3130)\nhttps://tucsonfoodshare.org \nAt our website you’ll see how to volunteer\, donate\, or request a food delivery.
URL:https://www.tucsonpeacecalendar.org/event/tucson-food-share-distribution-31/
LOCATION:Tucson Food Share Pick-up\, 2500 N Stone Ave\, Tucson\, AZ\, United States
CATEGORIES:Food, Dinners and Potlucks
END:VEVENT
BEGIN:VEVENT
DTSTART;TZID=America/Phoenix:20260207T080000
DTEND;TZID=America/Phoenix:20260207T093000
DTSTAMP:20260421T050928
CREATED:20260116T200922Z
LAST-MODIFIED:20260117T020039Z
UID:19903-1770451200-1770456600@www.tucsonpeacecalendar.org
SUMMARY:Tucson Food Share Distribution
DESCRIPTION:Tucson Food Share Distribution\n2500 N Stone Ave\nMondays 4:30-6:00 PM\, Thursdays 6:00-7:30 PM & Saturdays 8:00-9:30 AM \nHere’s how to contact Tucson Food Share:\ntucsonfoodshare@gmail.com\n520-222-9242 (español 520-253-3130)\nhttps://tucsonfoodshare.org \nAt our website you’ll see how to volunteer\, donate\, or request a food delivery.
URL:https://www.tucsonpeacecalendar.org/event/tucson-food-share-distribution-30/
LOCATION:Tucson Food Share Pick-up\, 2500 N Stone Ave\, Tucson\, AZ\, United States
CATEGORIES:Food, Dinners and Potlucks
END:VEVENT
BEGIN:VEVENT
DTSTART;TZID=America/Phoenix:20260205T180000
DTEND;TZID=America/Phoenix:20260205T193000
DTSTAMP:20260421T050928
CREATED:20260116T200731Z
LAST-MODIFIED:20260116T200731Z
UID:19901-1770314400-1770319800@www.tucsonpeacecalendar.org
SUMMARY:Tucson Food Share Distribution
DESCRIPTION:Tucson Food Share Distribution\n2500 N Stone Ave\nMondays 4:30-6:00 PM\, Thursdays 6:00-7:30 PM & Saturdays 8:00-9:30 AM \nHere’s how to contact Tucson Food Share:\ntucsonfoodshare@gmail.com\n520-222-9242 (español 520-253-3130)\nhttps://tucsonfoodshare.org \nAt our website you’ll see how to volunteer\, donate\, or request a food delivery.
URL:https://www.tucsonpeacecalendar.org/event/tucson-food-share-distribution-29/
LOCATION:Tucson Food Share Pick-up\, 2500 N Stone Ave\, Tucson\, AZ\, United States
CATEGORIES:Food, Dinners and Potlucks
END:VEVENT
BEGIN:VEVENT
DTSTART;TZID=America/Phoenix:20260202T163000
DTEND;TZID=America/Phoenix:20260202T180000
DTSTAMP:20260421T050928
CREATED:20260116T195645Z
LAST-MODIFIED:20260116T195645Z
UID:19899-1770049800-1770055200@www.tucsonpeacecalendar.org
SUMMARY:Tucson Food Share Distribution
DESCRIPTION:Tucson Food Share Distribution\n2500 N Stone Ave\nMondays 4:30-6:00 PM\, Thursdays 6:00-7:30 PM & Saturdays 8:00-9:30 AM \nHere’s how to contact Tucson Food Share:\ntucsonfoodshare@gmail.com\n520-222-9242 (español 520-253-3130)\nhttps://tucsonfoodshare.org \nAt our website you’ll see how to volunteer\, donate\, or request a food delivery.
URL:https://www.tucsonpeacecalendar.org/event/tucson-food-share-distribution-28/
LOCATION:Tucson Food Share Pick-up\, 2500 N Stone Ave\, Tucson\, AZ\, United States
CATEGORIES:Food, Dinners and Potlucks
END:VEVENT
BEGIN:VEVENT
DTSTART;TZID=America/Phoenix:20260131T080000
DTEND;TZID=America/Phoenix:20260131T093000
DTSTAMP:20260421T050928
CREATED:20251213T012615Z
LAST-MODIFIED:20251213T012615Z
UID:19573-1769846400-1769851800@www.tucsonpeacecalendar.org
SUMMARY:Tucson Food Share Distribution
DESCRIPTION:Tucson Food Share Distribution\n2500 N Stone Ave\nMondays 4:30-6:00 PM\, Thursdays 6:00-7:30 PM & Saturdays 8:00-9:30 AM \nHere’s how to contact Tucson Food Share:\ntucsonfoodshare@gmail.com\n520-222-9242 (español 520-253-3130)\nhttps://tucsonfoodshare.org \nAt our website you’ll see how to volunteer\, donate\, or request a food delivery.
URL:https://www.tucsonpeacecalendar.org/event/tucson-food-share-distribution-27/
LOCATION:Tucson Food Share Pick-up\, 2500 N Stone Ave\, Tucson\, AZ\, United States
CATEGORIES:Food, Dinners and Potlucks
END:VEVENT
BEGIN:VEVENT
DTSTART;TZID=America/Phoenix:20260129T180000
DTEND;TZID=America/Phoenix:20260129T193000
DTSTAMP:20260421T050928
CREATED:20251213T012453Z
LAST-MODIFIED:20251213T012453Z
UID:19571-1769709600-1769715000@www.tucsonpeacecalendar.org
SUMMARY:Tucson Food Share Distribution
DESCRIPTION:Tucson Food Share Distribution\n2500 N Stone Ave\nMondays 4:30-6:00 PM\, Thursdays 6:00-7:30 PM & Saturdays 8:00-9:30 AM \nHere’s how to contact Tucson Food Share:\ntucsonfoodshare@gmail.com\n520-222-9242 (español 520-253-3130)\nhttps://tucsonfoodshare.org \nAt our website you’ll see how to volunteer\, donate\, or request a food delivery.
URL:https://www.tucsonpeacecalendar.org/event/tucson-food-share-distribution-26/
LOCATION:Tucson Food Share Pick-up\, 2500 N Stone Ave\, Tucson\, AZ\, United States
CATEGORIES:Food, Dinners and Potlucks
END:VEVENT
BEGIN:VEVENT
DTSTART;TZID=America/Phoenix:20260126T163000
DTEND;TZID=America/Phoenix:20260126T180000
DTSTAMP:20260421T050928
CREATED:20251212T033210Z
LAST-MODIFIED:20251212T033210Z
UID:19569-1769445000-1769450400@www.tucsonpeacecalendar.org
SUMMARY:Tucson Food Share Distribution
DESCRIPTION:Tucson Food Share Distribution\n2500 N Stone Ave\nMondays 4:30-6:00 PM\, Thursdays 6:00-7:30 PM & Saturdays 8:00-9:30 AM \nHere’s how to contact Tucson Food Share:\ntucsonfoodshare@gmail.com\n520-222-9242 (español 520-253-3130)\nhttps://tucsonfoodshare.org \nAt our website you’ll see how to volunteer\, donate\, or request a food delivery.
URL:https://www.tucsonpeacecalendar.org/event/tucson-food-share-distribution-25/
LOCATION:Tucson Food Share Pick-up\, 2500 N Stone Ave\, Tucson\, AZ\, United States
CATEGORIES:Food, Dinners and Potlucks
END:VEVENT
BEGIN:VEVENT
DTSTART;TZID=America/Phoenix:20260124T080000
DTEND;TZID=America/Phoenix:20260124T093000
DTSTAMP:20260421T050928
CREATED:20251212T032944Z
LAST-MODIFIED:20251212T032944Z
UID:19567-1769241600-1769247000@www.tucsonpeacecalendar.org
SUMMARY:Tucson Food Share Distribution
DESCRIPTION:Tucson Food Share Distribution\n2500 N Stone Ave\nMondays 4:30-6:00 PM\, Thursdays 6:00-7:30 PM & Saturdays 8:00-9:30 AM \nHere’s how to contact Tucson Food Share:\ntucsonfoodshare@gmail.com\n520-222-9242 (español 520-253-3130)\nhttps://tucsonfoodshare.org \nAt our website you’ll see how to volunteer\, donate\, or request a food delivery.
URL:https://www.tucsonpeacecalendar.org/event/tucson-food-share-distribution-24/
LOCATION:Tucson Food Share Pick-up\, 2500 N Stone Ave\, Tucson\, AZ\, United States
CATEGORIES:Food, Dinners and Potlucks
END:VEVENT
BEGIN:VEVENT
DTSTART;TZID=America/Phoenix:20260122T180000
DTEND;TZID=America/Phoenix:20260122T193000
DTSTAMP:20260421T050928
CREATED:20251212T032803Z
LAST-MODIFIED:20251212T032803Z
UID:19565-1769104800-1769110200@www.tucsonpeacecalendar.org
SUMMARY:Tucson Food Share Distribution
DESCRIPTION:Tucson Food Share Distribution\n2500 N Stone Ave\nMondays 4:30-6:00 PM\, Thursdays 6:00-7:30 PM & Saturdays 8:00-9:30 AM \nHere’s how to contact Tucson Food Share:\ntucsonfoodshare@gmail.com\n520-222-9242 (español 520-253-3130)\nhttps://tucsonfoodshare.org \nAt our website you’ll see how to volunteer\, donate\, or request a food delivery.
URL:https://www.tucsonpeacecalendar.org/event/tucson-food-share-distribution-23/
LOCATION:Tucson Food Share Pick-up\, 2500 N Stone Ave\, Tucson\, AZ\, United States
CATEGORIES:Food, Dinners and Potlucks
END:VEVENT
BEGIN:VEVENT
DTSTART;TZID=America/Phoenix:20260119T163000
DTEND;TZID=America/Phoenix:20260119T180000
DTSTAMP:20260421T050928
CREATED:20251212T032611Z
LAST-MODIFIED:20251212T032611Z
UID:19563-1768840200-1768845600@www.tucsonpeacecalendar.org
SUMMARY:Tucson Food Share Distribution
DESCRIPTION:Tucson Food Share Distribution\n2500 N Stone Ave\nMondays 4:30-6:00 PM\, Thursdays 6:00-7:30 PM & Saturdays 8:00-9:30 AM \nHere’s how to contact Tucson Food Share:\ntucsonfoodshare@gmail.com\n520-222-9242 (español 520-253-3130)\nhttps://tucsonfoodshare.org \nAt our website you’ll see how to volunteer\, donate\, or request a food delivery.
URL:https://www.tucsonpeacecalendar.org/event/tucson-food-share-distribution-22/
LOCATION:Tucson Food Share Pick-up\, 2500 N Stone Ave\, Tucson\, AZ\, United States
CATEGORIES:Food, Dinners and Potlucks
END:VEVENT
BEGIN:VEVENT
DTSTART;TZID=America/Phoenix:20260117T080000
DTEND;TZID=America/Phoenix:20260117T093000
DTSTAMP:20260421T050928
CREATED:20251212T032404Z
LAST-MODIFIED:20251212T032404Z
UID:19561-1768636800-1768642200@www.tucsonpeacecalendar.org
SUMMARY:Tucson Food Share Distribution
DESCRIPTION:Tucson Food Share Distribution\n2500 N Stone Ave\nMondays 4:30-6:00 PM\, Thursdays 6:00-7:30 PM & Saturdays 8:00-9:30 AM \nHere’s how to contact Tucson Food Share:\ntucsonfoodshare@gmail.com\n520-222-9242 (español 520-253-3130)\nhttps://tucsonfoodshare.org \nAt our website you’ll see how to volunteer\, donate\, or request a food delivery.
URL:https://www.tucsonpeacecalendar.org/event/tucson-food-share-distribution-21/
LOCATION:Tucson Food Share Pick-up\, 2500 N Stone Ave\, Tucson\, AZ\, United States
CATEGORIES:Food, Dinners and Potlucks
END:VEVENT
END:VCALENDAR