BEGIN:VCALENDAR
VERSION:2.0
PRODID:-//Tucson Peace Center - ECPv6.15.20//NONSGML v1.0//EN
CALSCALE:GREGORIAN
METHOD:PUBLISH
X-ORIGINAL-URL:https://www.tucsonpeacecalendar.org
X-WR-CALDESC:Events for Tucson Peace Center
REFRESH-INTERVAL;VALUE=DURATION:PT1H
X-Robots-Tag:noindex
X-PUBLISHED-TTL:PT1H
BEGIN:VTIMEZONE
TZID:America/Phoenix
BEGIN:STANDARD
TZOFFSETFROM:-0700
TZOFFSETTO:-0700
TZNAME:MST
DTSTART:20250101T000000
END:STANDARD
END:VTIMEZONE
BEGIN:VEVENT
DTSTART;TZID=America/Phoenix:20260426T103000
DTEND;TZID=America/Phoenix:20260426T110000
DTSTAMP:20260421T063805
CREATED:20260318T031908Z
LAST-MODIFIED:20260318T031908Z
UID:20716-1777199400-1777201200@www.tucsonpeacecalendar.org
SUMMARY:Frida Kahlo: Blood and Gold
DESCRIPTION:Frida Kahlo: Blood and Gold  \nZUZI! Dance in collaboration with the Tucson Botanical Gardens presents an original production and movement interpretation originally premiered in 2012 of Frida Kahlo’s life and paintings.  \nProducer: ZUZI! Dance\nShow: Frida Kahlo: Blood and Gold\nDate: Sunday April 26th at 10:30am & 1pm\nLocation: Tucson Botanical Gardens\nTickets: https://tucsonbotanical.org/event/morning-blood-gold/ \nWebsite: zuzimoveit.org \nZUZI! is a 501(c)(3) dedicated to making dance accessible for everyone\, guiding students to find their unique voice through the universal language of movement\, regardless of age\, ability\, or prior experience. Through movement-based art forms and somatic practices\, ZUZI! Dance provides opportunities and resources for individuals to discover and confidently navigate their creative paths. We offer classes\, workshops\, and performances for our community to fully experience live art.  \n“Frida Kahlo: Blood and Gold” was Conceived and Choreographed by Cofounder and Artistic Director Nanette Robinson originally premiered at ZUZI! Dance Theater in 2012. This production involves a cast of 9 dancers and 3 musicians\, working together in collaboration to create a meaningful event for all who witness and participate in this journey of Frida Kahlo’s life. The cast features Meredith Alvarado\, Violet Feinberg\, Heide Foley\, Itzel Macias\, Sherry Mullholland\, Celina Pena\, Norma Poplin Redhouse\, Aja Squires\, and Cynthia Wasco\, with musicians Allison Akmajian\, Andrea Gudrune\, and Sally Withers.  \nThis event is part of a long-standing tradition for ZUZI! to create a space and opportunity for people of all ages and abilities to work\, move\, learn and grow together. This multi-generational approach to dance is rooted in ZUZI!’s belief that individual perspectives\, shared and shaped with others\, create a healthy community.\nTwo performances will take place on Sunday\, April 26th at 10:30am & 1pm at The Tucson Botanical Gardens at 2150 North Alvernon Way Tucson\, AZ 85712. Tickets are $25 for non-members and $20 for members of the Botanical Gardens.\nFor more info and to purchase tickets\, please visit: https://tucsonbotanical.org/event/morning-blood-gold/
URL:https://www.tucsonpeacecalendar.org/event/frida-kahlo-blood-and-gold/
LOCATION:Tucson Botanical Gardens\, 2150 North Alvernon Way\, Tucson\, AZ
CATEGORIES:Dance
END:VEVENT
END:VCALENDAR