BEGIN:VCALENDAR
VERSION:2.0
PRODID:-//Tucson Peace Center - ECPv6.15.20//NONSGML v1.0//EN
CALSCALE:GREGORIAN
METHOD:PUBLISH
X-ORIGINAL-URL:https://www.tucsonpeacecalendar.org
X-WR-CALDESC:Events for Tucson Peace Center
REFRESH-INTERVAL;VALUE=DURATION:PT1H
X-Robots-Tag:noindex
X-PUBLISHED-TTL:PT1H
BEGIN:VTIMEZONE
TZID:America/Phoenix
BEGIN:STANDARD
TZOFFSETFROM:-0700
TZOFFSETTO:-0700
TZNAME:MST
DTSTART:20250101T000000
END:STANDARD
END:VTIMEZONE
BEGIN:VEVENT
DTSTART;TZID=America/Phoenix:20260528T170000
DTEND;TZID=America/Phoenix:20260528T180000
DTSTAMP:20260421T052802
CREATED:20260419T184809Z
LAST-MODIFIED:20260419T184809Z
UID:21031-1779987600-1779991200@www.tucsonpeacecalendar.org
SUMMARY:Weekly Peace Vigil -- Protest War Waged on Our Cities and Throughout the World
DESCRIPTION:Weekly Peace Vigil — Protest War Waged on Our Cities and Throughout the World\nThursdays\, 5:00-6:00pm. Tucson Federal Building\, 300 W. Congress.
URL:https://www.tucsonpeacecalendar.org/event/weekly-peace-vigil-protest-war-waged-on-our-cities-and-throughout-the-world-9/
LOCATION:Tucson Federal Building\, 300 W. Congress\, Tucson\, AZ\, United States
CATEGORIES:Actions and Protests
END:VEVENT
BEGIN:VEVENT
DTSTART;TZID=America/Phoenix:20260529T170000
DTEND;TZID=America/Phoenix:20260529T180000
DTSTAMP:20260421T052802
CREATED:20260416T202942Z
LAST-MODIFIED:20260416T202942Z
UID:20906-1780074000-1780077600@www.tucsonpeacecalendar.org
SUMMARY:Women in Black
DESCRIPTION:Women in Black are still standing there! Join us to protest the latest Israeli atrocity. Fridays\, 5:00-6:00 PM. Corner Euclid & Speedway. \nLearn about the history of Women in Black at https://womeninblack.org/vigils-arround-the-world/middle-east/israel/  (More Info: wibtucson@tutamail.com)
URL:https://www.tucsonpeacecalendar.org/event/women-in-black-9/
LOCATION:Corner Euclid & Speedway\, Tucson\, AZ\, United States
CATEGORIES:Actions and Protests
END:VEVENT
BEGIN:VEVENT
DTSTART;VALUE=DATE:20260531
DTEND;VALUE=DATE:20260601
DTSTAMP:20260421T052802
CREATED:20260419T022050Z
LAST-MODIFIED:20260419T022050Z
UID:20979-1780185600-1780271999@www.tucsonpeacecalendar.org
SUMMARY:“End ALL War” Demonstration Commemorating Gretchen Nielsen\, Bob Phillips\, and Alice Ritter
DESCRIPTION:The VFP Jon Miles Chapter 13\, Tucson is encouraging all activists to demonstrate with friends in your own neighborhood one day a week for an hour at an intersection corner within walking distance. \nSend Pictures of your event to William (Pete) Peterson at williampeterson492@yahoo.com
URL:https://www.tucsonpeacecalendar.org/event/end-all-war-demonstration-commemorating-gretchen-nielsen-bob-phillips-and-alice-ritter-9/
LOCATION:AZ
CATEGORIES:Actions and Protests
END:VEVENT
END:VCALENDAR