BEGIN:VCALENDAR
VERSION:2.0
PRODID:-//Tucson Peace Center - ECPv6.15.20//NONSGML v1.0//EN
CALSCALE:GREGORIAN
METHOD:PUBLISH
X-WR-CALNAME:Tucson Peace Center
X-ORIGINAL-URL:https://www.tucsonpeacecalendar.org
X-WR-CALDESC:Events for Tucson Peace Center
REFRESH-INTERVAL;VALUE=DURATION:PT1H
X-Robots-Tag:noindex
X-PUBLISHED-TTL:PT1H
BEGIN:VTIMEZONE
TZID:America/Phoenix
BEGIN:STANDARD
TZOFFSETFROM:-0700
TZOFFSETTO:-0700
TZNAME:MST
DTSTART:20250101T000000
END:STANDARD
END:VTIMEZONE
BEGIN:VEVENT
DTSTART;VALUE=DATE:20260301
DTEND;VALUE=DATE:20260601
DTSTAMP:20260421T021050
CREATED:20260218T014519Z
LAST-MODIFIED:20260416T185830Z
UID:20401-1772323200-1780271999@www.tucsonpeacecalendar.org
SUMMARY:Humane Borders Needs Volunteers
DESCRIPTION:Humane Borders is in need of water truck drivers and volunteers to deliver water in the desert to save migrant lives. Please complete the volunteer interest form at humaneborders.org \nFor more information contact info@humaneborders.org.  \nHumane Borders\, motivated by faith and the universal need for kindness\, maintains a system of water stations in the Sonoran Desert on routes used by migrants making the perilous journey here on foot. Our primary mission is to save desperate people from a horrible death by dehydration and exposure and to create a just and humane environment in the borderlands.
URL:https://www.tucsonpeacecalendar.org/event/humane-borders-needs-volunteers-4/
CATEGORIES:Other
END:VEVENT
BEGIN:VEVENT
DTSTART;VALUE=DATE:20260316
DTEND;VALUE=DATE:20260501
DTSTAMP:20260421T021050
CREATED:20260314T020016Z
LAST-MODIFIED:20260314T020100Z
UID:20596-1773619200-1777593599@www.tucsonpeacecalendar.org
SUMMARY:Registration for Migrant Trail 2026
DESCRIPTION:Re \nSAVE THE DATE: Migrant Trail 2026\nMay 25-31\, 2026\nSasabe\, Sonora to Tucson\, Arizona\nJoin us for our 23rd year of bearing witness to migrant deaths on the U.S.-Mexico border.\nRegistration opens March 16\, 2026\nSign up soon to reserve your space!\nMore Info: https://azmigranttrail.com/
URL:https://www.tucsonpeacecalendar.org/event/registration-for-migrant-trail-2026/
CATEGORIES:Other
END:VEVENT
BEGIN:VEVENT
DTSTART;TZID=America/Phoenix:20260402T190000
DTEND;TZID=America/Phoenix:20260419T213000
DTSTAMP:20260421T021050
CREATED:20260311T190227Z
LAST-MODIFIED:20260311T190528Z
UID:20521-1775156400-1776634200@www.tucsonpeacecalendar.org
SUMMARY:From Borderlands Theater: World Premiere Musical--Anita
DESCRIPTION:World Premiere Musical: Anita \nBy Milta Ortiz & Quetzal Guerrero\nDirected by Chach Snook\nChoreography by Vanessa Corona\nMusic Direction by Quetzal Guerrero \nShowtimes:\nApril 2–19\, 2026\n(No shows April 11 & 12)\nFrom 7:00pm to 9:30pm \nLocation:\nLeo Rich Theater\n260 S Church Ave\, Tucson\, AZ 85701 \nEvent Description:\nA joyful\, heartfelt\, electrifying new musical infused with cumbia\, bolero\, and R&B-pop. \nAfter being separated from her parents\, Anita refuses to give up hope. At the Southwest Skies youth\nshelter\, her courage and resilience inspire the other girls to dream beyond their circumstances. With the\nhelp of Luz\, a savvy PR agent\, Anita sets in motion a bold plan to reunite her family — despite the\nformidable Miss Guardia’s efforts to stop her. Full of music\, mischief\, and hope\, Anita celebrates the\nstrength of family and the healing power of community. \nContact Info:\nEvent Organizer Name: Borderlands Theater\nEvent Contact Name: Katharine Lee Yee Mitchell\nEmail: milta@borderlandstheater.org\nPhone: (520) 276-9598 \nTicket Pricing\nOnline: $56 General | $42 Student/Industry\nTCC Box Office: $47 General | $36 Student/Industry\nTicket link:  https://theater.tucsonconventioncenter.com/events-tickets/
URL:https://www.tucsonpeacecalendar.org/event/world-premiere-musical-anita/
LOCATION:Leo Rich Theater\, 260 S Church Ave\, Tucson\, AZ
CATEGORIES:Theatre
END:VEVENT
BEGIN:VEVENT
DTSTART;VALUE=DATE:20260419
DTEND;VALUE=DATE:20260420
DTSTAMP:20260421T021050
CREATED:20260316T212059Z
LAST-MODIFIED:20260316T212059Z
UID:20692-1776556800-1776643199@www.tucsonpeacecalendar.org
SUMMARY:“End ALL War” Demonstration Commemorating Gretchen Nielsen\, Bob Phillips\, and Alice Ritter
DESCRIPTION:The VFP Jon Miles Chapter 13\, Tucson is encouraging all activists to demonstrate with friends in your own neighborhood one day a week for an hour at an intersection corner within walking distance. \nSend Pictures of your event to William (Pete) Peterson at williampeterson492@yahoo.com
URL:https://www.tucsonpeacecalendar.org/event/end-all-war-demonstration-commemorating-gretchen-nielsen-bob-phillips-and-alice-ritter-3/
CATEGORIES:Actions and Protests
END:VEVENT
BEGIN:VEVENT
DTSTART;TZID=America/Phoenix:20260419T140000
DTEND;TZID=America/Phoenix:20260419T150000
DTSTAMP:20260421T021050
CREATED:20260419T021456Z
LAST-MODIFIED:20260419T021456Z
UID:20969-1776607200-1776610800@www.tucsonpeacecalendar.org
SUMMARY:Rally to Support the Musicians
DESCRIPTION:Support the Musicians!\nRally to celebrate our union election!\nSupport us in securing a fair contract with True Concord Voices & Orchestra!\nSunday\, April 19\n2:00 p.m.\nCatalina Foothills High School\n4300 East Sunrise Drive
URL:https://www.tucsonpeacecalendar.org/event/rally-to-support-the-musicians/
LOCATION:Catalina Foothills High School\, 4300 East Sunrise Drive\, Tucson\, AZ
CATEGORIES:Actions and Protests
END:VEVENT
BEGIN:VEVENT
DTSTART;TZID=America/Phoenix:20260419T140000
DTEND;TZID=America/Phoenix:20260419T160000
DTSTAMP:20260421T021050
CREATED:20260311T185422Z
LAST-MODIFIED:20260311T185422Z
UID:20517-1776607200-1776614400@www.tucsonpeacecalendar.org
SUMMARY:Free Ear Acupuncture | Free Stress Relief
DESCRIPTION:Free Ear Acupuncture | Free Stress Relief – Acuwellness5NP has a free Stress Relief Clinic using the 5-point ear acupuncture protocol developed by community activists in the Bronx in the 1970’s every Sunday from 2-4pm (arrive by 3:30pm to receive a treatment) at the House of Neighborly Service\, 243 W. 33rd St.
URL:https://www.tucsonpeacecalendar.org/event/free-ear-acupuncture-free-stress-relief-7/
LOCATION:House of Neighborly Service\, 243 W. 33rd St.\, Tucson\, AZ\, United States
CATEGORIES:Other
END:VEVENT
BEGIN:VEVENT
DTSTART;TZID=America/Phoenix:20260419T150000
DTEND;TZID=America/Phoenix:20260419T170000
DTSTAMP:20260421T021050
CREATED:20260316T192313Z
LAST-MODIFIED:20260316T192313Z
UID:20680-1776610800-1776618000@www.tucsonpeacecalendar.org
SUMMARY:Public Affairs Programming at KXCI
DESCRIPTION:Public Affairs Programming\, KXCI 91.3\, Sundays\, 3-5pm.  (Info: amanda@kxci.org\, www.kxci.org) \nBroad Perspectives begins Sunday public affairs programming on KXCI at 3 pm. Women’s voices\, views\, and interviews. It’s a show by women\, about women\, but for everyone.
URL:https://www.tucsonpeacecalendar.org/event/public-affairs-programming-at-kxci-3/
LOCATION:KXCI 91.3\, Tucson\, AZ\, United States
CATEGORIES:Radio and TV
END:VEVENT
END:VCALENDAR